BEGIN:VCALENDAR
VERSION:2.0
PRODID:-//Kern Community Foundation - ECPv6.15.16.1//NONSGML v1.0//EN
CALSCALE:GREGORIAN
METHOD:PUBLISH
X-WR-CALNAME:Kern Community Foundation
X-ORIGINAL-URL:https://www.kernfoundation.org
X-WR-CALDESC:Events for Kern Community Foundation
REFRESH-INTERVAL;VALUE=DURATION:PT1H
X-Robots-Tag:noindex
X-PUBLISHED-TTL:PT1H
BEGIN:VTIMEZONE
TZID:America/Los_Angeles
BEGIN:DAYLIGHT
TZOFFSETFROM:-0800
TZOFFSETTO:-0700
TZNAME:PDT
DTSTART:20230312T100000
END:DAYLIGHT
BEGIN:STANDARD
TZOFFSETFROM:-0700
TZOFFSETTO:-0800
TZNAME:PST
DTSTART:20231105T090000
END:STANDARD
BEGIN:DAYLIGHT
TZOFFSETFROM:-0800
TZOFFSETTO:-0700
TZNAME:PDT
DTSTART:20240310T100000
END:DAYLIGHT
BEGIN:STANDARD
TZOFFSETFROM:-0700
TZOFFSETTO:-0800
TZNAME:PST
DTSTART:20241103T090000
END:STANDARD
BEGIN:DAYLIGHT
TZOFFSETFROM:-0800
TZOFFSETTO:-0700
TZNAME:PDT
DTSTART:20250309T100000
END:DAYLIGHT
BEGIN:STANDARD
TZOFFSETFROM:-0700
TZOFFSETTO:-0800
TZNAME:PST
DTSTART:20251102T090000
END:STANDARD
END:VTIMEZONE
BEGIN:VEVENT
DTSTART;TZID=America/Los_Angeles:20240810T130000
DTEND;TZID=America/Los_Angeles:20240810T170000
DTSTAMP:20260422T060749
CREATED:20240626T152855Z
LAST-MODIFIED:20240626T153117Z
UID:10198-1723294800-1723309200@www.kernfoundation.org
SUMMARY:Safe Haven Kids League of California City: Back 2 School Backpack Job Fair & Community Resource Giveaway
DESCRIPTION:This event will include the following: Free Backpack and Resupply of educational items\, free giveaways to all that attend\, bounce house\, art & crafts for the kids\, Karaoke\, hygiene ‘Cal-City Starbucks will be there free to our community and much more.. Pictures with Sponsor & (SHKLCC) team\, last year we served over 600 kids in our backpack giveaway. We want to continue seeing the smiles on their faces. The community was able to apply for not just jobs but careers with your help (SHKLCC) has been doing amazing things here in our community. We now have our community resource center open to all communities in East Kern County. This year we would love to give even more with your help. It has become increasingly difficult for organizations to continue to provide excellent services. community. The reason behind this is due to the increasing costs and the current economic environment. That’s the reason why we need your help. I feel strongly about the (SHKLCC) your help to our organization will help us continuously serve our community. \n(SHKLCC) works very hard for the kids & families of our community.  \nSafe Haven Kids League of California City does not discriminate against race\, gender\, age\, religion\, or sexual orientation\, as well as other categories.
URL:https://www.kernfoundation.org/event/back-2-school-backpack-job-fair-community-resource-giveaway-event/
LOCATION:Central Park (Stata Center) 10350 Hether Ave California City Ca. 93505
CATEGORIES:Other
ATTACH;FMTTYPE=image/png:https://www.kernfoundation.org/wp-content/uploads/2024/06/163B32E5-1-1-1.png
ORGANIZER;CN="(CEO) Linda King%2C Safe Haven Kids League of California City":MAILTO:linda@safehavenkidsleague.org
END:VEVENT
END:VCALENDAR