BEGIN:VCALENDAR
VERSION:2.0
PRODID:-//Kern Community Foundation - ECPv6.15.16.1//NONSGML v1.0//EN
CALSCALE:GREGORIAN
METHOD:PUBLISH
X-ORIGINAL-URL:https://www.kernfoundation.org
X-WR-CALDESC:Events for Kern Community Foundation
REFRESH-INTERVAL;VALUE=DURATION:PT1H
X-Robots-Tag:noindex
X-PUBLISHED-TTL:PT1H
BEGIN:VTIMEZONE
TZID:America/Los_Angeles
BEGIN:DAYLIGHT
TZOFFSETFROM:-0800
TZOFFSETTO:-0700
TZNAME:PDT
DTSTART:20220313T100000
END:DAYLIGHT
BEGIN:STANDARD
TZOFFSETFROM:-0700
TZOFFSETTO:-0800
TZNAME:PST
DTSTART:20221106T090000
END:STANDARD
BEGIN:DAYLIGHT
TZOFFSETFROM:-0800
TZOFFSETTO:-0700
TZNAME:PDT
DTSTART:20230312T100000
END:DAYLIGHT
BEGIN:STANDARD
TZOFFSETFROM:-0700
TZOFFSETTO:-0800
TZNAME:PST
DTSTART:20231105T090000
END:STANDARD
BEGIN:DAYLIGHT
TZOFFSETFROM:-0800
TZOFFSETTO:-0700
TZNAME:PDT
DTSTART:20240310T100000
END:DAYLIGHT
BEGIN:STANDARD
TZOFFSETFROM:-0700
TZOFFSETTO:-0800
TZNAME:PST
DTSTART:20241103T090000
END:STANDARD
END:VTIMEZONE
BEGIN:VEVENT
DTSTART;VALUE=DATE:20230502
DTEND;VALUE=DATE:20230503
DTSTAMP:20260421T223527
CREATED:20230119T174542Z
LAST-MODIFIED:20230129T233202Z
UID:7983-1682985600-1683071999@www.kernfoundation.org
SUMMARY:Give Big Kern 2023 Liberty Bell & Watch Party
DESCRIPTION:Give Big Kern 2023!\nObserved on the first Tuesday in May\, Give Big Kern is a dynamic and fun day of giving hosted by Kern Community Foundation to foster local philanthropy in support of 501(c)(3) charitable organizations in Kern County. The effort allows participating agencies to gain visibility as they engage the entire community in “One day to celebrate the giving spirit of Kern County!” Following another successful Day of Giving in 2022 ($885\,235 raised!)\, Give Big Kern is gearing up for another opportunity to harness the giving spirit of Kern County to the benefit of our hard-working nonprofits on Tuesday\, May 2. Join us bright and early in Downtown Bakersfield! As donations are coming in we will begin our day at the Liberty Bell at 6am! Join us later that evening for the watch party at Temblor Brewing Company at 5pm! \nLocation:\nLiberty Bell: Located in front of Kern County Superior Court\nTemblor Brewing Company: 3200 Buck Owens Blvd Suite 200 \nTime.:\nLiberty Bell: 6:00 AM\nTemblor Brewing Company: 5:00 PM \nThe Give Big Kern 2023 website is now live! (Click Here) to view the GBK website. Registration for nonprofits is now available and closes on February 28\, 2023. \nFor more information and stats on Give Big Kern 2022 (Click Here). If you have any questions regarding Give Big Kern or are interested in sponsoring\, please contact Teems Tulfo at fatima@kernfoundation.org.
URL:https://www.kernfoundation.org/event/give-big-kern-2023/
CATEGORIES:Community Events,Fundraiser,Nonprofit Strengthening
ATTACH;FMTTYPE=image/png:https://www.kernfoundation.org/wp-content/uploads/2023/01/official-gbk-2023.png
ORGANIZER;CN="Give Big Kern":MAILTO:fatima@kernfoundation.org
END:VEVENT
END:VCALENDAR