BEGIN:VCALENDAR
VERSION:2.0
PRODID:-//Kern Community Foundation - ECPv6.15.16.1//NONSGML v1.0//EN
CALSCALE:GREGORIAN
METHOD:PUBLISH
X-WR-CALNAME:Kern Community Foundation
X-ORIGINAL-URL:https://www.kernfoundation.org
X-WR-CALDESC:Events for Kern Community Foundation
REFRESH-INTERVAL;VALUE=DURATION:PT1H
X-Robots-Tag:noindex
X-PUBLISHED-TTL:PT1H
BEGIN:VTIMEZONE
TZID:America/Los_Angeles
BEGIN:DAYLIGHT
TZOFFSETFROM:-0800
TZOFFSETTO:-0700
TZNAME:PDT
DTSTART:20240310T100000
END:DAYLIGHT
BEGIN:STANDARD
TZOFFSETFROM:-0700
TZOFFSETTO:-0800
TZNAME:PST
DTSTART:20241103T090000
END:STANDARD
BEGIN:DAYLIGHT
TZOFFSETFROM:-0800
TZOFFSETTO:-0700
TZNAME:PDT
DTSTART:20250309T100000
END:DAYLIGHT
BEGIN:STANDARD
TZOFFSETFROM:-0700
TZOFFSETTO:-0800
TZNAME:PST
DTSTART:20251102T090000
END:STANDARD
BEGIN:DAYLIGHT
TZOFFSETFROM:-0800
TZOFFSETTO:-0700
TZNAME:PDT
DTSTART:20260308T100000
END:DAYLIGHT
BEGIN:STANDARD
TZOFFSETFROM:-0700
TZOFFSETTO:-0800
TZNAME:PST
DTSTART:20261101T090000
END:STANDARD
END:VTIMEZONE
BEGIN:VEVENT
DTSTART;TZID=America/Los_Angeles:20250921T100000
DTEND;TZID=America/Los_Angeles:20250921T150000
DTSTAMP:20260419T212625
CREATED:20250904T234900Z
LAST-MODIFIED:20250904T234900Z
UID:12041-1758448800-1758466800@www.kernfoundation.org
SUMMARY:Summer Pop Up Market | Live Resilient Life
DESCRIPTION:Summer Pop Up Market\n\nThe Live Resilient Life Summer Pop Up Market Bakersfield is a unique opportunity to experience community\, creativity\, and purpose all in one day. Happening on Sunday\, September 21\, 2025\, from 10:00 AM to 3:00 PM at Villa Ivy (712 19th Street\, Bakersfield)\, this special fundraiser brings together an incredible variety of local vendors\, artisans\, and food makers. \nGuests can shop handmade goods\, discover local treasures\, and enjoy sweet and savory treats while supporting a meaningful cause. Every purchase at the Summer Pop Up Market Bakersfield directly contributes to Live Resilient Life’s mission of empowering resilience\, healing\, and hope in our community. \nThis pop up market is designed for families\, friends\, and neighbors to connect\, celebrate local talent\, and shop with purpose. By attending\, you’re not only supporting small businesses—you’re helping fund programs that make a lasting impact in Kern County. \nDon’t miss this community event where shopping local becomes an act of giving back. Mark your calendar for the Live Resilient Life Pop Up Market Bakersfield and experience a day filled with vendors\, food\, handmade goods\, and community fun. \nFor more Information\, please visit: www.live-resilientlife.org
URL:https://www.kernfoundation.org/event/summer-pop-up-market-bakersfield/
LOCATION:Villa Ivy\, 712 19th St.\, Bakersfield\, 93301\, United States
CATEGORIES:Community Events
ATTACH;FMTTYPE=image/png:https://www.kernfoundation.org/wp-content/uploads/2025/09/Your-paragraph-text-1-e1757028283328.png
ORGANIZER;CN="Live Resilient Life'":MAILTO:valerie@liveresilientlife.org
END:VEVENT
END:VCALENDAR