BEGIN:VCALENDAR
VERSION:2.0
PRODID:-//Kern Community Foundation - ECPv6.15.16.1//NONSGML v1.0//EN
CALSCALE:GREGORIAN
METHOD:PUBLISH
X-ORIGINAL-URL:https://www.kernfoundation.org
X-WR-CALDESC:Events for Kern Community Foundation
REFRESH-INTERVAL;VALUE=DURATION:PT1H
X-Robots-Tag:noindex
X-PUBLISHED-TTL:PT1H
BEGIN:VTIMEZONE
TZID:America/Los_Angeles
BEGIN:DAYLIGHT
TZOFFSETFROM:-0800
TZOFFSETTO:-0700
TZNAME:PDT
DTSTART:20220313T100000
END:DAYLIGHT
BEGIN:STANDARD
TZOFFSETFROM:-0700
TZOFFSETTO:-0800
TZNAME:PST
DTSTART:20221106T090000
END:STANDARD
BEGIN:DAYLIGHT
TZOFFSETFROM:-0800
TZOFFSETTO:-0700
TZNAME:PDT
DTSTART:20230312T100000
END:DAYLIGHT
BEGIN:STANDARD
TZOFFSETFROM:-0700
TZOFFSETTO:-0800
TZNAME:PST
DTSTART:20231105T090000
END:STANDARD
BEGIN:DAYLIGHT
TZOFFSETFROM:-0800
TZOFFSETTO:-0700
TZNAME:PDT
DTSTART:20240310T100000
END:DAYLIGHT
BEGIN:STANDARD
TZOFFSETFROM:-0700
TZOFFSETTO:-0800
TZNAME:PST
DTSTART:20241103T090000
END:STANDARD
END:VTIMEZONE
BEGIN:VEVENT
DTSTART;TZID=America/Los_Angeles:20230731T100000
DTEND;TZID=America/Los_Angeles:20230731T150000
DTSTAMP:20260421T052719
CREATED:20230713T170903Z
LAST-MODIFIED:20230713T170903Z
UID:8588-1690797600-1690815600@www.kernfoundation.org
SUMMARY:KRV Bridge Connection Resource Fair
DESCRIPTION:KRV Bridge Connection Resource Fair\nThe KRV Bridge Connection is hosting a Resource Fair on July 31\, 2023\, from 10 AM to 3 PM at the Senior Center in Lake Isabella. The Resource Fair will provide FREE resources and support services such as Mental Health\, Shelter\, Food and Clothing\, Public Services\, Community Services\, Transportation\, CAPK food boxes\, and much more. The Resource Fair supports connecting families and underserved individuals to the resources they need. \nDate: Monday\, July 31\, 2023\nTime: 10 AM – 3 PM\nLocation: Lake Isabella\, CA 93240 \nFor more information\, please contact jackylin.wallace@pathways.com 
URL:https://www.kernfoundation.org/event/krv-bridge-connection-resource-fair/
LOCATION:Senior Center\, 6405 Lake Isabella\, Lake Isabella\, CA\, 93240\, United States
CATEGORIES:Community Events
END:VEVENT
END:VCALENDAR