BEGIN:VCALENDAR
VERSION:2.0
PRODID:-//Kern Community Foundation - ECPv6.15.16.1//NONSGML v1.0//EN
CALSCALE:GREGORIAN
METHOD:PUBLISH
X-WR-CALNAME:Kern Community Foundation
X-ORIGINAL-URL:https://www.kernfoundation.org
X-WR-CALDESC:Events for Kern Community Foundation
REFRESH-INTERVAL;VALUE=DURATION:PT1H
X-Robots-Tag:noindex
X-PUBLISHED-TTL:PT1H
BEGIN:VTIMEZONE
TZID:America/Los_Angeles
BEGIN:DAYLIGHT
TZOFFSETFROM:-0800
TZOFFSETTO:-0700
TZNAME:PDT
DTSTART:20230312T100000
END:DAYLIGHT
BEGIN:STANDARD
TZOFFSETFROM:-0700
TZOFFSETTO:-0800
TZNAME:PST
DTSTART:20231105T090000
END:STANDARD
BEGIN:DAYLIGHT
TZOFFSETFROM:-0800
TZOFFSETTO:-0700
TZNAME:PDT
DTSTART:20240310T100000
END:DAYLIGHT
BEGIN:STANDARD
TZOFFSETFROM:-0700
TZOFFSETTO:-0800
TZNAME:PST
DTSTART:20241103T090000
END:STANDARD
BEGIN:DAYLIGHT
TZOFFSETFROM:-0800
TZOFFSETTO:-0700
TZNAME:PDT
DTSTART:20250309T100000
END:DAYLIGHT
BEGIN:STANDARD
TZOFFSETFROM:-0700
TZOFFSETTO:-0800
TZNAME:PST
DTSTART:20251102T090000
END:STANDARD
END:VTIMEZONE
BEGIN:VEVENT
DTSTART;VALUE=DATE:20240420
DTEND;VALUE=DATE:20240421
DTSTAMP:20260423T073346
CREATED:20240219T032225Z
LAST-MODIFIED:20240219T032225Z
UID:9763-1713571200-1713657599@www.kernfoundation.org
SUMMARY:JJ's Legacy Gala Dinner
DESCRIPTION:JJ’s Legacy Gala Dinner\nGet ready for a lush Tropical Night at JJ’s Legacy Gala on April 20\, 2024. This year\, it’s all about embracing the chic and vibrant essence of the tropics! 🌴✨ \nJoin us in Kern County’s most enchanting evening\, where elegance intertwines with the serene spirit of tropical chic. Dress in your island best and help us continue our vital support for the community.\nReady to be p
URL:https://www.kernfoundation.org/event/jjs-legacy-gala-dinner-2/
LOCATION:Stockdale Country Club\, 7001 Stockdale Hwy.\, Bakersfield\, 93309
CATEGORIES:Community Events,Fundraiser
ATTACH;FMTTYPE=image/png:https://www.kernfoundation.org/wp-content/uploads/2024/02/JJs_Legacy_Logo-new.png
END:VEVENT
END:VCALENDAR