BEGIN:VCALENDAR
VERSION:2.0
PRODID:-//Kern Community Foundation - ECPv6.15.16.1//NONSGML v1.0//EN
CALSCALE:GREGORIAN
METHOD:PUBLISH
X-WR-CALNAME:Kern Community Foundation
X-ORIGINAL-URL:https://www.kernfoundation.org
X-WR-CALDESC:Events for Kern Community Foundation
REFRESH-INTERVAL;VALUE=DURATION:PT1H
X-Robots-Tag:noindex
X-PUBLISHED-TTL:PT1H
BEGIN:VTIMEZONE
TZID:America/Los_Angeles
BEGIN:DAYLIGHT
TZOFFSETFROM:-0800
TZOFFSETTO:-0700
TZNAME:PDT
DTSTART:20220313T100000
END:DAYLIGHT
BEGIN:STANDARD
TZOFFSETFROM:-0700
TZOFFSETTO:-0800
TZNAME:PST
DTSTART:20221106T090000
END:STANDARD
BEGIN:DAYLIGHT
TZOFFSETFROM:-0800
TZOFFSETTO:-0700
TZNAME:PDT
DTSTART:20230312T100000
END:DAYLIGHT
BEGIN:STANDARD
TZOFFSETFROM:-0700
TZOFFSETTO:-0800
TZNAME:PST
DTSTART:20231105T090000
END:STANDARD
BEGIN:DAYLIGHT
TZOFFSETFROM:-0800
TZOFFSETTO:-0700
TZNAME:PDT
DTSTART:20240310T100000
END:DAYLIGHT
BEGIN:STANDARD
TZOFFSETFROM:-0700
TZOFFSETTO:-0800
TZNAME:PST
DTSTART:20241103T090000
END:STANDARD
END:VTIMEZONE
BEGIN:VEVENT
DTSTART;TZID=America/Los_Angeles:20231109T170000
DTEND;TZID=America/Los_Angeles:20231109T210000
DTSTAMP:20260421T155016
CREATED:20230803T200723Z
LAST-MODIFIED:20230803T205615Z
UID:8678-1699549200-1699563600@www.kernfoundation.org
SUMMARY:JJ's Legacy's 8th annual Grillin' & Brewin'
DESCRIPTION:JJ’s Legacy’s 8th Annual Grillin’ and Brewin’\nWe are thrilled to announce JJ’s Legacy 8th Annual Grillin’ and Brewin’ will take place November 9\, 2023. This much anticipated fundraising event will have the same delicious\, mouth-watering BBQ prepared by our local award-winning competition BBQ team\, The Ridge Route Boys\, Curtis Trigueiro\, and PorkChop and Bubbas BBQ will join! New this year – popular local country music star Joe Peters will be our entertainment. The fundraiser benefits JJ’s Legacy Got the Dot High School Leadership Program and Club. This essential learning platform educates local students about the need and importance of registering to become an organ\, eye\, and tissue donor.
URL:https://www.kernfoundation.org/event/8th-annual-grillin-brewin/
LOCATION:The Iron Lily\, 424 24th St\, Bakersfield\, 93301
CATEGORIES:Fundraiser,Fundraiser
ATTACH;FMTTYPE=image/jpeg:https://www.kernfoundation.org/wp-content/uploads/2023/08/GB-23.jpg
END:VEVENT
END:VCALENDAR