BEGIN:VCALENDAR
VERSION:2.0
PRODID:-//Kern Community Foundation - ECPv6.15.16.1//NONSGML v1.0//EN
CALSCALE:GREGORIAN
METHOD:PUBLISH
X-WR-CALNAME:Kern Community Foundation
X-ORIGINAL-URL:https://www.kernfoundation.org
X-WR-CALDESC:Events for Kern Community Foundation
REFRESH-INTERVAL;VALUE=DURATION:PT1H
X-Robots-Tag:noindex
X-PUBLISHED-TTL:PT1H
BEGIN:VTIMEZONE
TZID:America/Los_Angeles
BEGIN:DAYLIGHT
TZOFFSETFROM:-0800
TZOFFSETTO:-0700
TZNAME:PDT
DTSTART:20220313T100000
END:DAYLIGHT
BEGIN:STANDARD
TZOFFSETFROM:-0700
TZOFFSETTO:-0800
TZNAME:PST
DTSTART:20221106T090000
END:STANDARD
BEGIN:DAYLIGHT
TZOFFSETFROM:-0800
TZOFFSETTO:-0700
TZNAME:PDT
DTSTART:20230312T100000
END:DAYLIGHT
BEGIN:STANDARD
TZOFFSETFROM:-0700
TZOFFSETTO:-0800
TZNAME:PST
DTSTART:20231105T090000
END:STANDARD
BEGIN:DAYLIGHT
TZOFFSETFROM:-0800
TZOFFSETTO:-0700
TZNAME:PDT
DTSTART:20240310T100000
END:DAYLIGHT
BEGIN:STANDARD
TZOFFSETFROM:-0700
TZOFFSETTO:-0800
TZNAME:PST
DTSTART:20241103T090000
END:STANDARD
END:VTIMEZONE
BEGIN:VEVENT
DTSTART;TZID=America/Los_Angeles:20230915T173000
DTEND;TZID=America/Los_Angeles:20230915T213000
DTSTAMP:20260420T080325
CREATED:20230727T164114Z
LAST-MODIFIED:20230727T174234Z
UID:8652-1694799000-1694813400@www.kernfoundation.org
SUMMARY:emPOWERment Dess Perkins Foundation: The Grateful Gala
DESCRIPTION:emPOWERment Dess Perkins Foundation hosts The Grateful Gala\nOn behalf of emPOWERment Dess Perkins Foundation\, we are thrilled to extend an invitation to our much-anticipated annual “Grateful Gala.” As a non-profit organization located in Bakersfield\, CA\, our mission is to restore hope to the hopeless\, disenfranchised\, at-risk\, and victims turned survivors. We are dedicated to empowering at-risk youth and sex/human trafficking victims\, helping them overcome their past and build a positive and resilient future. \nDate: September 15\, 2023\nSocial Hour: 5:30 PM (no host)\nDinner: 6:15 PM\nLocation: Stockdale Country Club\, 7001 Stockdale Hwy. Bakersfield\, CA 93309 \nSponsorship Packages are available. \n 
URL:https://www.kernfoundation.org/event/the-grateful-gala/
LOCATION:Stockdale Country Club\, 7001 Stockdale Hwy.\, Bakersfield\, 93309
CATEGORIES:Fundraiser,Fundraiser
END:VEVENT
BEGIN:VEVENT
DTSTART;TZID=America/Los_Angeles:20230812T130000
DTEND;TZID=America/Los_Angeles:20230812T170000
DTSTAMP:20260420T080325
CREATED:20230516T205834Z
LAST-MODIFIED:20230516T210012Z
UID:8390-1691845200-1691859600@www.kernfoundation.org
SUMMARY:Safe Kids League of California City "Presents Annual "Back 2 School Backpack Giveaway"
DESCRIPTION:“Safe Haven Kids of California City Presents Annual Back 2 School Backpack & Resupply Giveaway” \n(SHKLCC) is an organization dedicated to help families and especially our youth in our community. Over the last year we have been able to help more than 800 families. We are currently in the early stages of planning our “Back2School Backpack Giveaway 2023 This amazing event for parents and kids to come out and enjoy a day of fun in the community. We will have an amazing sponsor for taking pictures for keepsakes of memories with the kids and families. We will be giving Backpacks to all the kids. Starbucks of Cal-City will be there supporting the community with free ice coffee and sweet tea for all\, also Dolores Huerta Foundation youth will be there educating the community the importance of youth being involved and also be giving out free items to the community & many more organizations will be there. There will be a free raffle for all parents in attendance. You can win cool items for all / arts & crafts / food & water\, juice / jumper house / free educational item pencil/ pens/ folders/ paper/ backpacks and a lot more for free to our community.\nLast year we were able to give away over 200 + Backpacks to the kids and we are hoping to give even more this year. \n(SHKLCC) has been doing amazing things here in our community. We started in a dirt field giving to our community with 10 to 15 people\, now we have moved at our local recreation center and have over 150 to 200 people come out and support us. This year we would love to give even more. lt is becoming increasingly difficult for the organization to continue to provide their excellent services to our community. The reason behind this is due to the increasing costs and the current economic environment. That’s the reason why I’m contacting you. I feel strongly about the (SHKLCC). Your help to our organization will help us continuously help our community. \n(SHKLCC) works very hard for the kids & families of our community. \nSafe Haven Kids League of California City does not discriminate against race\, gender\, age\, religion\, or sexual orientation\, as well as other categories. \n(SHKLCC) board members do not take a salary\, all donations are used for our programs and our events. Any donations will be extremely appreciated\, and will make sure our community knows where this generous donation comes from.
URL:https://www.kernfoundation.org/event/safe-kids-league-of-california-city-presents-annual-back-2-school-backpack-giveaway/
LOCATION:Central Park (Stata Center) 10350 Hether Ave California City Ca. 93505
CATEGORIES:Other,Other
ATTACH;FMTTYPE=image/jpeg:https://www.kernfoundation.org/wp-content/uploads/2023/05/Annual-backpack-Giveaway-2-scaled.jpg
ORGANIZER;CN="CEO Linda King":MAILTO:linda@safehavenkidsleague.org
END:VEVENT
BEGIN:VEVENT
DTSTART;TZID=America/Los_Angeles:20230729T150000
DTEND;TZID=America/Los_Angeles:20230729T170000
DTSTAMP:20260420T080325
CREATED:20230827T091218Z
LAST-MODIFIED:20230827T091218Z
UID:8595-1690642800-1690650000@www.kernfoundation.org
SUMMARY:XMAS in July Block Party
DESCRIPTION:We are excited to announce our upcoming Backpack Drive & Block Party\, hosted by Stay Focused Ministries and Fresco Mexican Grill & Meat Market\, on July 29th\, 2023. \nThe event will take place at. We will be distributing 1\,000 backpacks to children in need\, along with free tacos\, live music\, games\, and more. It will be a day filled with fun\, community engagement\, and support for our future generation. \nWe invite you to join us at this vibrant community event and help make a difference in the lives of local children. By attending and spreading the word\, you will contribute to empowering our community and ensuring that students have the necessary tools for a successful academic year.
URL:https://www.kernfoundation.org/event/xmas-in-july-block-party/
LOCATION:The block of K St & California Ave\, beside Fresco Meat Market\, Bakersfield\, 93304
CATEGORIES:Community Events,Other
ATTACH;FMTTYPE=image/png:https://www.kernfoundation.org/wp-content/uploads/2023/07/BP-Giveaway-Flyer-E-1.png
ORGANIZER;CN="Stay Focused Ministries":MAILTO:Mercedes@stayfocused.org
END:VEVENT
BEGIN:VEVENT
DTSTART;TZID=America/Los_Angeles:20230610T130000
DTEND;TZID=America/Los_Angeles:20230610T170000
DTSTAMP:20260420T080325
CREATED:20230324T202451Z
LAST-MODIFIED:20230509T180732Z
UID:8241-1686402000-1686416400@www.kernfoundation.org
SUMMARY:Safe Haven Kids League of California City presents "Summer Breeze A Day With Our Seniors”
DESCRIPTION:(SHKLCC) is an organization dedicated to help families and especially youth in our community. Over the last year we have been able to help more than 800 families. We are currently in the early stages of planning our next event “A Day With Our Seniors Of Cal-City” This event will include the following: This amazing event is for parents and kids to come out and enjoy a day of community & fun With our seniors . We will have pictures for keepsakes of memories for the kids and families\, we will be giving a lot of amazing items to our seniors for free. We will also have BINGO / Karaoke and a lot of free items for our seniors / Starbucks of Cal-City / Dolores Huerta Foundation or (Capk) Community Action Partnership of Kern Foundation. all will be there\, supporting our seniors & our community. Opportunity Drawing / Arts & Crafts / Food\, Water & juice / blankets and a lot more. (SHKLCC) has been doing amazing things here in our community. We started in a dirt field giving to our community with 10 to 15 people\, now we have moved at our local recreation center and have over 150 to 200 people come out and support us. This year we would love to give even more. lt is becoming increasingly difficult for the organization to continue to provide their excellent services to our community. The reason behind this is due to the increasing costs and the current economic environment. That’s the reason why I’m contacting you. I feel strongly about the (SHKLCC). Your help to our organization will help us continuously help our community. 1\, (SHKLCC) works very hard for the kids & families of our community. 2\, Safe Haven Kids League of California City does not discriminate against race\, gender\, age\, religion\, or sexual orientation\, as well as other categories. 3\, (SHKLCC) board members do not take a salary\, all donations are used for our events that we host. Any donations will be extremely appreciated\, and will make sure our community knows where this generous donation comes from.
URL:https://www.kernfoundation.org/event/safe-haven-kids-league-of-california-city-percents-summer-breeze-a-day-with-our-seniors/
LOCATION:California City (Senior Center)  10221 Heather Ave California City Ca. 93505\, 10221 Heather Ave\, California City\, CA\, 93505\, United States
CATEGORIES:Community Events,Other
ATTACH;FMTTYPE=image/jpeg:https://www.kernfoundation.org/wp-content/uploads/2023/03/seniors2-3-1-scaled.jpg
ORGANIZER;CN="CEO Linda King":MAILTO:linda@safehavenkidsleague.org
END:VEVENT
BEGIN:VEVENT
DTSTART;TZID=America/Los_Angeles:20230607T110000
DTEND;TZID=America/Los_Angeles:20230607T130000
DTSTAMP:20260420T080325
CREATED:20230309T204944Z
LAST-MODIFIED:20230309T205723Z
UID:8187-1686135600-1686142800@www.kernfoundation.org
SUMMARY:Kern Alliance of Nonprofit’s Inaugural Nonprofit Leadership Awards
DESCRIPTION:Kern Alliance of Nonprofit’s Inaugural Nonprofit Leadership Awards\nKern Alliance of Nonprofit’s (KAN) Inaugural Nonprofit Leadership Awards is scheduled for Wednesday\, June 7\, 2023 at 11:00 AM at the Woman’s Club of Bakersfield\, 2030 18th St. The purpose of the Nonprofit Leadership Awards is to recognize distinguished Kern County residents who have made significant contributions to the nonprofit sector in the region. Ticket information soon to follow. \nNomination Information\nTo help us recognize remarkable individuals\, KAN invites you to make a nomination by using the online form (CLICK HERE). \nAwards categories include: \n \nNonprofit Professional of the Year (22-23) – It takes passion\, drive and intellect to craft true transformation for people served by the non-profit community. This award honors the leader who has best used those tools to make a dramatic impact in the lives of their non-profit clients and\, through service\, improved the communities of Kern County. \nBoard Member of the Year – This honor goes to the non-profit board member whose commitment\, engagement and stewardship has helped shape growth\, improvement\, and accountability at a Kern County Non-Profit. By providing financial support\, oversight\, guidance\, and encouragement this leader has helped staff a \nnd the non-profit exceed its plans and expectations. \nRising Star Award – Non-profit staff and young leaders are on the frontlines of our efforts to impact community problems\, overcome social barriers to success and improve people’s lives. This award honors an emerging star in the nonprofit world who made a powerful impact this year and who we are excited to see grow and develop in the coming years. \nLifetime Achievement Award – This category is designed to honor the legends of Kern County’s non-profit community. Their decades of commitment and effort have built a lasting legacy for the organizations they serve\, created a foundation of structure and knowledge all nonprofits can benefit from\, and served as the measure of attainment that new generations should aspire to. \nUnsung Hero – These quiet champions transform services from routine to exceptional because they get things done\, serve with heart and don’t waste time asking for recognition. They’re an example of how to truly excel and an inspiration for those around them. This award exists to create a space where these humble leaders get the recognition they deserve. \nYouth Award (High School) – The next generation of non-profit leaders and innovators are already giving of their time and individual passion as they work toward their high school graduation. This award will recognize one of these young people for the work they do on behalf of causes they care for. \nNonprofit Contributor/Partner – Non-Profits don’t succeed without the support of community supporters who give of themselves and their resources to empower the transformative work our organizations do each day. This awards a community contributor and partner who has a heart for making sure nonprofits have what they need to succeed.
URL:https://www.kernfoundation.org/event/kern-alliance-of-nonprofits-inaugural-nonprofit-leadership-awards/
LOCATION:The Woman’s Club of Bakersfield\, 2030 18th St\, Bakersfield\, CA\, United States
CATEGORIES:Community Events,KAN Events
ORGANIZER;CN="Kern Alliance of Nonprofits":MAILTO:andraeg3000@gmail.com
END:VEVENT
BEGIN:VEVENT
DTSTART;TZID=America/Los_Angeles:20230528T120000
DTEND;TZID=America/Los_Angeles:20230528T170000
DTSTAMP:20260420T080325
CREATED:20230502T181239Z
LAST-MODIFIED:20230502T181409Z
UID:8357-1685275200-1685293200@www.kernfoundation.org
SUMMARY:Blood In\, Blood Out Live Drama
DESCRIPTION:With crime in our city and our school campuses progressing tremendously\, Stay Focused Ministries is on the front line\, bringing the community together to unite one another through various events. Stay Focused is hosting Blood In\, Blood Out Live Drama Performance. It’s a true story of a man who was a former gang member and organized crime leader\, who found himself full of hopelessness\, gang violence\, and drug addiction. The play showcases how the perspective of intervention and prevention takes place and how the gospel came and broke all those chains. This Free event will start with an outdoor car show by the Carnales Unidos Car Club\, live performances from Christian Hip Hop band 12Th Tribe\, and Christian Hip Hop artist Young Preach\, and More. Guest speakers Blinky Rodriguez from Champion of Service\, and Fabian Garcia from Homeboy Industries. Followed by the live drama inside the Fox Theather\, doors open at 2:00 PM and the seats are based on a first come first serve basis. Join Stay Focused at the Fox Theather located at 2001 H. St\, on Sunday\, May 28\, 2023\, from 12:00 PM – 5:00 PM. We all hope the event will spur hope and encouragement in students and families across our community.
URL:https://www.kernfoundation.org/event/blood-in-blood-out-live-drama/
LOCATION:The Historic Bakersfield Fox Theater\, 2001 H St\, Bakersfield\, 93301
CATEGORIES:Fundraiser,Fundraiser
ATTACH;FMTTYPE=image/png:https://www.kernfoundation.org/wp-content/uploads/2023/05/Untitled-design-3.png
ORGANIZER;CN="Stay Focused Ministries":MAILTO:Mercedes@stayfocused.org
END:VEVENT
BEGIN:VEVENT
DTSTART;TZID=America/Los_Angeles:20230517T083000
DTEND;TZID=America/Los_Angeles:20230517T093000
DTSTAMP:20260420T080325
CREATED:20230306T204447Z
LAST-MODIFIED:20230306T205302Z
UID:8154-1684312200-1684315800@www.kernfoundation.org
SUMMARY:Kern Alliance of Nonprofits (KAN): Onboarding Board Members Training
DESCRIPTION:KAN: Kern Alliance of Nonprofits May Training\nThe Kern Alliance of Nonprofits (KAN) is hosting Onboarding Board Members Training! KAN was launched in 2016 by a small group of local nonprofit leaders who care deeply about building the capacity of the nonprofit organizations in Kern County. \nDate: May 17\, 2023\nLocation: KCSOS City Centre\, Room 1C \n*Training dates\, locations\, and topics are tentative and subject to change\nAll trainings will be from 8:30 – 9:30 a.m\, with check-in at 8 am \nStay up to date on KAN News and events by subscribing to our email list or visiting us on Facebook and Instagram @kernallianceofnonprofits \n  \n 
URL:https://www.kernfoundation.org/event/kern-alliance-of-nonprofits-kan-onboarding-board-members/
LOCATION:City Centre\, 1300 17th Street Rm 1A\, Bakersfield\, CA\, 93301\, United States
CATEGORIES:Community Events,KAN Events,Training,Training
ATTACH;FMTTYPE=image/png:https://www.kernfoundation.org/wp-content/uploads/2023/01/KAN-logo-1.png
ORGANIZER;CN="Kern Alliance of Nonprofits":MAILTO:andraeg3000@gmail.com
END:VEVENT
BEGIN:VEVENT
DTSTART;TZID=America/Los_Angeles:20230506T163000
DTEND;TZID=America/Los_Angeles:20230506T230000
DTSTAMP:20260420T080325
CREATED:20230314T183654Z
LAST-MODIFIED:20230314T183654Z
UID:8203-1683390600-1683414000@www.kernfoundation.org
SUMMARY:The CASA Derby Party
DESCRIPTION:JOIN US ON SATURDAY\, MAY 6TH AT THE BEAUTIFUL GARDINER RANCH FOR THE 2023 CASA DERBY PARTY BENEFITING COURT APPOINTED SPECIAL ADVOCATES (CASA) OF KERN COUNY. THIS FUN FILLED EVENING INCLUDES A SAVORY DINNER\, DANCING\, EXCEPTIONAL MUST HAVE LIVE AND SILENT AUCTION ITEMS AND A SHOWING OF THE 2023 KENTUCKY DERBY RACES. SO LET’S GET READY TO PARTY TO AMPLIFY THE VOICES OF YOUTH IN FOSTER CARE! FOR SPONSORSHIPS\, TICKETS OR TABLES\, CALL CASA AT 631-2272 OR RESERVE ONLINE AT KERNCASA.ORG
URL:https://www.kernfoundation.org/event/the-casa-derby-party/
LOCATION:Gardiner Ranch\, 24747 Sullivan Road\, Bakersfield\, 93314
CATEGORIES:Fundraiser,Fundraiser
ATTACH;FMTTYPE=image/png:https://www.kernfoundation.org/wp-content/uploads/2023/03/CASA-Derby-Party-Flyer.png
ORGANIZER;CN="CASA of Kern County":MAILTO:hvasquez@kerncasa.org
END:VEVENT
BEGIN:VEVENT
DTSTART;TZID=America/Los_Angeles:20230422T180000
DTEND;TZID=America/Los_Angeles:20230422T213000
DTSTAMP:20260420T080325
CREATED:20230214T182422Z
LAST-MODIFIED:20230214T182422Z
UID:8093-1682186400-1682199000@www.kernfoundation.org
SUMMARY:JJ's Legacy Gala Dinner
DESCRIPTION:Join JJ’s Legacy for an evening under the stars in inspiration and celebration at the 13th annual Gala and Day of Golf. This is JJ’s Legacy’s biggest and most popular fundraiser of the year to bring awareness and education about organ\, eye\, and tissue donation.
URL:https://www.kernfoundation.org/event/jjs-legacy-gala-dinner/
LOCATION:Stockdale Country Club\, 7001 Stockdale Hwy.\, Bakersfield\, 93309
CATEGORIES:Fundraiser,Fundraiser
ATTACH;FMTTYPE=image/png:https://www.kernfoundation.org/wp-content/uploads/2023/02/JJs-legacy-logo.png
END:VEVENT
END:VCALENDAR