BEGIN:VCALENDAR
VERSION:2.0
PRODID:-//Kern Community Foundation - ECPv6.15.16.1//NONSGML v1.0//EN
CALSCALE:GREGORIAN
METHOD:PUBLISH
X-ORIGINAL-URL:https://www.kernfoundation.org
X-WR-CALDESC:Events for Kern Community Foundation
REFRESH-INTERVAL;VALUE=DURATION:PT1H
X-Robots-Tag:noindex
X-PUBLISHED-TTL:PT1H
BEGIN:VTIMEZONE
TZID:America/Los_Angeles
BEGIN:DAYLIGHT
TZOFFSETFROM:-0800
TZOFFSETTO:-0700
TZNAME:PDT
DTSTART:20230312T100000
END:DAYLIGHT
BEGIN:STANDARD
TZOFFSETFROM:-0700
TZOFFSETTO:-0800
TZNAME:PST
DTSTART:20231105T090000
END:STANDARD
BEGIN:DAYLIGHT
TZOFFSETFROM:-0800
TZOFFSETTO:-0700
TZNAME:PDT
DTSTART:20240310T100000
END:DAYLIGHT
BEGIN:STANDARD
TZOFFSETFROM:-0700
TZOFFSETTO:-0800
TZNAME:PST
DTSTART:20241103T090000
END:STANDARD
BEGIN:DAYLIGHT
TZOFFSETFROM:-0800
TZOFFSETTO:-0700
TZNAME:PDT
DTSTART:20250309T100000
END:DAYLIGHT
BEGIN:STANDARD
TZOFFSETFROM:-0700
TZOFFSETTO:-0800
TZNAME:PST
DTSTART:20251102T090000
END:STANDARD
END:VTIMEZONE
BEGIN:VEVENT
DTSTART;TZID=America/Los_Angeles:20241227T183000
DTEND;TZID=America/Los_Angeles:20241227T223000
DTSTAMP:20260422T183825
CREATED:20241217T181228Z
LAST-MODIFIED:20241217T181228Z
UID:10969-1735324200-1735338600@www.kernfoundation.org
SUMMARY:Charmed & Chosen 2nd Annual Sneaker Ball Fundraiser
DESCRIPTION:Charmed & Chosen 2nd Annual Sneaker Ball Fundraiser\nCharmed & Chosen Inc. invites you to our 2nd Annual Sneaker Ball Fundraiser! This is your chance to step out in style\, rocking your best formal outfit paired with your favorite sneakers. It’s going to be a night full of fun\, music\, and great vibes\, all while supporting an amazing cause. Whether you’re still in high school or just graduated\, this event is perfect for you to hang out with friends\, make memories\, and give back. So\, lace up your sneakers and come kick it with us! You won’t want to miss it.
URL:https://www.kernfoundation.org/event/charmed-chosen-2nd-annual-sneaker-ball-fundraiser/
LOCATION:The Collective\, 931 19th Street\, Bakersfield\, CA\, 93301\, United States
CATEGORIES:Community Events,Fundraiser,Fundraiser,KAN Events
ATTACH;FMTTYPE=image/jpeg:https://www.kernfoundation.org/wp-content/uploads/2024/12/IMG_4547.PNG1_.jpg
ORGANIZER;CN="Charmed & Chosen Inc.":MAILTO:charmed.chosen2020@gmail.com
END:VEVENT
END:VCALENDAR