BEGIN:VCALENDAR
VERSION:2.0
PRODID:-//Kern Community Foundation - ECPv6.15.16.1//NONSGML v1.0//EN
CALSCALE:GREGORIAN
METHOD:PUBLISH
X-WR-CALNAME:Kern Community Foundation
X-ORIGINAL-URL:https://www.kernfoundation.org
X-WR-CALDESC:Events for Kern Community Foundation
REFRESH-INTERVAL;VALUE=DURATION:PT1H
X-Robots-Tag:noindex
X-PUBLISHED-TTL:PT1H
BEGIN:VTIMEZONE
TZID:America/Los_Angeles
BEGIN:DAYLIGHT
TZOFFSETFROM:-0800
TZOFFSETTO:-0700
TZNAME:PDT
DTSTART:20250309T100000
END:DAYLIGHT
BEGIN:STANDARD
TZOFFSETFROM:-0700
TZOFFSETTO:-0800
TZNAME:PST
DTSTART:20251102T090000
END:STANDARD
BEGIN:DAYLIGHT
TZOFFSETFROM:-0800
TZOFFSETTO:-0700
TZNAME:PDT
DTSTART:20260308T100000
END:DAYLIGHT
BEGIN:STANDARD
TZOFFSETFROM:-0700
TZOFFSETTO:-0800
TZNAME:PST
DTSTART:20261101T090000
END:STANDARD
BEGIN:DAYLIGHT
TZOFFSETFROM:-0800
TZOFFSETTO:-0700
TZNAME:PDT
DTSTART:20270314T100000
END:DAYLIGHT
BEGIN:STANDARD
TZOFFSETFROM:-0700
TZOFFSETTO:-0800
TZNAME:PST
DTSTART:20271107T090000
END:STANDARD
END:VTIMEZONE
BEGIN:VEVENT
DTSTART;VALUE=DATE:20260505
DTEND;VALUE=DATE:20260506
DTSTAMP:20260420T052207
CREATED:20251228T024259Z
LAST-MODIFIED:20251228T024507Z
UID:12581-1777939200-1778025599@www.kernfoundation.org
SUMMARY:Give Big Kern 2026 - Celebrate Kern County's Official Giving Day!
DESCRIPTION:Give Big Kern 2026\nGBK 2026 will take place on May 5\, 2026!\nGive Big Kern has raised over millions of dollars from thousands of donors for hundreds of local nonprofit organizations. Every year since 2016\, Kern Community Foundation has hosted GBK to help local nonprofit organizations raise money and volunteer hours. GBK is a month-long event of community engagement in giving and volunteering that leads up to the first Tuesday in May. GBK is part of Kern Community Foundation’s Nonprofit Strengthening strategic initiative. The initiative increases visibility\, builds capacity\, and improves sustainability for local nonprofits. The effort shines a light on hard-working local nonprofits\, empowering them to advance their marketing and development capabilities\, and donor\, board and volunteer engagement while encouraging networking and collaboration among nonprofit organizations across the sector. GBK would not have been possible without the support of our sponsors. Nonprofits participate in GBK at no cost. Marketing materials\, event fees\, online platform\, and training are provided through our generous sponsors. \nInterested in a sponsoring\, please contact info@kernfoundation.org. \nOther GBK 2026 Events\nPress Conference – April 14\, 2026\n3rd Annual Give Big at the Park: Nonprofit Meet & Greet – April 18\, 2026\nLiberty Bell & Watch Party – May 5\, 2026 \n \n 
URL:https://www.kernfoundation.org/event/gbk2026/
LOCATION:CA
CATEGORIES:Community Events,Fundraiser,Fundraiser,Nonprofit Strengthening,Other
ATTACH;FMTTYPE=image/png:https://www.kernfoundation.org/wp-content/uploads/2025/12/give-big-kern-logo-2026_small.png
ORGANIZER;CN="Kern Community Foundation":MAILTO:info@kernfoundation.org
END:VEVENT
END:VCALENDAR