BEGIN:VCALENDAR
VERSION:2.0
PRODID:-//Kern Community Foundation - ECPv6.15.16.1//NONSGML v1.0//EN
CALSCALE:GREGORIAN
METHOD:PUBLISH
X-ORIGINAL-URL:https://www.kernfoundation.org
X-WR-CALDESC:Events for Kern Community Foundation
REFRESH-INTERVAL;VALUE=DURATION:PT1H
X-Robots-Tag:noindex
X-PUBLISHED-TTL:PT1H
BEGIN:VTIMEZONE
TZID:America/Los_Angeles
BEGIN:DAYLIGHT
TZOFFSETFROM:-0800
TZOFFSETTO:-0700
TZNAME:PDT
DTSTART:20230312T100000
END:DAYLIGHT
BEGIN:STANDARD
TZOFFSETFROM:-0700
TZOFFSETTO:-0800
TZNAME:PST
DTSTART:20231105T090000
END:STANDARD
BEGIN:DAYLIGHT
TZOFFSETFROM:-0800
TZOFFSETTO:-0700
TZNAME:PDT
DTSTART:20240310T100000
END:DAYLIGHT
BEGIN:STANDARD
TZOFFSETFROM:-0700
TZOFFSETTO:-0800
TZNAME:PST
DTSTART:20241103T090000
END:STANDARD
BEGIN:DAYLIGHT
TZOFFSETFROM:-0800
TZOFFSETTO:-0700
TZNAME:PDT
DTSTART:20250309T100000
END:DAYLIGHT
BEGIN:STANDARD
TZOFFSETFROM:-0700
TZOFFSETTO:-0800
TZNAME:PST
DTSTART:20251102T090000
END:STANDARD
END:VTIMEZONE
BEGIN:VEVENT
DTSTART;TZID=America/Los_Angeles:20240920T083000
DTEND;TZID=America/Los_Angeles:20240920T100000
DTSTAMP:20260421T061353
CREATED:20240826T160917Z
LAST-MODIFIED:20240826T160917Z
UID:10547-1726821000-1726826400@www.kernfoundation.org
SUMMARY:KAN September Workshop
DESCRIPTION:KAN September Workshop\nThis workshop will provide an overview of Artificial Intelligence (AI) and its impact on the nonprofit sector and how we do business. Participants will learn about the opportunities and pitfalls of AI technology and discuss how nonprofits are utilizing this emerging technology. RSVP at www.kernfoundation.org/kan. \nFriday\, September 20\, 2024 \nKAN Workshop: Understanding Artificial Intelligence (AI) \nKCSOS City Centre\, Room 1B \nPresenter: Britton Smith\, IT Services Coordinator\, KCSOS \nMr. Smith currently serves as IT Services Coordinator for the Kern County Superintendent of Schools\, leading technology initiatives and supporting educational technology at school districts throughout Kern County. In 2021\, he established and continues to support a non-profit for the 11u Bakersfield Assault Baseball Club.
URL:https://www.kernfoundation.org/event/kan-september-workshop/
LOCATION:KCSOS City Centre\, 1300 17th St\, Bakersfield\, CA\, 93301\, United States
CATEGORIES:Community Events,KAN Events,Workshops
ATTACH;FMTTYPE=image/png:https://www.kernfoundation.org/wp-content/uploads/2024/08/Untitled-design-1-1.png
ORGANIZER;CN="Kern Alliance of Nonprofits":MAILTO:andraeg3000@gmail.com
END:VEVENT
END:VCALENDAR