BEGIN:VCALENDAR
VERSION:2.0
PRODID:-//Kern Community Foundation - ECPv6.15.16.1//NONSGML v1.0//EN
CALSCALE:GREGORIAN
METHOD:PUBLISH
X-ORIGINAL-URL:https://www.kernfoundation.org
X-WR-CALDESC:Events for Kern Community Foundation
REFRESH-INTERVAL;VALUE=DURATION:PT1H
X-Robots-Tag:noindex
X-PUBLISHED-TTL:PT1H
BEGIN:VTIMEZONE
TZID:America/Los_Angeles
BEGIN:DAYLIGHT
TZOFFSETFROM:-0800
TZOFFSETTO:-0700
TZNAME:PDT
DTSTART:20230312T100000
END:DAYLIGHT
BEGIN:STANDARD
TZOFFSETFROM:-0700
TZOFFSETTO:-0800
TZNAME:PST
DTSTART:20231105T090000
END:STANDARD
BEGIN:DAYLIGHT
TZOFFSETFROM:-0800
TZOFFSETTO:-0700
TZNAME:PDT
DTSTART:20240310T100000
END:DAYLIGHT
BEGIN:STANDARD
TZOFFSETFROM:-0700
TZOFFSETTO:-0800
TZNAME:PST
DTSTART:20241103T090000
END:STANDARD
BEGIN:DAYLIGHT
TZOFFSETFROM:-0800
TZOFFSETTO:-0700
TZNAME:PDT
DTSTART:20250309T100000
END:DAYLIGHT
BEGIN:STANDARD
TZOFFSETFROM:-0700
TZOFFSETTO:-0800
TZNAME:PST
DTSTART:20251102T090000
END:STANDARD
END:VTIMEZONE
BEGIN:VEVENT
DTSTART;TZID=America/Los_Angeles:20240216T083000
DTEND;TZID=America/Los_Angeles:20240216T100000
DTSTAMP:20260421T161940
CREATED:20230826T011836Z
LAST-MODIFIED:20230826T011836Z
UID:8898-1708072200-1708077600@www.kernfoundation.org
SUMMARY:Kern Alliance of Nonprofits (KAN): The Art of Having Difficult Conversations
DESCRIPTION:Kern Alliance of Nonprofits February 2024 Training\nKAN Training: The Art of Having Difficult Conversations\nThe Kern Alliance of Nonprofits (KAN) is hosting nonprofit trainings. Launched in 2016 by a small group of local nonprofit leaders who care deeply about building the capacity of nonprofit organizations in Kern County. They provide monthly educational workshops on various aspects of nonprofit work taught by qualified leaders\, and quarterly social mixers designed to bring community-based organizations and their partners and supporters together for strategic networking. \nDate: February 16\, 2024\nLocation: KCSOS City Center\, Rm 1B 1300 17th Street\n*Training dates\, locations\, and topics are tentative and subject to change\nAll trainings will be from 8:30 – 10:00 a.m.\, with check-in at 8 a.m. \nTrainings will also be available on Zoom. Link will be sent upon registration. \nInterested in becoming a member? Click (HERE) and submit your membership form today!  \nThe Steering Committee meets monthly to guide the Alliance’s work in the areas of strategic planning\, education and nonprofit leadership development\, communications and outreach\, advocacy\, membership\, and more. \nTheir mission was…To strengthen the Community Benefit Organizations of Kern County. Following a process that involved stakeholder feedback and strategic planning in the Spring of 2019\, the new mission is…To strengthen the Nonprofit Organizations of Kern County through training\, networking\, and advocacy.  \nInterested in becoming a member of KAN? Click (HERE) and submit your membership form today!  \nKAN’s Vision is…To create a strong community benefit sector that plays a vital role in a healthy\, prosperous and vibrant Kern County. \nStay up to date on news and events by subscribing to our email list or visiting us on social media:\nFacebook and Instagram @kernallianceofnonprofits \n 
URL:https://www.kernfoundation.org/event/kern-alliance-of-nonprofits-kan-the-art-of-having-difficult-conversations/
LOCATION:City Centre\, 1300 17th Street Rm 1A\, Bakersfield\, CA\, 93301\, United States
CATEGORIES:Community Events,KAN Events,Training,Training
ATTACH;FMTTYPE=image/png:https://www.kernfoundation.org/wp-content/uploads/2023/01/KAN-logo-1.png
ORGANIZER;CN="Kern Alliance of Nonprofits":MAILTO:andraeg3000@gmail.com
END:VEVENT
END:VCALENDAR