BEGIN:VCALENDAR
VERSION:2.0
PRODID:-//Kern Community Foundation - ECPv6.15.16.1//NONSGML v1.0//EN
CALSCALE:GREGORIAN
METHOD:PUBLISH
X-ORIGINAL-URL:https://www.kernfoundation.org
X-WR-CALDESC:Events for Kern Community Foundation
REFRESH-INTERVAL;VALUE=DURATION:PT1H
X-Robots-Tag:noindex
X-PUBLISHED-TTL:PT1H
BEGIN:VTIMEZONE
TZID:America/Los_Angeles
BEGIN:DAYLIGHT
TZOFFSETFROM:-0800
TZOFFSETTO:-0700
TZNAME:PDT
DTSTART:20250309T100000
END:DAYLIGHT
BEGIN:STANDARD
TZOFFSETFROM:-0700
TZOFFSETTO:-0800
TZNAME:PST
DTSTART:20251102T090000
END:STANDARD
BEGIN:DAYLIGHT
TZOFFSETFROM:-0800
TZOFFSETTO:-0700
TZNAME:PDT
DTSTART:20260308T100000
END:DAYLIGHT
BEGIN:STANDARD
TZOFFSETFROM:-0700
TZOFFSETTO:-0800
TZNAME:PST
DTSTART:20261101T090000
END:STANDARD
BEGIN:DAYLIGHT
TZOFFSETFROM:-0800
TZOFFSETTO:-0700
TZNAME:PDT
DTSTART:20270314T100000
END:DAYLIGHT
BEGIN:STANDARD
TZOFFSETFROM:-0700
TZOFFSETTO:-0800
TZNAME:PST
DTSTART:20271107T090000
END:STANDARD
END:VTIMEZONE
BEGIN:VEVENT
DTSTART;TZID=America/Los_Angeles:20260201T123000
DTEND;TZID=America/Los_Angeles:20260201T143000
DTSTAMP:20260421T222546
CREATED:20260122T192746Z
LAST-MODIFIED:20260122T192810Z
UID:12714-1769949000-1769956200@www.kernfoundation.org
SUMMARY:Bakersfield Senior Center - First Sunday Gospel Brunch
DESCRIPTION:Bakersfield Senior Center – First Sunday Gospel Brunch \nJoin BCS every first Sunday as they celebrate faith\, joy\, and community. \n530 4th St. Bakersfield\, CA \n12:30 PM – 2:30 PM \nRSVP: Call BSC 661-325-1113 or email info@bakersfieldseniorcenter.org \n 
URL:https://www.kernfoundation.org/event/bakersfield-senior-center-first-sunday-gospel-brunch/
LOCATION:Bakersfield Senior Center\, Inc.\, 530 4th St\, Bakersfield\, 93304\, United States
CATEGORIES:Community Events,Fundraiser
END:VEVENT
END:VCALENDAR