BEGIN:VCALENDAR
VERSION:2.0
PRODID:-//Kern Community Foundation - ECPv6.15.16.1//NONSGML v1.0//EN
CALSCALE:GREGORIAN
METHOD:PUBLISH
X-ORIGINAL-URL:https://www.kernfoundation.org
X-WR-CALDESC:Events for Kern Community Foundation
REFRESH-INTERVAL;VALUE=DURATION:PT1H
X-Robots-Tag:noindex
X-PUBLISHED-TTL:PT1H
BEGIN:VTIMEZONE
TZID:America/Los_Angeles
BEGIN:DAYLIGHT
TZOFFSETFROM:-0800
TZOFFSETTO:-0700
TZNAME:PDT
DTSTART:20240310T100000
END:DAYLIGHT
BEGIN:STANDARD
TZOFFSETFROM:-0700
TZOFFSETTO:-0800
TZNAME:PST
DTSTART:20241103T090000
END:STANDARD
BEGIN:DAYLIGHT
TZOFFSETFROM:-0800
TZOFFSETTO:-0700
TZNAME:PDT
DTSTART:20250309T100000
END:DAYLIGHT
BEGIN:STANDARD
TZOFFSETFROM:-0700
TZOFFSETTO:-0800
TZNAME:PST
DTSTART:20251102T090000
END:STANDARD
BEGIN:DAYLIGHT
TZOFFSETFROM:-0800
TZOFFSETTO:-0700
TZNAME:PDT
DTSTART:20260308T100000
END:DAYLIGHT
BEGIN:STANDARD
TZOFFSETFROM:-0700
TZOFFSETTO:-0800
TZNAME:PST
DTSTART:20261101T090000
END:STANDARD
END:VTIMEZONE
BEGIN:VEVENT
DTSTART;TZID=America/Los_Angeles:20250913T180000
DTEND;TZID=America/Los_Angeles:20250913T210000
DTSTAMP:20260422T053612
CREATED:20250805T160358Z
LAST-MODIFIED:20250822T185657Z
UID:11885-1757786400-1757797200@www.kernfoundation.org
SUMMARY:Monte Carlo Night - Bakersfield Senior Center
DESCRIPTION:Hosted by the Bakersfield Senior Center\n\nYou’re invited to an exciting evening of fun and fundraising at the Monte Carlo Night\, the signature senior center fundraiser hosted by the Bakersfield Senior Center. This impactful nonprofit event in Kern County supports essential programs and services for local seniors—especially low-income\, underserved\, and veteran populations. All proceeds help support senior programs that promote wellness\, social connection\, and lifelong learning in our community. \nSupport this great cause while gaining valuable community exposure in Kern County. Sponsorship benefits include: \n\nRecognition in event materials\, signage\, and social media\nComplimentary tickets and VIP perks\nOpportunities to showcase your brand to corporate\, nonprofit\, and civic leaders\n\n Guests will enjoy a lively casino-themed fundraiser featuring: \n\nDelicious hors d’oeuvres\nCash bar\nMusic and dancing\n\nJoin us for this exciting opportunity to make a lasting impact on the lives of local seniors! \nSecure your Monte Carlo Night Bakersfield Senior Center sponsorship or table today! CLICK HERE
URL:https://www.kernfoundation.org/event/monet-carlo-night-bsc-kern-county-senior-center-bakersfield/
LOCATION:Bakersfield Senior Center\, Inc.\, 530 4th St\, Bakersfield\, 93304\, United States
CATEGORIES:Community Events,Fundraiser
ATTACH;FMTTYPE=image/png:https://www.kernfoundation.org/wp-content/uploads/2025/08/Untitled-design-5-e1755887461268.png
END:VEVENT
END:VCALENDAR