BEGIN:VCALENDAR
VERSION:2.0
PRODID:-//Kern Community Foundation - ECPv6.15.16.1//NONSGML v1.0//EN
CALSCALE:GREGORIAN
METHOD:PUBLISH
X-ORIGINAL-URL:https://www.kernfoundation.org
X-WR-CALDESC:Events for Kern Community Foundation
REFRESH-INTERVAL;VALUE=DURATION:PT1H
X-Robots-Tag:noindex
X-PUBLISHED-TTL:PT1H
BEGIN:VTIMEZONE
TZID:America/Los_Angeles
BEGIN:DAYLIGHT
TZOFFSETFROM:-0800
TZOFFSETTO:-0700
TZNAME:PDT
DTSTART:20250309T100000
END:DAYLIGHT
BEGIN:STANDARD
TZOFFSETFROM:-0700
TZOFFSETTO:-0800
TZNAME:PST
DTSTART:20251102T090000
END:STANDARD
BEGIN:DAYLIGHT
TZOFFSETFROM:-0800
TZOFFSETTO:-0700
TZNAME:PDT
DTSTART:20260308T100000
END:DAYLIGHT
BEGIN:STANDARD
TZOFFSETFROM:-0700
TZOFFSETTO:-0800
TZNAME:PST
DTSTART:20261101T090000
END:STANDARD
BEGIN:DAYLIGHT
TZOFFSETFROM:-0800
TZOFFSETTO:-0700
TZNAME:PDT
DTSTART:20270314T100000
END:DAYLIGHT
BEGIN:STANDARD
TZOFFSETFROM:-0700
TZOFFSETTO:-0800
TZNAME:PST
DTSTART:20271107T090000
END:STANDARD
END:VTIMEZONE
BEGIN:VEVENT
DTSTART;TZID=America/Los_Angeles:20260503T130000
DTEND;TZID=America/Los_Angeles:20260503T170000
DTSTAMP:20260419T134534
CREATED:20260416T211823Z
LAST-MODIFIED:20260416T211823Z
UID:13096-1777813200-1777827600@www.kernfoundation.org
SUMMARY:Keepers Transformation House Family Fun Day
DESCRIPTION:Keepers Transformation House is hosting the Keepers Family Fun Day this spring. The organization provides specific programs to help individuals build stability and restoration. They focus on restoring and empowering women in Christ. Their main goal is guiding people toward a brighter future through structured support. Attending this local gathering is a clear way to offer community support while enjoying an afternoon of entertainment. Every admission purchased helps the house continue its daily operations and expand its reach. The funds raised will directly benefit the programs offered by the transformation house. \nActivities at the Keepers Family Fun Day\nThe upcoming event takes place on Sunday May 3 2026. The doors will open for guests at 1 PM and the activities will conclude at 5 PM. The gathering is located at the BLVD. The address for the BLVD is 3200 Buck Owens Blvd in Bakersfield California. Guests will find plenty of space to socialize and participate in the planned activities. The venue offers a comfortable environment that is perfect for groups to gather and spend time together. \nWristbands and Included Entertainment Options\nGuests can purchase admission wristbands for 60 dollars per person or per child. This wristband provides access to multiple activities throughout the entire afternoon. Each registered guest receives two slices of pizza and one drink to enjoy. The venue provides five rotating bowling lanes for attendees to use during the event. Visitors also get unlimited arcade play. The arcade uses a non redemption card system. This means players can enjoy unlimited games but no prize tickets or reward credits will be issued from the machines. \nCorporate Sponsor Packages and Registration\nBusinesses and local groups can also participate through corporate sponsor packages. These options allow employers to give their staff members and their families a day to connect and have fun. The first option provides twenty five wristbands for a total of 1250 dollars. The second option provides fifty wristbands for a total of 2250 dollars. All corporate sponsor logos will be displayed on digital signage throughout the BLVD facility. This offers visible recognition for supporting the cause. Please scan the QR code on the official flyer to secure your registration or purchase a sponsorship package.
URL:https://www.kernfoundation.org/event/keepers_transformation_house_family_fun_day_2026/
LOCATION:The BLVD\, 3200 Buck Owens Blvd\, Bakersfield
CATEGORIES:Community Events
ATTACH;FMTTYPE=image/jpeg:https://www.kernfoundation.org/wp-content/uploads/2026/04/Keepers-Family-Fun-Day-e1776373748824.jpg
ORGANIZER;CN="Keepers Trasnformation House":MAILTO:info@keeperstransformationhouse.org
END:VEVENT
BEGIN:VEVENT
DTSTART;VALUE=DATE:20260505
DTEND;VALUE=DATE:20260506
DTSTAMP:20260419T134534
CREATED:20251228T024259Z
LAST-MODIFIED:20251228T024507Z
UID:12581-1777939200-1778025599@www.kernfoundation.org
SUMMARY:Give Big Kern 2026 - Celebrate Kern County's Official Giving Day!
DESCRIPTION:Give Big Kern 2026\nGBK 2026 will take place on May 5\, 2026!\nGive Big Kern has raised over millions of dollars from thousands of donors for hundreds of local nonprofit organizations. Every year since 2016\, Kern Community Foundation has hosted GBK to help local nonprofit organizations raise money and volunteer hours. GBK is a month-long event of community engagement in giving and volunteering that leads up to the first Tuesday in May. GBK is part of Kern Community Foundation’s Nonprofit Strengthening strategic initiative. The initiative increases visibility\, builds capacity\, and improves sustainability for local nonprofits. The effort shines a light on hard-working local nonprofits\, empowering them to advance their marketing and development capabilities\, and donor\, board and volunteer engagement while encouraging networking and collaboration among nonprofit organizations across the sector. GBK would not have been possible without the support of our sponsors. Nonprofits participate in GBK at no cost. Marketing materials\, event fees\, online platform\, and training are provided through our generous sponsors. \nInterested in a sponsoring\, please contact info@kernfoundation.org. \nOther GBK 2026 Events\nPress Conference – April 14\, 2026\n3rd Annual Give Big at the Park: Nonprofit Meet & Greet – April 18\, 2026\nLiberty Bell & Watch Party – May 5\, 2026 \n \n 
URL:https://www.kernfoundation.org/event/gbk2026/
LOCATION:CA
CATEGORIES:Community Events,Fundraiser,Fundraiser,Nonprofit Strengthening,Other
ATTACH;FMTTYPE=image/png:https://www.kernfoundation.org/wp-content/uploads/2025/12/give-big-kern-logo-2026_small.png
ORGANIZER;CN="Kern Community Foundation":MAILTO:info@kernfoundation.org
END:VEVENT
BEGIN:VEVENT
DTSTART;VALUE=DATE:20260518
DTEND;VALUE=DATE:20260519
DTSTAMP:20260419T134534
CREATED:20260416T212722Z
LAST-MODIFIED:20260416T212722Z
UID:13106-1779062400-1779148799@www.kernfoundation.org
SUMMARY:Tee Off for Transformation
DESCRIPTION:Keepers Transformation House is hosting the Tee Off for Transformation this May. The tournament provides a way for community members to gather and play a full round of golf. The event helps raise funds to support local programs that build stability for individuals. Attending this gathering is a clear way to offer community support while enjoying a beautiful day outside. Every registration purchased helps Keepers Transformation House continue its daily operations and expand its reach in the local area. The funds raised will directly benefit the programs offered to those in need. This financial support makes a big difference for people who rely on vital community resources. \nTee Off for Transformation Schedule and Location\nThe upcoming tournament takes place on Monday May 18 2026. The gathering is located at Sundale Golf Course in Bakersfield California. Guests will find plenty of space to socialize and participate in the planned activities. The venue offers a beautiful outdoor environment that is perfect for groups to gather and spend time together. Everyone is welcome to attend and enjoy the games. Players of all skill levels can register and have fun on the course while supporting a good cause. \nRegistration for the Golf Tournament\nRegistration is currently open for all interested participants. The cost for a single player is 175 dollars. The cost for a full team of four players is 700 dollars. This registration provides access to the course and the planned activities for the day. Gathering a team of four is a great way to spend the day with friends or coworkers. You can scan the QR code on the official flyer to complete your registration quickly and easily. Early registration ensures your spot on the green. \nSponsorship Opportunities and Contact Information\nBusinesses and local groups can also participate through various sponsorship opportunities. These options allow employers to give their staff members a day to connect and have fun while supporting a good cause. Sponsoring the tournament offers visible recognition for your business in the community. If you are interested in becoming a sponsor you can reach out directly to the organizers. Please call 661 582 0288 to learn more about the available sponsorship packages. You can also call that number if you have any questions about the tournament schedule or rules.
URL:https://www.kernfoundation.org/event/tee_off_for_transformation_2026/
LOCATION:Sundale Golf Course\, 6218 Sundale Ave\, Bakersfield\, CA\, 93309\, United States
CATEGORIES:Community Events
ATTACH;FMTTYPE=image/png:https://www.kernfoundation.org/wp-content/uploads/2026/04/Tee-Off-for-Transformation-e1776374687475.png
ORGANIZER;CN="Keepers Trasnformation House":MAILTO:info@keeperstransformationhouse.org
END:VEVENT
END:VCALENDAR