BEGIN:VCALENDAR
VERSION:2.0
PRODID:-//Kern Community Foundation - ECPv6.15.16.1//NONSGML v1.0//EN
CALSCALE:GREGORIAN
METHOD:PUBLISH
X-ORIGINAL-URL:https://www.kernfoundation.org
X-WR-CALDESC:Events for Kern Community Foundation
REFRESH-INTERVAL;VALUE=DURATION:PT1H
X-Robots-Tag:noindex
X-PUBLISHED-TTL:PT1H
BEGIN:VTIMEZONE
TZID:America/Los_Angeles
BEGIN:DAYLIGHT
TZOFFSETFROM:-0800
TZOFFSETTO:-0700
TZNAME:PDT
DTSTART:20250309T100000
END:DAYLIGHT
BEGIN:STANDARD
TZOFFSETFROM:-0700
TZOFFSETTO:-0800
TZNAME:PST
DTSTART:20251102T090000
END:STANDARD
BEGIN:DAYLIGHT
TZOFFSETFROM:-0800
TZOFFSETTO:-0700
TZNAME:PDT
DTSTART:20260308T100000
END:DAYLIGHT
BEGIN:STANDARD
TZOFFSETFROM:-0700
TZOFFSETTO:-0800
TZNAME:PST
DTSTART:20261101T090000
END:STANDARD
BEGIN:DAYLIGHT
TZOFFSETFROM:-0800
TZOFFSETTO:-0700
TZNAME:PDT
DTSTART:20270314T100000
END:DAYLIGHT
BEGIN:STANDARD
TZOFFSETFROM:-0700
TZOFFSETTO:-0800
TZNAME:PST
DTSTART:20271107T090000
END:STANDARD
END:VTIMEZONE
BEGIN:VEVENT
DTSTART;TZID=America/Los_Angeles:20260116T080000
DTEND;TZID=America/Los_Angeles:20260116T220000
DTSTAMP:20260419T162946
CREATED:20251226T230234Z
LAST-MODIFIED:20251226T230302Z
UID:12578-1768550400-1768600800@www.kernfoundation.org
SUMMARY:KAN January Workshop
DESCRIPTION:Candid Directory \n\nThe Kern Alliance of Nonprofits (KAN) kicks off its 2026 training series with its January Workshop. Following the ongoing search for nonprofit funding\, this session will take a deeper dive into one of the most comprehensive tools in grant seeking — Candid’s Foundation Directory. \nLed by Teems Tulfo\, Chief Impact Officer at Kern Community Foundation\, this workshop will walk participants through the steps to utilize this tool\, which features over 239\,000 grantmaker profiles. Teems will explain how the Directory works to help organizations find new funding opportunities and how local nonprofits can access it at Kern Community Foundation. \nWorkshop Details: \n\nDate: Friday\, January 16th\, 2025\nTime: 8:00 AM – 9:45 AM (Program begins at 8:30)\nLocation: KCSOS City Centre\, Room 1B – 1300 17th Street\, Bakersfield\, CA\n\nReserve your spot through the RSVP Google Form: CLICK HERE \nThis workshop is part of the KAN 2026-27 Training Calendar\, offering valuable sessions for local nonprofits. Future topics include foundation resources\, nonprofit management\, and more. Full calendar coming soon.
URL:https://www.kernfoundation.org/event/kan-jan-workshop/
LOCATION:KCSOS City Centre\, 1300 17th St\, Bakersfield\, CA\, 93301\, United States
CATEGORIES:Community Events,KAN Events,Nonprofit Strengthening,Training,Workshops
ATTACH;FMTTYPE=image/png:https://www.kernfoundation.org/wp-content/uploads/2020/05/KAN-logo.png
ORGANIZER;CN="Kern Alliance of Nonprofits":MAILTO:andraeg3000@gmail.com
END:VEVENT
BEGIN:VEVENT
DTSTART;TZID=America/Los_Angeles:20260121T060000
DTEND;TZID=America/Los_Angeles:20260121T100000
DTSTAMP:20260419T162946
CREATED:20260108T000356Z
LAST-MODIFIED:20260108T000524Z
UID:12623-1768975200-1768989600@www.kernfoundation.org
SUMMARY:Support the Mission: 2026 ADAKC Cinnamon Roll Drive
DESCRIPTION:The Alzheimer’s Disease Association of Kern County (ADAKC) is hosting its annual Cinnamon Roll Drive on Wednesday\, January 21\, 2026. They invite the community to support their mission while enjoying a hot tin of Hodel’s Cinnamon Rolls. \n\nEvent Highlights: \n\nDelicious Tradition: Enjoy a fresh\, hot tin of Hodel’s Country Dining cinnamon rolls.\nEarly Start: The event begins at 6:00 am and runs until sold out\, so arriving early is recommended.\nSupporting the Cause: All proceeds go directly to ADAKC to support local families affected by Alzheimer’s disease and related dementias.\n\nImportant Information: A $20 donation is requested per tin. If you want to ensure you don’t miss out\, you can pre-order your rolls today by calling 661-665-8871. For more information and to stay up to date with our community events\, please visit our Community Calendar. \nLocation: Compassion Corner\, 2120 L Street\, Bakersfield\, CA.
URL:https://www.kernfoundation.org/event/adakc-cinnamon-roll-drive-2026/
LOCATION:Compassion Corner\, 2120 L Street\, Bakesfield\, 93301
CATEGORIES:Community Events
ATTACH;FMTTYPE=image/jpeg:https://www.kernfoundation.org/wp-content/uploads/2026/01/CRD-2026-Flyer-e1767828989969.jpg
END:VEVENT
BEGIN:VEVENT
DTSTART;TZID=America/Los_Angeles:20260131T140000
DTEND;TZID=America/Los_Angeles:20260131T170000
DTSTAMP:20260419T162946
CREATED:20260121T235204Z
LAST-MODIFIED:20260121T235204Z
UID:12703-1769868000-1769878800@www.kernfoundation.org
SUMMARY:Celebrating One Year of KRV Bridge Connection
DESCRIPTION:The KRV Bridge Connection invites you to a special community event on January 31\, 2026. This gathering celebrates two big milestones for our area. First\, KRV Bridge Connection will host its official ribbon cutting. Next\, we are celebrating KRV Bridge Connection’s One-Year Anniversary. We invite everyone in Kern County to join us at 2:00 PM. It will be a great afternoon to meet people and share our thanks. \nMission and Gratitude The KRV Bridge Connection mission focuses on building a stronger and more connected neighborhood. This celebration is our way to say thank you to the volunteers\, partners\, and neighbors who worked so hard this past year. Your support helped create a safe space where people can find the help they need. The KRV Bridge Connection mission grows every day because of you. \nWhat to Expect The celebration is at 6069 Lake Isabella Blvd\, Lake Isabella\, CA 93240. We have a great afternoon planned for you. To start\, leaders will talk about the KRV Bridge Connection mission and our progress. Then\, the organization will hold the official ribbon cutting ceremony. Afterward\, please stay to enjoy some refreshments and get to know your neighbors. We want everyone to feel welcome! \nLooking Toward the Future We encourage everyone to visit the KRV Bridge Connection website to learn more about our mission and ongoing work. Building a strong community is a team effort\, and we are proud of what we have done together in just one year. Whether you have supported us from the start or are visiting for the first time from across Kern County\, we look forward to seeing you there. \nEvent Summary \n\nDate: January 31\, 2026\nTime: 2:00 PM\nLocation: 6069 Lake Isabella Blvd\, Lake Isabella\, CA 93240\nOfficial Website: krvbridge.org
URL:https://www.kernfoundation.org/event/celebrating-one-year-of-krv-bridge-connection/
LOCATION:6069 Lake Isabella Blvd.\, 6069 Lake Isabella Blvd.
CATEGORIES:Community Events
ATTACH;FMTTYPE=image/jpeg:https://www.kernfoundation.org/wp-content/uploads/2026/01/KRV-Bridge-Conection-e1769031192279.jpg
END:VEVENT
END:VCALENDAR