BEGIN:VCALENDAR
VERSION:2.0
PRODID:-//Kern Community Foundation - ECPv6.15.16.1//NONSGML v1.0//EN
CALSCALE:GREGORIAN
METHOD:PUBLISH
X-ORIGINAL-URL:https://www.kernfoundation.org
X-WR-CALDESC:Events for Kern Community Foundation
REFRESH-INTERVAL;VALUE=DURATION:PT1H
X-Robots-Tag:noindex
X-PUBLISHED-TTL:PT1H
BEGIN:VTIMEZONE
TZID:America/Los_Angeles
BEGIN:DAYLIGHT
TZOFFSETFROM:-0800
TZOFFSETTO:-0700
TZNAME:PDT
DTSTART:20240310T100000
END:DAYLIGHT
BEGIN:STANDARD
TZOFFSETFROM:-0700
TZOFFSETTO:-0800
TZNAME:PST
DTSTART:20241103T090000
END:STANDARD
BEGIN:DAYLIGHT
TZOFFSETFROM:-0800
TZOFFSETTO:-0700
TZNAME:PDT
DTSTART:20250309T100000
END:DAYLIGHT
BEGIN:STANDARD
TZOFFSETFROM:-0700
TZOFFSETTO:-0800
TZNAME:PST
DTSTART:20251102T090000
END:STANDARD
BEGIN:DAYLIGHT
TZOFFSETFROM:-0800
TZOFFSETTO:-0700
TZNAME:PDT
DTSTART:20260308T100000
END:DAYLIGHT
BEGIN:STANDARD
TZOFFSETFROM:-0700
TZOFFSETTO:-0800
TZNAME:PST
DTSTART:20261101T090000
END:STANDARD
END:VTIMEZONE
BEGIN:VEVENT
DTSTART;TZID=America/Los_Angeles:20251004T083000
DTEND;TZID=America/Los_Angeles:20251004T113000
DTSTAMP:20260419T205717
CREATED:20250902T155149Z
LAST-MODIFIED:20250902T155149Z
UID:12014-1759566600-1759577400@www.kernfoundation.org
SUMMARY:Lace'n It Up Bakersfield 2025 | Links for Life
DESCRIPTION:Lace’n It Up 5K Run/Walk & 1K Celebration Walk takes place on Saturday\, October 4\, 2025\, at 8:30 AM at The Park at Riverwalk in Bakersfield\, CA. Hosted by Links for Life\, this annual event supports breast cancer awareness\, education\, and survivorship programs across Kern County. \nEvent highlights include: \n\n5K Run/Walk & 1K Celebration Walk\nFinisher medals for all participants\nVendor fair and food trucks\nSurvivor Honor Station\nAwards by age group\n\nLace’n It Up Bakersfield 2025 Details: \n\nDate & Time: Saturday\, October 4\, 2025 | 8:30 AM\nLocation: The Park at Riverwalk\, Bakersfield\, CA\nRegistration & Info: (CLICK HERE)
URL:https://www.kernfoundation.org/event/lacen-it-up-bakersfield-2025-kern-county-bakersfield-ca/
LOCATION:The Park at Riverwalk\, 11298 Stockdale Hwy\, Bakersfield\, CA\, 93311
CATEGORIES:Community Events
ATTACH;FMTTYPE=image/png:https://www.kernfoundation.org/wp-content/uploads/2025/09/liu-flyer-POSTER-FINAL-Copy-e1756828261169.png
ORGANIZER;CN="Links for Life":MAILTO:s
END:VEVENT
BEGIN:VEVENT
DTSTART;TZID=America/Los_Angeles:20251007T180000
DTEND;TZID=America/Los_Angeles:20251007T220000
DTSTAMP:20260419T205717
CREATED:20250923T164031Z
LAST-MODIFIED:20250923T164031Z
UID:12094-1759860000-1759874400@www.kernfoundation.org
SUMMARY:National Night Out Lake Isabella – Celebrate Local First Responders
DESCRIPTION:National Night Out Lake Isabella 2025 is your chance to celebrate community\, connect with neighbors\, and show appreciation for our dedicated first responders.\n\nJoin us on Tuesday\, October 7th at 6:00 PM at the KRV Bridge Connection\, 6069 Lake Isabella Blvd. This annual community celebration honors local law enforcement and first responders while bringing neighbors together for an evening of connection and fun. \nEnjoy live music\, delicious offerings from local food vendors\, and games and prizes for all ages. It’s a family-friendly event designed to strengthen the bond between residents and public safety teams\, fostering a safer and more united community. \nHosted in partnership with Neighbor to Neighbor\, KRV Bridge Connection\, and the Lake Isabella & Bodfish Property Owner’s Association\, this event is free and open to all. \n\nLocation: KRV Bridge Connection\nDate: Tuesday\, October 7\, 2025\nTime: 6:00 PM\n\nWant more details or to RSVP? Check out the full event info here: National Night Out Lake Isabella on All Events
URL:https://www.kernfoundation.org/event/national-night-out-lake-isabella-2025/
LOCATION:6069 Lake Isabella Blvd.\, 6069 Lake Isabella Blvd.
CATEGORIES:Community Events
ATTACH;FMTTYPE=image/jpeg:https://www.kernfoundation.org/wp-content/uploads/2025/09/2025-National-Night-Out-Portrait-e1758644046531.jpeg
END:VEVENT
BEGIN:VEVENT
DTSTART;VALUE=DATE:20251008
DTEND;VALUE=DATE:20251009
DTSTAMP:20260419T205717
CREATED:20250523T173056Z
LAST-MODIFIED:20250523T181205Z
UID:11668-1759881600-1759967999@www.kernfoundation.org
SUMMARY:Two Trees: Real Rural Talk
DESCRIPTION:Join Us for Two Trees: Real Rural TalkWhere Community\, Connection\, and Mental Health Meet \nCome be part of an open\, rural-centered discussion on mental health challenges in our community. Two Trees: Real Rural Talk offers a safe\, welcoming space to explore real-life issues and practical tools that strengthen relationships and build community resilience. \nWhat to Expect \n\nConversations on mental health through a rural lens\nReal tools to improve connection and well-being\nCommunity potluck\n\nLocation4005 Erskine Creek RdLake Isabella\, CA 93240Park in dirt by the fence – please close the fence behind you. \nFor more info or to RSVP:Call or Text: 760-614-1157 \nFree and open to all. Let’s talk real\, rural\, and together!
URL:https://www.kernfoundation.org/event/two-trees-real-rural-talk-10/
LOCATION:River Sage Revival\, 4005 Erskine Creek Rd\, Lake Isabella\, CA\, 93240\, United States
CATEGORIES:Community Events
ATTACH;FMTTYPE=image/png:https://www.kernfoundation.org/wp-content/uploads/2025/05/11-e1748017705565.png
END:VEVENT
BEGIN:VEVENT
DTSTART;TZID=America/Los_Angeles:20251011T090000
DTEND;TZID=America/Los_Angeles:20251011T130000
DTSTAMP:20260419T205717
CREATED:20250709T175356Z
LAST-MODIFIED:20250709T175357Z
UID:11812-1760173200-1760187600@www.kernfoundation.org
SUMMARY:H.E.A.R.T.S. Connection - Buddy Walk 2025
DESCRIPTION:The H.E.A.R.T.S. Connection invites you and your family to a joyful day of community\, celebration\, and support at the Heroes 4 H.E.A.R.T.S. Walk & Buddy Walk.\n\nHonor and support individuals with special needs while raising awareness and resources for families in our community.\n Event Highlights:\n\nFun Zone for the Kids\nLive Entertainment by local performers\nResource Fair & Local Vendors\nDelicious Food (available for purchase)\nContests & Raffles with exciting prizes\nFamily Activities to enjoy together\n\nCreate a team\, bring your friends\, and enjoy a day full of laughter\, excitement\, and unforgettable memories. Don’t miss this incredible opportunity to connect\, give back\, and have fun!\n👉 Learn more or register at: www.heartsfrc.org📞 Contact us: 661-301-8118
URL:https://www.kernfoundation.org/event/h-e-a-r-t-s-connection-buddy-walk-2025/
LOCATION:The Park at Riverwalk\, 11298 Stockdale Hwy\, Bakersfield\, CA\, 93311
CATEGORIES:Community Events
ATTACH;FMTTYPE=image/png:https://www.kernfoundation.org/wp-content/uploads/2025/07/Heroes-2025-1-e1752082556972.png
ORGANIZER;CN="H.E.A.R.T.S. Connection":MAILTO:susan_graham@heartsfrc.org
END:VEVENT
BEGIN:VEVENT
DTSTART;TZID=America/Los_Angeles:20251013T113000
DTEND;TZID=America/Los_Angeles:20251013T170000
DTSTAMP:20260419T205717
CREATED:20250624T174905Z
LAST-MODIFIED:20250624T174905Z
UID:11766-1760355000-1760374800@www.kernfoundation.org
SUMMARY:Bakersfield ARC - ANNUAL GOLF TOURNAMENT
DESCRIPTION:Join the Bakersfield ARC Annual Golf Tournament on Monday\, October 13\, 2025\, at the beautiful Bakersfield Country Club!\n\nStart your day with a 9:00 AM arrival for warm-up and breakfast\, followed by an 11:30 AM shotgun start. This exciting philanthropic event offers a unique opportunity for local businesses\, community leaders\, and supporters to come together for a great cause—supporting individuals with intellectual and developmental disabilities.\nAs the leading provider of services for individuals with disabilities in our community\, Bakersfield ARC depends on generous partners like you to continue expanding inclusive opportunities and essential support.\nLocation:Bakersfield Country Club4200 Country Club Drive\, Bakersfield\, CA 93306\nTo sponsor the event or register a team\, please contact:\nErika Dixon📞 Call or text: 661-932-0215📧 Email: edixon@bakersfieldarc.org🌐 www.bakersfieldarc.org\nLet’s tee off for a cause that uplifts and empowers lives—your support makes the difference!
URL:https://www.kernfoundation.org/event/bakersfield-arc-annual-golf-tournament-2/
LOCATION:Bakersfield Country Club\, 4200 Country Club\, Bakersfield\, CA\, 93306\, United States
CATEGORIES:Community Events
ATTACH;FMTTYPE=image/png:https://www.kernfoundation.org/wp-content/uploads/2025/06/Untitled-design-e1750787241802.png
END:VEVENT
BEGIN:VEVENT
DTSTART;VALUE=DATE:20251018
DTEND;VALUE=DATE:20251019
DTSTAMP:20260419T205717
CREATED:20250507T231021Z
LAST-MODIFIED:20250507T231021Z
UID:11618-1760745600-1760831999@www.kernfoundation.org
SUMMARY:Stargazing Hike at Mesquite Grove Trail
DESCRIPTION:Experience a peaceful evening under the stars with The Wildlands Conservancy on a guided hike through the scenic Mesquite Grove Trail. Take in twilight views and spot local wildlife on this unique stargazing adventure. \nFree with reservation. Opens two weeks before the event. Scan QR code for details and sign-up.
URL:https://www.kernfoundation.org/event/stargazing-hike-at-mesquite-grove-trail/
LOCATION:Wind Wolves Preserve\, 16019 Hwy 166\, Bakersfield\, CA\, 93311\, United States
CATEGORIES:Community Events
ATTACH;FMTTYPE=image/png:https://www.kernfoundation.org/wp-content/uploads/2025/05/Untitled-design.png
ORGANIZER;CN="The Wildlands Conservancy - Wind Wolves Preserve":MAILTO:windwolvespreserve@wildlandsconservancy.org
END:VEVENT
BEGIN:VEVENT
DTSTART;VALUE=DATE:20251022
DTEND;VALUE=DATE:20251023
DTSTAMP:20260419T205717
CREATED:20250523T173227Z
LAST-MODIFIED:20250523T181123Z
UID:11672-1761091200-1761177599@www.kernfoundation.org
SUMMARY:Two Trees: Real Rural Talk
DESCRIPTION:Join Us for Two Trees: Real Rural TalkWhere Community\, Connection\, and Mental Health Meet \nCome be part of an open\, rural-centered discussion on mental health challenges in our community. Two Trees: Real Rural Talk offers a safe\, welcoming space to explore real-life issues and practical tools that strengthen relationships and build community resilience. \nWhat to Expect \n\nConversations on mental health through a rural lens\nReal tools to improve connection and well-being\nCommunity potluck\n\nLocation4005 Erskine Creek RdLake Isabella\, CA 93240Park in dirt by the fence – please close the fence behind you. \nFor more info or to RSVP:Call or Text: 760-614-1157 \nFree and open to all. Let’s talk real\, rural\, and together!
URL:https://www.kernfoundation.org/event/two-trees-real-rural-talk-11/
LOCATION:River Sage Revival\, 4005 Erskine Creek Rd\, Lake Isabella\, CA\, 93240\, United States
CATEGORIES:Community Events
ATTACH;FMTTYPE=image/png:https://www.kernfoundation.org/wp-content/uploads/2025/05/11-e1748017705565.png
END:VEVENT
BEGIN:VEVENT
DTSTART;TZID=America/Los_Angeles:20251023T180000
DTEND;TZID=America/Los_Angeles:20251023T200000
DTSTAMP:20260419T205717
CREATED:20251014T185541Z
LAST-MODIFIED:20251014T190842Z
UID:12180-1761242400-1761249600@www.kernfoundation.org
SUMMARY:Live Resilient Night: Identity
DESCRIPTION:Live Resilient Night: Identity \nLive Resilient Night: Identity is a community gathering centered on creativity\, connection\, and self-discovery. Join us on Thursday\, October 23\, at 6:00 PM at Villa Ivy (712 19th St\, Bakersfield\, CA 93301) for an inspiring evening that celebrates what makes each of us unique while strengthening our shared sense of belonging. \nThis special event invites the Bakersfield community to come together in an atmosphere of positivity\, storytelling\, and art. Through creative expression\, meaningful conversation\, and collective reflection\, attendees will explore the theme of identity\, what defines us\, unites us\, and helps us live resilient lives. \nExpect an evening filled with interactive activities\, artistic showcases\, and opportunities to meet others who are passionate about growth and connection. Come with an open mind and heart and leave feeling renewed\, connected\, and empowered. \nEvent Details\nDate: Thursday\, October 23\nTime: 6:00 PM\nLocation: Villa Ivy\, 712 19th St\, Bakersfield\, CA 93301\nAdmission: Free community event\nLearn more about similar events:\nCommunity Events Calendar\nLive Resilient Initiatives
URL:https://www.kernfoundation.org/event/live-resilient-night-identity-bakersfield-event/
LOCATION:Villa Ivy\, 712 19th St.\, Bakersfield\, 93301\, United States
CATEGORIES:Community Events
ATTACH;FMTTYPE=image/jpeg:https://www.kernfoundation.org/wp-content/uploads/2025/10/Live-resilient-1-e1760463635769.jpeg
ORGANIZER;CN="Live Resilient Life'":MAILTO:valerie@liveresilientlife.org
END:VEVENT
BEGIN:VEVENT
DTSTART;TZID=America/Los_Angeles:20251025T120000
DTEND;TZID=America/Los_Angeles:20251025T150000
DTSTAMP:20260419T205717
CREATED:20250819T202047Z
LAST-MODIFIED:20250819T202048Z
UID:11954-1761393600-1761404400@www.kernfoundation.org
SUMMARY:Healthful Harvest - Arvin Community Health Event
DESCRIPTION:Get ready for Healthful Harvest 2025\, a community health event in Arvin\, CA that brings families together for an afternoon of fun\, wellness\, and connection! This free family health fair in Kern County will feature health resources\, food\, music\, and giveaways to promote healthy living for all ages. \nAt Healthful Harvest 2025\, community members can enjoy nutritious snacks\, engage with local healthcare providers\, and discover free wellness programs available in the area. With live music\, family activities\, and free giveaways\, this is a perfect opportunity to celebrate health and community in Arvin. \nFor more information\, call 661-632-5562. Don’t miss this exciting health and wellness event in Kern County!
URL:https://www.kernfoundation.org/event/healthful-harvest-community-health-event-arvin-kern-county/
LOCATION:Bear Mountain Elementray School\, 1501 Hood St\, Arvin\, CA\, 93203\, United States
CATEGORIES:Community Events
ATTACH;FMTTYPE=image/png:https://www.kernfoundation.org/wp-content/uploads/2025/08/HH-English-2025-e1755624735567.png
END:VEVENT
END:VCALENDAR