BEGIN:VCALENDAR
VERSION:2.0
PRODID:-//Kern Community Foundation - ECPv6.15.16.1//NONSGML v1.0//EN
CALSCALE:GREGORIAN
METHOD:PUBLISH
X-ORIGINAL-URL:https://www.kernfoundation.org
X-WR-CALDESC:Events for Kern Community Foundation
REFRESH-INTERVAL;VALUE=DURATION:PT1H
X-Robots-Tag:noindex
X-PUBLISHED-TTL:PT1H
BEGIN:VTIMEZONE
TZID:America/Los_Angeles
BEGIN:DAYLIGHT
TZOFFSETFROM:-0800
TZOFFSETTO:-0700
TZNAME:PDT
DTSTART:20240310T100000
END:DAYLIGHT
BEGIN:STANDARD
TZOFFSETFROM:-0700
TZOFFSETTO:-0800
TZNAME:PST
DTSTART:20241103T090000
END:STANDARD
BEGIN:DAYLIGHT
TZOFFSETFROM:-0800
TZOFFSETTO:-0700
TZNAME:PDT
DTSTART:20250309T100000
END:DAYLIGHT
BEGIN:STANDARD
TZOFFSETFROM:-0700
TZOFFSETTO:-0800
TZNAME:PST
DTSTART:20251102T090000
END:STANDARD
BEGIN:DAYLIGHT
TZOFFSETFROM:-0800
TZOFFSETTO:-0700
TZNAME:PDT
DTSTART:20260308T100000
END:DAYLIGHT
BEGIN:STANDARD
TZOFFSETFROM:-0700
TZOFFSETTO:-0800
TZNAME:PST
DTSTART:20261101T090000
END:STANDARD
END:VTIMEZONE
BEGIN:VEVENT
DTSTART;TZID=America/Los_Angeles:20250604T110000
DTEND;TZID=America/Los_Angeles:20250604T123000
DTSTAMP:20260422T032543
CREATED:20250122T205842Z
LAST-MODIFIED:20250303T182202Z
UID:11057-1749034800-1749040200@www.kernfoundation.org
SUMMARY:3rd Annual KAN Leadership Awards
DESCRIPTION:KAN’s 3rd Annual Nonprofit Leadership Awards is scheduled for Wednesday\, June 4th\, 2025\, at 11:00 AM at the Woman’s Club of Bakersfield\, 2030 18th St. The purpose of the Nonprofit Leadership Awards is to recognize distinguished Kern County residents who have made significant contributions to the nonprofit sector in the region. \nTo purchase tickets or a table (CLICK HERE). \nTo become a sponsor (CLICK HERE). \nNomination Information\nTo help us recognize remarkable individuals\, KAN invites you to make a nomination by using the online form (CLICK HERE). \nAwards categories include: \n\nNonprofit Professional of the Year (24-25) – It takes passion\, drive and intellect to craft true transformation for people served by the non-profit community. This award honors the leader who has best used those tools to make a dramatic impact in the lives of their non-profit clients and\, through service\, improved the communities of Kern County.\nBoard Member of the Year – This honor goes to the non-profit board member whose commitment\, engagement and stewardship has helped shape growth\, improvement\, and accountability at a Kern County Non-Profit. By providing financial support\, oversight\, guidance\, and encouragement this leader has helped staff and the non-profit exceed its plans and expectations.\nRising Star Award – Non-profit staff and young leaders are on the frontlines of our efforts to impact community problems\, overcome social barriers to success and improve people’s lives. This award honors an emerging star in the nonprofit world who made a powerful impact this year and who we are excited to see grow and develop in the coming years.\nLifetime Achievement Award – This category is designed to honor the legends of Kern County’s non-profit community. Their decades of commitment and effort have built a lasting legacy for the organizations they serve\, created a foundation of structure and knowledge all nonprofits can benefit from\, and served as the measure of attainment that new generations should aspire to.\nUnsung Hero – These quiet champions transform services from routine to exceptional because they get things done\, serve with heart and don’t waste time asking for recognition. They’re an example of how to truly excel and an inspiration for those around them. This award exists to create a space where these humble leaders get the recognition they deserve.\nYouth Award (High School) – The next generation of non-profit leaders and innovators are already giving of their time and individual passion as they work toward their high school graduation. This award will recognize one of these young people for the work they do on behalf of causes they care for.\nNonprofit Contributor/Partner – Non-Profits don’t succeed without the support of community supporters who give of themselves and their resources to empower the transformative work our organizations do each day. This awards a community contributor and partner who has a heart for making sure nonprofits have what they need to succeed.
URL:https://www.kernfoundation.org/event/3rd-annual-kan-leadership-awards/
LOCATION:The Woman’s Club of Bakersfield\, 2030 18th St\, Bakersfield\, CA\, United States
CATEGORIES:Community Events,KAN Events,Other
ATTACH;FMTTYPE=image/png:https://www.kernfoundation.org/wp-content/uploads/2025/01/3rd-Annual-Leadership-Awards-Flyer-2-e1741026437300.png
ORGANIZER;CN="Kern Alliance of Nonprofits":MAILTO:andraeg3000@gmail.com
END:VEVENT
BEGIN:VEVENT
DTSTART;VALUE=DATE:20250611
DTEND;VALUE=DATE:20250612
DTSTAMP:20260422T032543
CREATED:20250523T163931Z
LAST-MODIFIED:20250523T184459Z
UID:11654-1749600000-1749686399@www.kernfoundation.org
SUMMARY:Two Trees: Real Rural Talk
DESCRIPTION:Join Us for Two Trees: Real Rural TalkWhere Community\, Connection\, and Mental Health Meet \nCome be part of an open\, rural-centered discussion on mental health challenges in our community. Two Trees: Real Rural Talk offers a safe\, welcoming space to explore real-life issues and practical tools that strengthen relationships and build community resilience. \nWhat to Expect \n\nConversations on mental health through a rural lens\nReal tools to improve connection and well-being\nCommunity potluck\n\nLocation4005 Erskine Creek RdLake Isabella\, CA 93240Park in dirt by the fence – please close the fence behind you. \nFor more info or to RSVP:Call or Text: 760-614-1157 \nFree and open to all. Let’s talk real\, rural\, and together!
URL:https://www.kernfoundation.org/event/two-trees-real-rural-talk-2/
LOCATION:River Sage Revival\, 4005 Erskine Creek Rd\, Lake Isabella\, CA\, 93240\, United States
CATEGORIES:Community Events
ATTACH;FMTTYPE=image/png:https://www.kernfoundation.org/wp-content/uploads/2025/05/11-e1748017705565.png
END:VEVENT
BEGIN:VEVENT
DTSTART;VALUE=DATE:20250614
DTEND;VALUE=DATE:20250615
DTSTAMP:20260422T032543
CREATED:20250507T230438Z
LAST-MODIFIED:20250507T232612Z
UID:11614-1749859200-1749945599@www.kernfoundation.org
SUMMARY:Night Hike – San Emigdio Canyon Trail
DESCRIPTION:Experience the magic of the outdoors after dark with The Wildlands Conservancy on a guided night hike along the scenic San Emigdio Canyon Trail. Take in the quiet beauty of the landscape and keep an eye out for nocturnal wildlife. \nFree with reservation. Opens two weeks prior to the event. Scan QR code for more info and to sign up.
URL:https://www.kernfoundation.org/event/backcountry-hike-los-osos-wetlands-trail-2/
LOCATION:Wind Wolves Preserve\, 16019 Hwy 166\, Bakersfield\, CA\, 93311\, United States
CATEGORIES:Community Events
ATTACH;FMTTYPE=image/png:https://www.kernfoundation.org/wp-content/uploads/2025/05/Untitled-design.png
ORGANIZER;CN="The Wildlands Conservancy - Wind Wolves Preserve":MAILTO:windwolvespreserve@wildlandsconservancy.org
END:VEVENT
BEGIN:VEVENT
DTSTART;VALUE=DATE:20250619
DTEND;VALUE=DATE:20250622
DTSTAMP:20260422T032543
CREATED:20250331T214823Z
LAST-MODIFIED:20250331T214823Z
UID:11439-1750291200-1750550399@www.kernfoundation.org
SUMMARY:California Karen Youth Connection Leadership Conference 2025
DESCRIPTION:Join us for the California Karen Youth Connection Leadership Conference 2025 from June 19-21 at Bakersfield Firefighter’s Hall. This event empowers young leaders through workshops on leadership development\, budget and policy\, immigration\, and more\, along with educational activities\, cultural performances\, career and health resources\, and a special recognition for the Class of 2025 graduates. Registration is $30 per person—sign up by scanning the QR code on the flyer. For details\, contact Ko Ser Lu Htoo at khtoo@cakyc.org or visit www.cakyc.org.
URL:https://www.kernfoundation.org/event/california-karen-youth-connection-leadership-conference-2025/
LOCATION:Bakersfield Firefighter’s Hall\, 7320 Wible Road\, Bakersfield\, CA\, 93313\, United States
CATEGORIES:Community Events
ATTACH;FMTTYPE=image/png:https://www.kernfoundation.org/wp-content/uploads/2025/03/Please-scan-the-QR-code-to-register.-The-registration-fee-is-30-per-person.-For-additional-information-please-contact-Ko-Ser-Lu-Htoo-President-CEO-at-khtoo@cakyc.org-To-learn-more-about-us-.png
END:VEVENT
BEGIN:VEVENT
DTSTART;VALUE=DATE:20250621
DTEND;VALUE=DATE:20250622
DTSTAMP:20260422T032543
CREATED:20250507T232750Z
LAST-MODIFIED:20250507T232750Z
UID:11624-1750464000-1750550399@www.kernfoundation.org
SUMMARY:Night Hike – San Emigdio Canyon Trail
DESCRIPTION:Experience the magic of the outdoors after dark with The Wildlands Conservancy on a guided night hike along the scenic San Emigdio Canyon Trail. Take in the quiet beauty of the landscape and keep an eye out for nocturnal wildlife. \nFree with reservation. Opens two weeks prior to the event. Scan QR code for more info and to sign up.
URL:https://www.kernfoundation.org/event/night-hike-san-emigdio-canyon-trail/
LOCATION:Wind Wolves Preserve\, 16019 Hwy 166\, Bakersfield\, CA\, 93311\, United States
CATEGORIES:Community Events
ATTACH;FMTTYPE=image/png:https://www.kernfoundation.org/wp-content/uploads/2025/05/Untitled-design.png
ORGANIZER;CN="The Wildlands Conservancy - Wind Wolves Preserve":MAILTO:windwolvespreserve@wildlandsconservancy.org
END:VEVENT
BEGIN:VEVENT
DTSTART;TZID=America/Los_Angeles:20250621T160000
DTEND;TZID=America/Los_Angeles:20250621T200000
DTSTAMP:20260422T032543
CREATED:20250523T180636Z
LAST-MODIFIED:20250523T180636Z
UID:11685-1750521600-1750536000@www.kernfoundation.org
SUMMARY:Lake Isabella Saturday Night Market
DESCRIPTION:Saturday Night Market – Lake IsabellaPresented by River Sage Revival \nJoin us for a fun-filled evening at the Saturday Night Market in Lake Isabella! Enjoy live music\, delicious food\, and local shopping under the summer sky — all with free entry! \nLocation: Tank Park\, 4776 Lake Isabella Blvd\, Lake Isabella\, CA Date: Saturday\, June 21\, 2025Time: 4:00 PM – 8:00 PM \n\nLive entertainment\nLocal eats\nCommunity vibes\n\nMore info: www.riversagerevival.org/market \nCome support local makers and soak up the good vibes — see you at the market!
URL:https://www.kernfoundation.org/event/lake-isabella-saturday-night-market/
LOCATION:Tank Park\, 4776 Lake Isabella Blvd.\, Lake Isabella\, CA\, 93240\, United States
CATEGORIES:Community Events
ATTACH;FMTTYPE=image/png:https://www.kernfoundation.org/wp-content/uploads/2025/05/Untitled-design-2-1-e1748023469536.png
END:VEVENT
BEGIN:VEVENT
DTSTART;VALUE=DATE:20250625
DTEND;VALUE=DATE:20250626
DTSTAMP:20260422T032543
CREATED:20250523T164106Z
LAST-MODIFIED:20250523T184216Z
UID:11656-1750809600-1750895999@www.kernfoundation.org
SUMMARY:Two Trees: Real Rural Talk
DESCRIPTION:Join Us for Two Trees: Real Rural TalkWhere Community\, Connection\, and Mental Health Meet \nCome be part of an open\, rural-centered discussion on mental health challenges in our community. Two Trees: Real Rural Talk offers a safe\, welcoming space to explore real-life issues and practical tools that strengthen relationships and build community resilience. \nWhat to Expect \n\nConversations on mental health through a rural lens\nReal tools to improve connection and well-being\nCommunity potluck\n\nLocation4005 Erskine Creek RdLake Isabella\, CA 93240Park in dirt by the fence – please close the fence behind you. \nFor more info or to RSVP:Call or Text: 760-614-1157 \nFree and open to all. Let’s talk real\, rural\, and together!
URL:https://www.kernfoundation.org/event/two-trees-real-rural-talk-3/
LOCATION:River Sage Revival\, 4005 Erskine Creek Rd\, Lake Isabella\, CA\, 93240\, United States
CATEGORIES:Community Events
ATTACH;FMTTYPE=image/png:https://www.kernfoundation.org/wp-content/uploads/2025/05/11-e1748017705565.png
END:VEVENT
BEGIN:VEVENT
DTSTART;VALUE=DATE:20250629
DTEND;VALUE=DATE:20250630
DTSTAMP:20260422T032543
CREATED:20250507T194654Z
LAST-MODIFIED:20250507T222551Z
UID:11578-1751155200-1751241599@www.kernfoundation.org
SUMMARY:Sunrise Hikes - San Emigdio Trail
DESCRIPTION:Join us for a Sunrise Hike at the scenic San Emigdio Canyon Trail! This family-friendly trail follows a gentle stream and offers an easy to moderate hike with branching paths for extra exploration. \nLook out for Tule Elk and enjoy seasonal wildflowers along the way. The full out-and-back hike is about 7 miles—perfect for beginners or anyone seeking a peaceful outdoor experience. A mountain biking trail is also available nearby. \nReservations are required but free and open two weeks prior to the event. Scan the QR code for more information and to sign up.
URL:https://www.kernfoundation.org/event/wind-wolves-preserves-guided-hikes/
LOCATION:Wind Wolves Preserve\, 16019 Hwy 166\, Bakersfield\, CA\, 93311\, United States
CATEGORIES:Community Events
ATTACH;FMTTYPE=image/png:https://www.kernfoundation.org/wp-content/uploads/2025/05/Untitled-design.png
ORGANIZER;CN="The Wildlands Conservancy - Wind Wolves Preserve":MAILTO:windwolvespreserve@wildlandsconservancy.org
END:VEVENT
END:VCALENDAR