BEGIN:VCALENDAR
VERSION:2.0
PRODID:-//Kern Community Foundation - ECPv6.15.16.1//NONSGML v1.0//EN
CALSCALE:GREGORIAN
METHOD:PUBLISH
X-ORIGINAL-URL:https://www.kernfoundation.org
X-WR-CALDESC:Events for Kern Community Foundation
REFRESH-INTERVAL;VALUE=DURATION:PT1H
X-Robots-Tag:noindex
X-PUBLISHED-TTL:PT1H
BEGIN:VTIMEZONE
TZID:America/Los_Angeles
BEGIN:DAYLIGHT
TZOFFSETFROM:-0800
TZOFFSETTO:-0700
TZNAME:PDT
DTSTART:20240310T100000
END:DAYLIGHT
BEGIN:STANDARD
TZOFFSETFROM:-0700
TZOFFSETTO:-0800
TZNAME:PST
DTSTART:20241103T090000
END:STANDARD
BEGIN:DAYLIGHT
TZOFFSETFROM:-0800
TZOFFSETTO:-0700
TZNAME:PDT
DTSTART:20250309T100000
END:DAYLIGHT
BEGIN:STANDARD
TZOFFSETFROM:-0700
TZOFFSETTO:-0800
TZNAME:PST
DTSTART:20251102T090000
END:STANDARD
BEGIN:DAYLIGHT
TZOFFSETFROM:-0800
TZOFFSETTO:-0700
TZNAME:PDT
DTSTART:20260308T100000
END:DAYLIGHT
BEGIN:STANDARD
TZOFFSETFROM:-0700
TZOFFSETTO:-0800
TZNAME:PST
DTSTART:20261101T090000
END:STANDARD
END:VTIMEZONE
BEGIN:VEVENT
DTSTART;VALUE=DATE:20250502
DTEND;VALUE=DATE:20250504
DTSTAMP:20260420T050044
CREATED:20250218T181913Z
LAST-MODIFIED:20250218T181913Z
UID:11173-1746144000-1746316799@www.kernfoundation.org
SUMMARY:Minter Field Air Museum Inc. - Bakersfield Swap Meet 2025
DESCRIPTION:Minter Field Air Museum Inc. – Bakersfield Swap Meet 2025 \nAt the Minter Airfield\, Minter Field Air Museum Inc. is hosting the Brass Era/ Pre-war Bakersfield Swap Meet 2025 on May 2 & 3\, 2025. For vendor registration and general information\, call Steven at (323)497-0601.
URL:https://www.kernfoundation.org/event/minter-field-air-museum-inc-bakersfield-swap-meet-2025/
LOCATION:Minter Airfield\, 201 Aviation Street\, Shafter\, CA\, United States
CATEGORIES:Community Events
ATTACH;FMTTYPE=image/png:https://www.kernfoundation.org/wp-content/uploads/2025/02/minter.png
END:VEVENT
BEGIN:VEVENT
DTSTART;TZID=America/Los_Angeles:20250502T180000
DTEND;TZID=America/Los_Angeles:20250502T210000
DTSTAMP:20260420T050044
CREATED:20250423T155756Z
LAST-MODIFIED:20250423T155756Z
UID:11511-1746208800-1746219600@www.kernfoundation.org
SUMMARY:Charmed & Chosen - Women & Girls: Health & Wellness Resource Fair
DESCRIPTION:Charmed & Chosen presents… The Beauty & Sisterhood Experience \nJoin us for an inspiring evening at the Women & Girls: Health & Wellness Resource Fair on Friday\, May 2\, 2025\, from 6:00 PM to 9:00 PM at Villa Ivy (712 19th St.)\, near The Collective. \nThis empowering event is your chance to connect\, learn\, and thrive—surround yourself with community\, explore valuable wellness resources\, and enjoy an evening full of fun\, food\, music\, raffles\, vendors\, and more! \nWhether you’re seeking support\, inspiration\, or simply a great time with incredible women and girls\, you won’t want to miss it. \nRSVP by texting 661.817.6279 or 661.932.3937.Want to make a difference? Volunteer or donate at www.charmedandchosen.org or simply scan the QR code. \nLet’s celebrate health\, healing\, and the power of sisterhood—see you there!
URL:https://www.kernfoundation.org/event/charmed-chosen-women-girls-health-wellness-resource-fair/
LOCATION:Villa Ivy\, 712 19th St.\, Bakersfield\, 93301\, United States
CATEGORIES:Community Events
ATTACH;FMTTYPE=image/jpeg:https://www.kernfoundation.org/wp-content/uploads/2025/04/WG-resources-fair-21-e1745421470265.jpg
ORGANIZER;CN="Charmed & Chosen Inc.":MAILTO:charmed.chosen2020@gmail.com
END:VEVENT
BEGIN:VEVENT
DTSTART;TZID=America/Los_Angeles:20250502T183000
DTEND;TZID=America/Los_Angeles:20250502T220000
DTSTAMP:20260420T050044
CREATED:20240725T152417Z
LAST-MODIFIED:20240805T181651Z
UID:10361-1746210600-1746223200@www.kernfoundation.org
SUMMARY:Dustbowl to Diamonds 2025
DESCRIPTION:Dustbowl to Diamonds 2025\nJoin Kern County Cancer Foundation for an evening of fundraising\, live music\, multi-catered food stations\, drinks & auctions. Save the date May 2\, 2025.
URL:https://www.kernfoundation.org/event/dustbowl-to-diamonds-2025/
LOCATION:The Grove at Shadow Creek\, 8359 Shadow Creek Court\, Bakersfield\, CA\, 93311\, United States
CATEGORIES:Community Events,Fundraiser
ATTACH;FMTTYPE=image/webp:https://www.kernfoundation.org/wp-content/uploads/2024/07/dust-bowl-2025-1536x615-1.webp
END:VEVENT
BEGIN:VEVENT
DTSTART;TZID=America/Los_Angeles:20250503T080000
DTEND;TZID=America/Los_Angeles:20250503T130000
DTSTAMP:20260420T050044
CREATED:20250121T200223Z
LAST-MODIFIED:20250121T200223Z
UID:11033-1746259200-1746277200@www.kernfoundation.org
SUMMARY:3rd Annual Give Big at the Park: Give Big Kern Nonprofit Meet and Greet
DESCRIPTION:3rd Annual Give Big at the Park 2025\nGive Big at the Park 2025 will take place on May 3\, 2025!\nSave the date for the 3rd Annual Give Big at the Park: Nonprofit Meet and Greet.\nDate: Saturday\, May 3\, 2025\nLocation: The Park at Riverwalk\nTime: 8 AM – 1 PM \nJoin us for the 3rd Annual Give Big at the Park: Nonprofit Meet and Greet. The nonprofit meet-and-greet will showcase the vibrant nonprofits in Kern County. Last year\, over 60 local nonprofit organizations shared their missions\, services\, and stories with the attendees and nonprofit partners. The event’s purpose was to educate the community by showcasing the different causes the local nonprofit organizations support. The event provided a valuable platform for networking and collaboration among the participating nonprofits. Give Big Kern has raised millions of dollars from thousands of donors for hundreds of local nonprofit organizations. Every year since 2016\, Kern Community Foundation has hosted GBK to help local nonprofit organizations raise money and volunteer hours. GBK is a month-long community engagement event that involves giving and volunteering and will run until the first Tuesday in May. GBK is part of Kern Community Foundation’s Nonprofit Strengthening strategic initiative. The initiative increases visibility\, builds capacity\, and improves sustainability for local nonprofits. The effort shines a light on hard-working local nonprofits\, empowering them to advance their marketing and development capabilities\, and donor\, board and volunteer engagement while encouraging networking and collaboration among nonprofit organizations across the sector. GBK would not have been possible without the support of our sponsors. Nonprofits participate in GBK at no cost. \n \n 
URL:https://www.kernfoundation.org/event/3rd-annual-give-big-at-the-park-give-big-kern-nonprofit-meet-and-greet/
LOCATION:The Park at Riverwalk\, 11298 Stockdale Hwy\, Bakersfield\, CA\, 93311
CATEGORIES:Community Events,Fundraiser,Nonprofit Strengthening
ATTACH;FMTTYPE=image/png:https://www.kernfoundation.org/wp-content/uploads/2025/01/gbk-2025-logo.png
ORGANIZER;CN="Kern Community Foundation":MAILTO:info@kernfoundation.org
END:VEVENT
BEGIN:VEVENT
DTSTART;TZID=America/Los_Angeles:20250503T090000
DTEND;TZID=America/Los_Angeles:20250503T170000
DTSTAMP:20260420T050044
CREATED:20250328T185911Z
LAST-MODIFIED:20250328T185911Z
UID:11422-1746262800-1746291600@www.kernfoundation.org
SUMMARY:Back to the 80’s – Don’t Stop Believin’ In A Cure
DESCRIPTION:Get ready for Back to the 80’s – Don’t Stop Believin’ In A Cure\, a Relay for Life event supporting the American Cancer Society on Saturday\, May 3\, 2025\, at the Kern County Fairgrounds. This free admission\, free parking event celebrates cancer survivors\, honors loved ones lost and raises funds for cancer research. Enjoy a Survivor Ceremony\, live music\, raffles\, games\, a luminaria ceremony\, a lip sync battle\, kids’ activities\, a dance party\, food trucks\, and more! Wear your best 80’s attire and be part of a day of fun\, remembrance\, and hope. Together\, we can make a difference! CLICK HERE to register today.
URL:https://www.kernfoundation.org/event/back-to-the-80s-dont-stop-believin-in-a-cure/
LOCATION:Kern County Fairgrounds\, 1142 S P St\, Bakersfield\, CA\, 93307\, United States
CATEGORIES:Community Events
ATTACH;FMTTYPE=image/png:https://www.kernfoundation.org/wp-content/uploads/2025/03/2025-Relay-event-flyer-with-logos-2-e1743187729294.png
END:VEVENT
BEGIN:VEVENT
DTSTART;VALUE=DATE:20250506
DTEND;VALUE=DATE:20250507
DTSTAMP:20260420T050044
CREATED:20250121T223504Z
LAST-MODIFIED:20250122T045926Z
UID:11041-1746489600-1746575999@www.kernfoundation.org
SUMMARY:Give Big Kern 2025 - Celebrate Kern County's Official Giving Day!
DESCRIPTION:Give Big Kern 2025\nGive Big Kern 2025 will take place on May 6\, 2025!\nGive Big Kern has raised over millions of dollars from thousands of donors for hundreds of local nonprofit organizations.. Every year since 2016\, Kern Community Foundation has hosted GBK to help local nonprofit organizations raise money and volunteer hours. GBK is a month-long event of community engagement in giving and volunteering that leads up to the first Tuesday in May. GBK is part of Kern Community Foundation’s Nonprofit Strengthening strategic initiative. The initiative increases visibility\, builds capacity\, and improves sustainability for local nonprofits. The effort shines a light on hard-working local nonprofits\, empowering them to advance their marketing and development capabilities\, and donor\, board and volunteer engagement while encouraging networking and collaboration among nonprofit organizations across the sector. GBK would not have been possible without the support of our sponsors. Nonprofits participate in GBK at no cost. Marketing materials\, event fees\, online platform\, and training are provided through our generous sponsors. If you are interested in becoming a Sponsor\, please contact info@kernfoundation.org. \n \n 
URL:https://www.kernfoundation.org/event/give-big-kern-2024-celebrate-kern-countys-official-day-of-giving/
LOCATION:CA
CATEGORIES:Community Events,Fundraiser,Nonprofit Strengthening
ATTACH;FMTTYPE=image/png:https://www.kernfoundation.org/wp-content/uploads/2025/01/gbk-2025-logo.png
ORGANIZER;CN="Kern Community Foundation":MAILTO:info@kernfoundation.org
END:VEVENT
BEGIN:VEVENT
DTSTART;TZID=America/Los_Angeles:20250509T100000
DTEND;TZID=America/Los_Angeles:20250509T130000
DTSTAMP:20260420T050044
CREATED:20250502T185123Z
LAST-MODIFIED:20250502T185123Z
UID:11557-1746784800-1746795600@www.kernfoundation.org
SUMMARY:Free Food Distribution & Community Clothing Drive — Gridstone Inc
DESCRIPTION:Join Gridstone Inc. at Belle Terrace Park for another impactful morning dedicated to supporting local families in need\, all are welcome. \nEach month\, the number of families served continues to grow—this month alone\, over 350 families will receive much-needed food assistance. In addition to distributing groceries\, clothing donations are greatly appreciated! \nWe hope to see you there!
URL:https://www.kernfoundation.org/event/free-food-distribution-community-clothing-drive-gridstone-inc/
LOCATION:Belle Terrace Park\, 1101 E Belle Terrace\, Bakersfield\, United States
CATEGORIES:Community Events
ATTACH;FMTTYPE=image/jpeg:https://www.kernfoundation.org/wp-content/uploads/2025/05/Community-Free-Food-Dis-May-2025-e1746211170405.jpg
ORGANIZER;CN="Gridstone Inc":MAILTO:service@gridstoneinc.org
END:VEVENT
BEGIN:VEVENT
DTSTART;TZID=America/Los_Angeles:20250516T080000
DTEND;TZID=America/Los_Angeles:20250516T220000
DTSTAMP:20260420T050044
CREATED:20250425T195514Z
LAST-MODIFIED:20250425T195611Z
UID:11528-1747382400-1747432800@www.kernfoundation.org
SUMMARY:Nonprofit Accounting 101 - KAN May Workshop
DESCRIPTION:Join us for a morning of connection and learning at KAN’s Workshop: Nonprofit Accounting 101\, hosted by Cross of O’Dell Cross CPAs & KCSOS. \nWhether you’re a nonprofit staff member\, board member\, or someone involved in managing nonprofit finances\, this session is designed just for you. \nYou’ll gain a solid understanding of nonprofit accounting essentials\, including: \n– Budgeting Strategies \n– Managing restricted funds \n– Interpreting financial statements & more. \nFuel your morning with complimentary donuts & coffee\, and walk away with practical tips to help strengthen your organization’s financial foundation. \nCLICK HERE to RSVP
URL:https://www.kernfoundation.org/event/nonprofit-accounting-101-kan-may-workshop/
LOCATION:KCSOS City Centre\, 1300 17th St\, Bakersfield\, CA\, 93301\, United States
CATEGORIES:Community Events,KAN Events
ATTACH;FMTTYPE=image/png:https://www.kernfoundation.org/wp-content/uploads/2025/04/KAN-MAY-2025-FLYER-1-e1745610860355.png
ORGANIZER;CN="Kern Alliance of Nonprofits":MAILTO:andraeg3000@gmail.com
END:VEVENT
BEGIN:VEVENT
DTSTART;TZID=America/Los_Angeles:20250519T080000
DTEND;TZID=America/Los_Angeles:20250519T170000
DTSTAMP:20260420T050044
CREATED:20250307T171130Z
LAST-MODIFIED:20250307T171130Z
UID:11353-1747641600-1747674000@www.kernfoundation.org
SUMMARY:2nd Annual Swing for Support Golf Tournament
DESCRIPTION:Join us for The Motherhood Project’s 2nd Annual Swing for Support Charity Golf Classic on Monday\, May 19\, 2025\, at Seven Oaks Country Club in Bakersfield\, CA. Gather your friends\, family\, or colleagues for a day of golf\, camaraderie\, and competition\, all in support of maternal mental health initiatives in Kern County. The event kicks off with registration at 8:00 AM\, followed by a shotgun start at 10:00 AM\, and concludes with an awards ceremony and cocktail hour at 4:00 PM. Enjoy a beautiful course\, engaging activities\, and the opportunity to make a real impact. Registration is $200 per player or $800 per team\, with sponsorships available. Every swing brings us closer to fostering a brighter\, more compassionate community for mothers in need. Save the date and join us on May 19\, 2025—let’s swing into action for a great cause!
URL:https://www.kernfoundation.org/event/2nd-annual-swing-for-support-golf-tournament/
LOCATION:Seven Oaks Country Club\, 2000 Grand Lakes Avenue\, Bakersfield\, CA\, 93311\, United States
CATEGORIES:Community Events
ATTACH;FMTTYPE=image/png:https://www.kernfoundation.org/wp-content/uploads/2025/03/Untitled-Website-1.png
END:VEVENT
BEGIN:VEVENT
DTSTART;VALUE=DATE:20250528
DTEND;VALUE=DATE:20250529
DTSTAMP:20260420T050044
CREATED:20250523T163519Z
LAST-MODIFIED:20250523T184625Z
UID:11641-1748390400-1748476799@www.kernfoundation.org
SUMMARY:Two Trees: Real Rural Talk
DESCRIPTION:Join Us for Two Trees: Real Rural TalkWhere Community\, Connection\, and Mental Health Meet \nCome be part of an open\, rural-centered discussion on mental health challenges in our community. Two Trees: Real Rural Talk offers a safe\, welcoming space to explore real-life issues and practical tools that strengthen relationships and build community resilience. \nWhat to Expect \n\nConversations on mental health through a rural lens\nReal tools to improve connection and well-being\nCommunity potluck\n\nLocation4005 Erskine Creek RdLake Isabella\, CA 93240Park in dirt by the fence – please close the fence behind you. \nFor more info or to RSVP:Call or Text: 760-614-1157 \nFree and open to all. Let’s talk real\, rural\, and together!
URL:https://www.kernfoundation.org/event/two-trees-real-rural-talk/
LOCATION:River Sage Revival\, 4005 Erskine Creek Rd\, Lake Isabella\, CA\, 93240\, United States
CATEGORIES:Community Events
ATTACH;FMTTYPE=image/png:https://www.kernfoundation.org/wp-content/uploads/2025/05/11-e1748017705565.png
END:VEVENT
END:VCALENDAR