BEGIN:VCALENDAR
VERSION:2.0
PRODID:-//Kern Community Foundation - ECPv6.15.16.1//NONSGML v1.0//EN
CALSCALE:GREGORIAN
METHOD:PUBLISH
X-ORIGINAL-URL:https://www.kernfoundation.org
X-WR-CALDESC:Events for Kern Community Foundation
REFRESH-INTERVAL;VALUE=DURATION:PT1H
X-Robots-Tag:noindex
X-PUBLISHED-TTL:PT1H
BEGIN:VTIMEZONE
TZID:America/Los_Angeles
BEGIN:DAYLIGHT
TZOFFSETFROM:-0800
TZOFFSETTO:-0700
TZNAME:PDT
DTSTART:20240310T100000
END:DAYLIGHT
BEGIN:STANDARD
TZOFFSETFROM:-0700
TZOFFSETTO:-0800
TZNAME:PST
DTSTART:20241103T090000
END:STANDARD
BEGIN:DAYLIGHT
TZOFFSETFROM:-0800
TZOFFSETTO:-0700
TZNAME:PDT
DTSTART:20250309T100000
END:DAYLIGHT
BEGIN:STANDARD
TZOFFSETFROM:-0700
TZOFFSETTO:-0800
TZNAME:PST
DTSTART:20251102T090000
END:STANDARD
BEGIN:DAYLIGHT
TZOFFSETFROM:-0800
TZOFFSETTO:-0700
TZNAME:PDT
DTSTART:20260308T100000
END:DAYLIGHT
BEGIN:STANDARD
TZOFFSETFROM:-0700
TZOFFSETTO:-0800
TZNAME:PST
DTSTART:20261101T090000
END:STANDARD
END:VTIMEZONE
BEGIN:VEVENT
DTSTART;TZID=America/Los_Angeles:20250407T090000
DTEND;TZID=America/Los_Angeles:20250407T130000
DTSTAMP:20260422T062430
CREATED:20250212T182816Z
LAST-MODIFIED:20250331T220859Z
UID:11165-1744016400-1744030800@www.kernfoundation.org
SUMMARY:32nd Annual Sharyn Woods Memorial Pro-Am Golf Tournament
DESCRIPTION:32nd Annual Sharyn Woods Memorial Pro-Am Golf Tournament\nJoin us on April 7\, 2025\, from 9 AM to 1 PM at the Seven Oaks Country Club for the Sharyn Woods Memorial Pro-Am Golf Tournament. The Sharyn Woods Memorial Pro-Am Golf Tournament is a premier annual event hosted by Links for Life\, dedicated to empowering women in Kern County who are battling breast cancer. In honor of Sharyn Woods\, a cherished community member lost to the disease\, this prestigious tournament brings together top-tier professional golfers and enthusiastic for an unforgettable day of competition. Proceeds directly benefit women undergoing breast cancer treatment\, ensuring they receive the vital support they need. With its compelling format and unwavering commitment to a life-changing cause\, the event continues to inspire\, unite\, and make a lasting impact on the fight against breast cancer. \nRegister for Links For Life’s event  \n  \n  \n 
URL:https://www.kernfoundation.org/event/32nd-annual-sharyn-woods-memorial-pro-am-golf-tournament/
LOCATION:Seven Oaks Country Club\, 2000 Grand Lakes Ave.\, Bakersfield\, CA\, 93311
CATEGORIES:Community Events,Fundraiser,KAN Events
ATTACH;FMTTYPE=application/pdf:https://www.kernfoundation.org/wp-content/uploads/2025/02/Pro-AM-flyer-2025-EMAIL-1-1.pdf
ORGANIZER;CN="Links for Life":MAILTO:s
END:VEVENT
BEGIN:VEVENT
DTSTART;TZID=America/Los_Angeles:20250407T090000
DTEND;TZID=America/Los_Angeles:20250407T140000
DTSTAMP:20260422T062430
CREATED:20250317T223327Z
LAST-MODIFIED:20250317T223327Z
UID:11381-1744016400-1744034400@www.kernfoundation.org
SUMMARY:ADAKC's Annual Golf Classic 2025
DESCRIPTION:Tee up for a great cause at the Alzheimer’s Disease Association of Kern County (ADAKC) Annual Golf Classic on Monday\, April 7th\, 2025\, from 9:00 AM – 2:00 PM at the beautiful Bakersfield Country Club\, 4200 Country Club Drive. This exciting 4-player scramble features a $20\,000 Hole-In-One prize\, contests\, opportunity drawings\, lunch\, and more! Registration begins at 9:00 AM with a 10:00 AM shotgun start. Cost is $800 per team\, and every dollar raised stays local\, supporting ADAKC’s unique day care program that provides stimulating activities\, socialization\, respite care\, and vital resources for families on the Alzheimer’s journey. Text “ADAKC” to 366283 to register or contact events@ADAKC.org for sponsorships or more info. Whether you’re a seasoned golfer or just looking for a fun day out\, join us and make a difference\, (CLICK HERE) to buy tickets.
URL:https://www.kernfoundation.org/event/adakcs-annual-golf-classic-2025/
LOCATION:Bakersfield Country Club\, 4200 Country Club\, Bakersfield\, CA\, 93306\, United States
CATEGORIES:Community Events
ATTACH;FMTTYPE=image/png:https://www.kernfoundation.org/wp-content/uploads/2025/03/Golf-Classic-2025-Flyer.pdf-Website-1-e1742250481541.png
END:VEVENT
BEGIN:VEVENT
DTSTART;TZID=America/Los_Angeles:20250412T070000
DTEND;TZID=America/Los_Angeles:20250412T130000
DTSTAMP:20260422T062430
CREATED:20241010T163040Z
LAST-MODIFIED:20241010T163040Z
UID:10785-1744441200-1744462800@www.kernfoundation.org
SUMMARY:Run with Burros
DESCRIPTION:Run with Burros\nJoin us where the Sierra Nevada meets the Mojave Desert as the mining and burro heritage is brought back and honored by “Running with the Burros”. \nWe invite individual runners and runners with burros to compete on a challenging course in the canyons of the southern Sierra Nevada. \nLet’s get one thing straight right away. Burro is the Spanish word for donkey\, which is the same as an ass. All three words have identical meaning. The jokes write themselves\, but ass is a completely proper word not to be avoided. \nBurro races are a long tradition in the mining community. Locally\, Randsburg\, Lone Pine\, Death Valley\, and Beatty have had burro races as far back as 1897. There were even 2.5-day 42-mile races from Apple Valley to Big Bear. Pack burro racing in the current format has been a tradition since 1949 where runners on foot race long distances with a pack burro as a team (one burro with each runner)\, guiding them with only a halter\, lead rope\, voice\, and their bond as a team. \nNot everyone can own or borrow burro\, so this run allows anyone to compete. Run\, hike\, crawl\, with or without a burro. This event offers an introductory experience\, and we hope it is the first of many new pack burro races in California.
URL:https://www.kernfoundation.org/event/run-with-burros/
LOCATION:Highway 14 & Indian Wells Canyon Rd\, Highway 14 & Indian Wells Canyon Rd\, Inyokern\, CA\, 93527\, United States
CATEGORIES:Community Events,Fundraiser
ATTACH;FMTTYPE=image/png:https://www.kernfoundation.org/wp-content/uploads/2024/10/thumbnail_image0.png
ORGANIZER;CN="California Breakfast Burritos":MAILTO:RunWithTheBurros@gmail.com
END:VEVENT
BEGIN:VEVENT
DTSTART;TZID=America/Los_Angeles:20250422T100000
DTEND;TZID=America/Los_Angeles:20250422T113000
DTSTAMP:20260422T062430
CREATED:20250121T192327Z
LAST-MODIFIED:20250121T192327Z
UID:11030-1745316000-1745321400@www.kernfoundation.org
SUMMARY:2025 Give Big Kern Press Conference
DESCRIPTION:Join us for the 2024 Give Big Kern Press Conference!\nWHAT: Give Big Kern Kick-off Press Conference \nWHEN: April 22\, 2025; 10 AM – 11 AM \nWHERE: Belvedere Room\, The Padre Hotel\, 1702 18th Street\, Bakersfield\, CA \nWHO: Learn about Kern Community Foundation and local nonprofit organizations as we get ready for Give Big Kern. \nWHY: Join Kern Community Foundation and local nonprofits as we kickstart Kern County’s Official Day of Giving\, Give Big Kern\, scheduled for May 6\, 2025. Donors can make donations on Giving Day or begin donating to their favorite local nonprofits as early as April 6\, 2025! \nThe community can get involved and support a cause by: \n\nGiving through: www.givebigkern.org\nPledging volunteer hours through: www.givebigkern.org/info/volunteer\nLiking and sharing Give Big Kern social media content\n\nWebsite: givebigkern.org\nFacebook: www.facebook.com/GIVEBIGKERN \nInstagram: https://www.instagram.com/givebigkern/\nTwitter: twitter.com/GIVEBIGKERN\, #GIVEBIGKERN \n  \nFor more information\, visit www.givebigkern.org or contact Kern Community Foundation at (661)325-5346.
URL:https://www.kernfoundation.org/event/2025-give-big-kern-press-conference-2/
LOCATION:The Padre Hotel\, 1702 18th Street\, Bakersfield\, CA\, 93301
CATEGORIES:Community Events,Fundraiser
ATTACH;FMTTYPE=image/png:https://www.kernfoundation.org/wp-content/uploads/2025/01/gbk-2025-logo.png
ORGANIZER;CN="Kern Community Foundation":MAILTO:info@kernfoundation.org
END:VEVENT
BEGIN:VEVENT
DTSTART;TZID=America/Los_Angeles:20250424T180000
DTEND;TZID=America/Los_Angeles:20250424T210000
DTSTAMP:20260422T062430
CREATED:20250324T160104Z
LAST-MODIFIED:20250324T160104Z
UID:11398-1745517600-1745528400@www.kernfoundation.org
SUMMARY:Spain in Spring – A Clandestine Dinner
DESCRIPTION:Spain in Spring – A Clandestine DinnerApril 24th | 6:00–9:00 PM | Covenant Coffee\, Stockdale Towers \nExperience a 5-course Spanish-inspired dinner with fine wine pairings\, served by foster youth from Covenant Community Services’ culinary program. The evening includes a live auction featuring exclusive items\, with all proceeds supporting programs for foster youth. \nLimited seating — reserve today! (CLICK HERE)
URL:https://www.kernfoundation.org/event/spain-in-spring-a-clandestine-dinner/
LOCATION:Covenant Coffee at Stockdale Towers\, 5060 California Ave. Suite #130\, Bakersfield\, 93309\, United States
CATEGORIES:Community Events
ATTACH;FMTTYPE=image/png:https://www.kernfoundation.org/wp-content/uploads/2025/03/Spain-2025-png-cc-e1742829999455.png
END:VEVENT
END:VCALENDAR