BEGIN:VCALENDAR
VERSION:2.0
PRODID:-//Kern Community Foundation - ECPv6.15.16.1//NONSGML v1.0//EN
CALSCALE:GREGORIAN
METHOD:PUBLISH
X-ORIGINAL-URL:https://www.kernfoundation.org
X-WR-CALDESC:Events for Kern Community Foundation
REFRESH-INTERVAL;VALUE=DURATION:PT1H
X-Robots-Tag:noindex
X-PUBLISHED-TTL:PT1H
BEGIN:VTIMEZONE
TZID:America/Los_Angeles
BEGIN:DAYLIGHT
TZOFFSETFROM:-0800
TZOFFSETTO:-0700
TZNAME:PDT
DTSTART:20240310T100000
END:DAYLIGHT
BEGIN:STANDARD
TZOFFSETFROM:-0700
TZOFFSETTO:-0800
TZNAME:PST
DTSTART:20241103T090000
END:STANDARD
BEGIN:DAYLIGHT
TZOFFSETFROM:-0800
TZOFFSETTO:-0700
TZNAME:PDT
DTSTART:20250309T100000
END:DAYLIGHT
BEGIN:STANDARD
TZOFFSETFROM:-0700
TZOFFSETTO:-0800
TZNAME:PST
DTSTART:20251102T090000
END:STANDARD
BEGIN:DAYLIGHT
TZOFFSETFROM:-0800
TZOFFSETTO:-0700
TZNAME:PDT
DTSTART:20260308T100000
END:DAYLIGHT
BEGIN:STANDARD
TZOFFSETFROM:-0700
TZOFFSETTO:-0800
TZNAME:PST
DTSTART:20261101T090000
END:STANDARD
END:VTIMEZONE
BEGIN:VEVENT
DTSTART;TZID=America/Los_Angeles:20250304T180000
DTEND;TZID=America/Los_Angeles:20250304T200000
DTSTAMP:20260422T075126
CREATED:20250220T195439Z
LAST-MODIFIED:20250220T195439Z
UID:11208-1741111200-1741118400@www.kernfoundation.org
SUMMARY:Mardi Gras Dinner
DESCRIPTION:Join Covenant Community Services for a festive Mardi Gras Dinner on March 4\, 2025\, at 6:00pm at Stockdale Tower (5060 California Ave\, Suite 130). This exclusive event is limited to just 40 guests\, so dress the part\, bring your Mardi Gras spirit\, and get ready for an unforgettable evening! Chef Andrew has crafted a mouthwatering menu featuring a traditional Mardis Gras feast and fresh seafood\, perfectly paired with a delicious wine. Tickets are $125 per person or gather your friends and reserve a table of 8 for $1000. All proceeds support Covenant’s mission of providing jobs for foster youth and launching Covenant Catering. Don’t miss this incredible opportunity to dine for a cause! Call Samantha @ (661)379-4783 today to reserve your spot
URL:https://www.kernfoundation.org/event/mardi-gras-dinner/
LOCATION:5060 California Ave\, Suite 130\, 5060 California Ave. Suite #130\, Bakersfield\, CA\, 93309\, United States
CATEGORIES:Community Events
ATTACH;FMTTYPE=image/png:https://www.kernfoundation.org/wp-content/uploads/2025/02/Dinner-Celebration-e1740075026631.png
END:VEVENT
BEGIN:VEVENT
DTSTART;TZID=America/Los_Angeles:20250308T180000
DTEND;TZID=America/Los_Angeles:20250308T200000
DTSTAMP:20260422T075126
CREATED:20250221T194237Z
LAST-MODIFIED:20250221T194237Z
UID:11214-1741456800-1741464000@www.kernfoundation.org
SUMMARY:Benefit Concert for Foster Youth
DESCRIPTION:Covenant Community Services invites you to Benefit Concert for Foster Youth on Saturday\, March 8\, 2025\, at 6:00 PM. Headlined by Orphan Jon & the Abandoned and featuring local favorites Beckie Aguilar and Lost Vinyl\, Teddy Spanke\, and more\, this exciting evening supports foster youth in Kern County. Tickets are $75 (includes a BBQ meal from Salty’s BBQ and two concerts)\, $50 without a meal\, and $125 for VIP access. VIP tables and sponsorships are available\, with recognition across onsite\, social media\, and press channels. Reserve your spot now by scanning the QR code or call (661)-379-4783 for more details
URL:https://www.kernfoundation.org/event/benefit-concert-for-foster-youth/
LOCATION:Salty’s Event Center\, 6720 Schirra Ct.\, Bakersfield\, CA\, 93313\, United States
CATEGORIES:Community Events
ATTACH;FMTTYPE=image/png:https://www.kernfoundation.org/wp-content/uploads/2025/02/SATURDAY-MARCH-8-2025-600-PM-SALTYS-EVENT-CENTER-e1740090638836.png
END:VEVENT
BEGIN:VEVENT
DTSTART;TZID=America/Los_Angeles:20250315T100000
DTEND;TZID=America/Los_Angeles:20250315T140000
DTSTAMP:20260422T075126
CREATED:20250219T195819Z
LAST-MODIFIED:20250219T195819Z
UID:11181-1742032800-1742047200@www.kernfoundation.org
SUMMARY:Community Disaster Preparedness Event
DESCRIPTION:Everyone has a part in being prepared for a disaster or emergency! Disaster preparedness involves the whole community\, and there is no better time than now to learn how to prepare for the unexpected. Join the Kern County Office of Emergency Services and California State University Bakersfield Geology Department for The Community Disaster Preparedness Event! Enjoy the day engaging with local first responders and their equipment\, learn about how they respond to emergencies\, and hear from community organizations on how to best prepare your home\, family\, and pets for an emergency. Take a ride in the Earthquake Simulator where you can experience the intensity of large earthquakes! \nLearn what items you should pack in your home’s go-bag! Be a part of Cal State Bakersfield’s interactive demonstrations that will teach hands-only CPR\, fire extinguisher use \nExperience CSUB Geology’s Augmented Reality Sandbox! Admission and parking is free!! \nKUZZ will provide entertainment with music and their money machine\, and local food truck vendors will be there for you to purchase lunch and snacks! Come be a part of the Community Disaster Preparedness Event at the CSUB Campus on March 15th\, 10 am-2 pm!! \nCommunity Disaster Preparedness Event\nDate: March 15\, 2025\, 10 am-2 pm\nLocation: CSUB-Don Hart Drive East\, 9001 Stockdale Hwy.
URL:https://www.kernfoundation.org/event/community-disaster-preparedness-event/
LOCATION:CSUB – Don Hart Drive East\, 9001 Stockdale Hwy\, Bakersfield\, CA\, United States
CATEGORIES:Community Events
ATTACH;FMTTYPE=image/jpeg:https://www.kernfoundation.org/wp-content/uploads/2025/02/image001.jpg
END:VEVENT
BEGIN:VEVENT
DTSTART;TZID=America/Los_Angeles:20250322T080000
DTEND;TZID=America/Los_Angeles:20250322T120000
DTSTAMP:20260422T075126
CREATED:20250228T184229Z
LAST-MODIFIED:20250228T184229Z
UID:11281-1742630400-1742644800@www.kernfoundation.org
SUMMARY:5K Color Run & Family Walk
DESCRIPTION:Gather with the Bakersfield Angels High School Ambassador Team for a fun-filled 5K color run & family walk on Saturday\, March 22\, at Back2Back Sports Complex (11000 Kern Canyon Rd) to support children\, youth\, and families experiencing foster care in Kern County. Whether you’re racing to the finish line or enjoying a peaceful walk with your friends and kids\, you’ll be making a difference while having a blast! Check-in starts at 8:00AM\, with registration starting at $25 for ages 11+\, $15 for ages 3-10\, and free for kids 2 & under. Open to all ages\, this vibrant event is a great way to be active\, build community\, and support a meaningful cause. Sign up today and Chase That Dream with us! [https://bakersfieldangels.app.neoncrm.com/np/clients/bakersfieldangels/event.jsp?event=51&]
URL:https://www.kernfoundation.org/event/5k-color-run-family-walk/
LOCATION:Back2Back Sports Complex\, 11000 Kern Canyon Rd Ste B\, Bakersfield\, CA\, 93306\, United States
CATEGORIES:Community Events
ATTACH;FMTTYPE=image/png:https://www.kernfoundation.org/wp-content/uploads/2025/02/5k-run-CC-e1740766206633.png
ORGANIZER;CN="Bakersfield Angel's":MAILTO:info@bakersfieldangels.org
END:VEVENT
BEGIN:VEVENT
DTSTART;TZID=America/Los_Angeles:20250326T110000
DTEND;TZID=America/Los_Angeles:20250326T130000
DTSTAMP:20260422T075126
CREATED:20250131T213942Z
LAST-MODIFIED:20250205T052251Z
UID:11112-1742986800-1742994000@www.kernfoundation.org
SUMMARY:The Women's and Girls' Fund 20th Anniversary Luncheon Celebration
DESCRIPTION:The Women’s and Girls’ Fund 20th Anniversary Luncheon Celebration\nThe annual luncheon is scheduled for Wednesday\, March 26th\, at Seven Oaks Country Club. \nHonoring our 2025 Grant Recipients and the Judi McCarthy Women’s Philanthropy Awardees: Neetu Jhaj & Alana S. Jackson \nIndividual Tickets – $95\nTable of 8 Reserved Seating – $800\nSponsorship Opportunities Available \nTo register for your tables or individual tickets with a credit card\, please select from the list below and use the online registration system: https://kern.fcsuite.com/erp/donate/create?event_date_id=1927 \nIf paying by check\, please make it payable to Kern Community Foundation and mail it to 5701 Truxtun Avenue\, Suite 110\, Bakersfield\, CA 93309. \nPlease register before March 12\, 2025; however\, we expect the event to be a sellout this year\, so earlier registration is recommended. \nFor any questions\, please contact Kern Community Foundation at 661-325-5346 or email wgf@kernfoundation.org. \nThank you for supporting the Women’s and Girls’ Fund. \nTo purchase tickets or sponsorships\, go to: https://kern.fcsuite.com/erp/donate/create?event_date_id=1927 \n 
URL:https://www.kernfoundation.org/event/the-womens-and-girls-fund-20th-anniversary-luncheon-celebration/
LOCATION:Seven Oaks Country Club\, 2000 Grand Lakes Avenue\, Bakersfield\, CA\, 93311\, United States
CATEGORIES:Community Events,Fundraiser
ATTACH;FMTTYPE=image/png:https://www.kernfoundation.org/wp-content/uploads/2025/02/WGF-invite-MAR25-3-edit-3_Page_1.png
END:VEVENT
BEGIN:VEVENT
DTSTART;TZID=America/Los_Angeles:20250329T080000
DTEND;TZID=America/Los_Angeles:20250329T130000
DTSTAMP:20260422T075126
CREATED:20250228T195318Z
LAST-MODIFIED:20250303T194911Z
UID:11301-1743235200-1743253200@www.kernfoundation.org
SUMMARY:Bakersfield Angels Yard Sale
DESCRIPTION:Join the “Angels in Action” High School Ambassador Team for a Yard Sale on Saturday\, March 29\, from 8:00 AM to 1:00 PM at 9700 Stockdale Hwy to support children\, youth\, and families in foster care. Declutter for a cause by donating gently used items such as clothes\, furniture\, and household goods. Donations can be dropped off at their office on Friday\, March 7 and Friday\, March 28 between 8:00 AM – 5:30 PM\, with scheduling available through Cierra at (661)-205-6446. Can’t make it but still want to help? Donate through Venmo @bakersfield_Angels and for updates follow them on Instagram @ba.angelsinaction. Your contributions will help the Angels in Action team fund programs and services for the foster care community. We look forward to seeing you there!
URL:https://www.kernfoundation.org/event/bakersfield-angels-yard-sale/
LOCATION:Bakersfield Angels\, 9700 Stockdale Hwy.\, Ste. 208\, Bakersfield\, 93311\, United States
CATEGORIES:Community Events
ATTACH;FMTTYPE=image/png:https://www.kernfoundation.org/wp-content/uploads/2025/02/c378c465-b4b6-417b-a149-bca319a1b641.png
ORGANIZER;CN="Bakersfield Angels":MAILTO:info@bakersfieldangels.org
END:VEVENT
END:VCALENDAR