BEGIN:VCALENDAR
VERSION:2.0
PRODID:-//Kern Community Foundation - ECPv6.15.16.1//NONSGML v1.0//EN
CALSCALE:GREGORIAN
METHOD:PUBLISH
X-ORIGINAL-URL:https://www.kernfoundation.org
X-WR-CALDESC:Events for Kern Community Foundation
REFRESH-INTERVAL;VALUE=DURATION:PT1H
X-Robots-Tag:noindex
X-PUBLISHED-TTL:PT1H
BEGIN:VTIMEZONE
TZID:America/Los_Angeles
BEGIN:DAYLIGHT
TZOFFSETFROM:-0800
TZOFFSETTO:-0700
TZNAME:PDT
DTSTART:20240310T100000
END:DAYLIGHT
BEGIN:STANDARD
TZOFFSETFROM:-0700
TZOFFSETTO:-0800
TZNAME:PST
DTSTART:20241103T090000
END:STANDARD
BEGIN:DAYLIGHT
TZOFFSETFROM:-0800
TZOFFSETTO:-0700
TZNAME:PDT
DTSTART:20250309T100000
END:DAYLIGHT
BEGIN:STANDARD
TZOFFSETFROM:-0700
TZOFFSETTO:-0800
TZNAME:PST
DTSTART:20251102T090000
END:STANDARD
BEGIN:DAYLIGHT
TZOFFSETFROM:-0800
TZOFFSETTO:-0700
TZNAME:PDT
DTSTART:20260308T100000
END:DAYLIGHT
BEGIN:STANDARD
TZOFFSETFROM:-0700
TZOFFSETTO:-0800
TZNAME:PST
DTSTART:20261101T090000
END:STANDARD
END:VTIMEZONE
BEGIN:VEVENT
DTSTART;TZID=America/Los_Angeles:20250213T180000
DTEND;TZID=America/Los_Angeles:20250213T220000
DTSTAMP:20260422T092953
CREATED:20250205T201952Z
LAST-MODIFIED:20250205T201952Z
UID:11153-1739469600-1739484000@www.kernfoundation.org
SUMMARY:Clandestine Dinner
DESCRIPTION:Clandestine Dinner\nJoin us for the Clandestine Dinner hosted by Covenant Coffee on February 13th at 6 PM. Experience an exclusive 5-course gourmet meal\, crafted by talented foster youth from our culinary program. Enjoy the option of wine pairing to complement each course. Tickets are $65 without wine pairing and $115 with wine pairing. Reserve your seat by contacting Samantha at (661) 379-4783. Don’t miss out on this unforgettable dinner! \n \n 
URL:https://www.kernfoundation.org/event/clandestine-dinner/
LOCATION:Convenant Coffee\, 5060 California Ave. Suite #130\, Bakersfield\, CA\, 93309\, United States
CATEGORIES:Community Events
END:VEVENT
END:VCALENDAR