BEGIN:VCALENDAR
VERSION:2.0
PRODID:-//Kern Community Foundation - ECPv6.15.16.1//NONSGML v1.0//EN
CALSCALE:GREGORIAN
METHOD:PUBLISH
X-WR-CALNAME:Kern Community Foundation
X-ORIGINAL-URL:https://www.kernfoundation.org
X-WR-CALDESC:Events for Kern Community Foundation
REFRESH-INTERVAL;VALUE=DURATION:PT1H
X-Robots-Tag:noindex
X-PUBLISHED-TTL:PT1H
BEGIN:VTIMEZONE
TZID:America/Los_Angeles
BEGIN:DAYLIGHT
TZOFFSETFROM:-0800
TZOFFSETTO:-0700
TZNAME:PDT
DTSTART:20230312T100000
END:DAYLIGHT
BEGIN:STANDARD
TZOFFSETFROM:-0700
TZOFFSETTO:-0800
TZNAME:PST
DTSTART:20231105T090000
END:STANDARD
BEGIN:DAYLIGHT
TZOFFSETFROM:-0800
TZOFFSETTO:-0700
TZNAME:PDT
DTSTART:20240310T100000
END:DAYLIGHT
BEGIN:STANDARD
TZOFFSETFROM:-0700
TZOFFSETTO:-0800
TZNAME:PST
DTSTART:20241103T090000
END:STANDARD
BEGIN:DAYLIGHT
TZOFFSETFROM:-0800
TZOFFSETTO:-0700
TZNAME:PDT
DTSTART:20250309T100000
END:DAYLIGHT
BEGIN:STANDARD
TZOFFSETFROM:-0700
TZOFFSETTO:-0800
TZNAME:PST
DTSTART:20251102T090000
END:STANDARD
END:VTIMEZONE
BEGIN:VEVENT
DTSTART;TZID=America/Los_Angeles:20241107T173000
DTEND;TZID=America/Los_Angeles:20241107T210000
DTSTAMP:20260422T141011
CREATED:20241024T155443Z
LAST-MODIFIED:20241024T161614Z
UID:10828-1731000600-1731013200@www.kernfoundation.org
SUMMARY:2nd Annual Highland Music Gala
DESCRIPTION:2nd Annual Highland Music Gala\nJoin us for an unforgettable evening of music\, dining\, and giving back at the Annual Highland Music Gala ! \nHighland musicians have a special event invitation to march at Pearl Harbor on\nDecember 7\, 2025! We want to see Highland High School and Bakersfield\,\nCalifornia represented at this momentous occasion! \nPurchase tickets online at: BMTSTARS.COM\nDinner is included in the price of a ticket ($85 + $5.41 processing fees) with an entree\nchoice of tri-tip\, chicken\, or pasta. There will be live entertainment\, games\, and amazing\nsilent auction opportunities. The lounge bar will be open for beer\, wine\, and cocktails. \n \nBackground: Highland High School opened in 1970 in northeast Bakersfield\, surrounded by open fields and land used for grazing sheep. As the school is now in its 5th decade\, Highland has realized tremendous growth in many areas of the performing arts. One unique element of the music program that sets them apart from others is their core group of students who play the bagpipes\, a tradition that has carried on for decades. Known as the Highland Scots\, students are recognized by their wearing of the kilts and\ntheir eye-catching green\, blue\, and white. Their marching band is known as the Black Watch Brigade\, a royal regiment of Scotland. Their field show this year is entitled “To Those About to Rock\,” transforming classic tunes into a fun and energetic display. HHS also has a full orchestra\, and a jazz band that plays at special events. For more information about this event or upcoming events\, please contact: Sandra Caudel\, Booster President 661-333-6088 Candace Garcia\, Booster Vice President\, 661-427-7321 Theresa Louie\, Booster Secretary\, 661-565-5077 Sarah Haggard\, Gala Chairperson\, 661-246-7227 \nDonation Letter \nTo whom it may concern\,\nOn behalf of the Highland Music Boosters\, I am reaching out to request your generous support for\nour upcoming Highland Music Gala\, an event dedicated to raising funds for an enriching and\neducational experience for our talented young musicians. This event brings together music\nenthusiasts\, local businesses\, and individuals who share a passion for nurturing the artistic growth of\nour students.\nOur fundraising goal for this year’s Highland Music Gala is $25\,000. This amount is crucial to cover the\ncompetition and festival fees\, food for the kids during events\, uniforms\, garment bags\, props\, drill\,\nsupplemental education tools and other costs that arise throughout the school year. Fundraising will\nalso help toward covering the cost of the December 7\, 2025\, trip to Pearl Harbor so that our students\nmay participate in the 84th commemorative ceremony. We are committed to ensuring that these young\nindividuals receive a comprehensive educational experience that is both enjoyable and enlightening.\nWe kindly ask for your support in the form of cash donations\, silent auction items\, giveaway items\, or\ncorporate sponsorship for the Highland Music Gala. Your contribution will not only assist us in achieving\nour fundraising goal but will also play a significant role in creating a lasting impact on the lives of these\ndedicated students. Your generosity will be acknowledged during the event and in our promotional\nmaterials. For your records\, our organization is a 501c3 and our tax ID number is 77-0498308.\nAttached\, please find more information about the Highland Music Boosters\, our mission\, and the\ndetails of the Highland Music Gala. If you require any additional information or have any questions\,\nplease do not hesitate to contact us at scotshhsmusic@gamil.com or 661-246-7227.\nThank you for considering our request and for your dedication to supporting the arts and education.\nWe look forward to the possibility of partnering with you to make this year’s Highland Music Gala a\nresounding success.\nSincerely\,\nSarah Haggard\, Gala Committee Chair\nHighland High School Instrumental Music Booster Club\nscotshhsmusic@gmail.com\n661-246-7227\nEnclosures: Information
URL:https://www.kernfoundation.org/event/2nd-annual-highland-music-gala/
LOCATION:Stars Theatre Restaurant\, 1931 Chester Avenue\, Bakersfield\, CA\, 93301\, United States
CATEGORIES:Community Events,Fundraiser,Fundraiser,KAN Events
ATTACH;FMTTYPE=image/jpeg:https://www.kernfoundation.org/wp-content/uploads/2024/10/Screenshot_24-10-2024_84230_.jpeg
ORGANIZER;CN="Highland High School Instrumental Music Booster Club":MAILTO:scotshhsmusic@gmail.com
END:VEVENT
BEGIN:VEVENT
DTSTART;TZID=America/Los_Angeles:20241116T100000
DTEND;TZID=America/Los_Angeles:20241116T140000
DTSTAMP:20260422T141011
CREATED:20241018T162905Z
LAST-MODIFIED:20241018T162906Z
UID:10805-1731751200-1731765600@www.kernfoundation.org
SUMMARY:Fall in Love with Family Health & Wellness Resources Center
DESCRIPTION:Fall in Love with Family Health & Wellness Resources Center\nJoin us for an unforgettable day filled with music\, games\, delicious fresh food boxes\, family resources\, youth hygiene kits\, family photos\, and so much more! Admission is completely free\, so gather your family and friends and come on down for a day of fun and community spirit. Don’t miss out on the excitement—there’s something for everyone!
URL:https://www.kernfoundation.org/event/fall-in-love-with-family-health-wellness-resources-center/
LOCATION:Charmed & Chosen Empowerment Center\, 1400 Easton Drive Suite 128\, Bakersfield\, CA\, 93309\, United States
CATEGORIES:Community Events
ATTACH;FMTTYPE=image/jpeg:https://www.kernfoundation.org/wp-content/uploads/2024/10/Fall-in-Love-with-Family-scaled.jpg
ORGANIZER;CN="Charmed & Chosen Inc.":MAILTO:charmed.chosen2020@gmail.com
END:VEVENT
BEGIN:VEVENT
DTSTART;TZID=America/Los_Angeles:20241116T170000
DTEND;TZID=America/Los_Angeles:20241116T210000
DTSTAMP:20260422T141011
CREATED:20240916T175035Z
LAST-MODIFIED:20240916T175035Z
UID:10687-1731776400-1731790800@www.kernfoundation.org
SUMMARY:JJ's Legacy 9th Annual Grillin' & Brewin'
DESCRIPTION:JJ’s Legacy 9th Annual Grillin’ & Brewin’\nThis much anticipated fundraising event will have the same delicious\, mouth-watering BBQ prepared by our local award-winning competition BBQ team\, The Ridge Route Boys! Back by popular demand – local country music star Joe Peters will be our entertainment. \n\nSponsorship opportunities\, reserved tables\, and individual event tickets are available. We would also be honored to have your donations of goods\, gift cards\, services\, products\, and other silent auction items. \n\nThe fundraiser benefits JJ’s Legacy Got the Dot High School Leadership Program and Club. This essential learning platform educates local students about the need for and importance of registering to become an organ\, eye\, and tissue donor. With the goals of investing in our community and nurturing the next generation of educated and inspired students\, this project is the perfect way to bring our community together and create positive lasting changes while educating and increasing donor registration! \n\nIf you have any questions about how you or your company can be involved\, please contact Lori Malkin\, Executive Director\, 661.303.0853 or 661.489.4430 or Lorim@jjslegacy.org.
URL:https://www.kernfoundation.org/event/jjs-legacy-9th-annual-grillin-brewin/
LOCATION:AIS & RBI Facility\, 19227 Flightpath Way\, Bakersfield\, CA\, 93308\, United States
CATEGORIES:Community Events,Fundraiser
ATTACH;FMTTYPE=image/png:https://www.kernfoundation.org/wp-content/uploads/2024/09/thumbnail_GBlogo.png
ORGANIZER;CN="JJ's Legacy":MAILTO:info@jjslegacy.org
END:VEVENT
END:VCALENDAR