BEGIN:VCALENDAR
VERSION:2.0
PRODID:-//Kern Community Foundation - ECPv6.15.16.1//NONSGML v1.0//EN
CALSCALE:GREGORIAN
METHOD:PUBLISH
X-ORIGINAL-URL:https://www.kernfoundation.org
X-WR-CALDESC:Events for Kern Community Foundation
REFRESH-INTERVAL;VALUE=DURATION:PT1H
X-Robots-Tag:noindex
X-PUBLISHED-TTL:PT1H
BEGIN:VTIMEZONE
TZID:America/Los_Angeles
BEGIN:DAYLIGHT
TZOFFSETFROM:-0800
TZOFFSETTO:-0700
TZNAME:PDT
DTSTART:20230312T100000
END:DAYLIGHT
BEGIN:STANDARD
TZOFFSETFROM:-0700
TZOFFSETTO:-0800
TZNAME:PST
DTSTART:20231105T090000
END:STANDARD
BEGIN:DAYLIGHT
TZOFFSETFROM:-0800
TZOFFSETTO:-0700
TZNAME:PDT
DTSTART:20240310T100000
END:DAYLIGHT
BEGIN:STANDARD
TZOFFSETFROM:-0700
TZOFFSETTO:-0800
TZNAME:PST
DTSTART:20241103T090000
END:STANDARD
BEGIN:DAYLIGHT
TZOFFSETFROM:-0800
TZOFFSETTO:-0700
TZNAME:PDT
DTSTART:20250309T100000
END:DAYLIGHT
BEGIN:STANDARD
TZOFFSETFROM:-0700
TZOFFSETTO:-0800
TZNAME:PST
DTSTART:20251102T090000
END:STANDARD
END:VTIMEZONE
BEGIN:VEVENT
DTSTART;TZID=America/Los_Angeles:20241004T173000
DTEND;TZID=America/Los_Angeles:20241004T210000
DTSTAMP:20260422T152544
CREATED:20240822T202256Z
LAST-MODIFIED:20240822T202256Z
UID:10536-1728063000-1728075600@www.kernfoundation.org
SUMMARY:Power of the Purse
DESCRIPTION:Power of the Purse\nGiving Never Goes Out of Style! \nWe are thrilled to unveil the highly anticipated return of Power of the Purse\, a beloved tradition since 2012\, now reimagined under The Open Door Network. This signature event\, born from the union of Alliance Against Family Violence and the Bakersfield Homeless Center\, continues to showcase the profound impact of dedicated individuals and organizations in transforming lives. \nThe Power of the Purse will be held on Friday\, October 4\, 2024 at 5:30 PM. General admission tickets are $125 each and include heavy appetizers\, drinks\, and an elevated shopping extravaganza. VIP tickets are $200 each and include all the perks of a general admission ticket\, plus early entry\, guaranteed seating and a unique bar experience. \nEvery dollar from Power of the Purse directly benefits The Open Door Network and reinforces a safer\, more supportive environment for all residents of Kern County. Your involvement in this event is not just an investment\, it’s a lifeline.
URL:https://www.kernfoundation.org/event/power-of-the-purse/
LOCATION:Open Door Network\, 1921 19th St\, Bakersfield\, CA\, 93301\, United States
CATEGORIES:Community Events,Fundraiser
ATTACH;FMTTYPE=image/png:https://www.kernfoundation.org/wp-content/uploads/2024/08/todn-potp-revised-savethedate-7162024.png
ORGANIZER;CN="Open Door Network":MAILTO:info@opendoorhelps.org
END:VEVENT
BEGIN:VEVENT
DTSTART;TZID=America/Los_Angeles:20241005T080000
DTEND;TZID=America/Los_Angeles:20241005T130000
DTSTAMP:20260422T152544
CREATED:20240725T155756Z
LAST-MODIFIED:20240725T155756Z
UID:10366-1728115200-1728133200@www.kernfoundation.org
SUMMARY:2024 Lace'n It Up 5k Fun Run and Celebration Walk
DESCRIPTION:2024 Lace’n It Up 5k Fun Run and Celebration Walk
URL:https://www.kernfoundation.org/event/2024-lacen-it-up-5k-fun-run-and-celebration-walk/
LOCATION:The Park at Riverwalk\, 11298 Stockdale Hwy\, Bakersfield\, CA\, 93311
CATEGORIES:Community Events,Fundraiser
ATTACH;FMTTYPE=image/jpeg:https://www.kernfoundation.org/wp-content/uploads/2024/07/LIU-2024-Flyer-Final-scaled-1-scaled.jpg
ORGANIZER;CN="Links for Life":MAILTO:s
END:VEVENT
BEGIN:VEVENT
DTSTART;TZID=America/Los_Angeles:20241005T193000
DTEND;TZID=America/Los_Angeles:20241005T220000
DTSTAMP:20260422T152544
CREATED:20240709T193403Z
LAST-MODIFIED:20240709T194602Z
UID:10315-1728156600-1728165600@www.kernfoundation.org
SUMMARY:Bakersfield Symphony- Opening Night
DESCRIPTION:Bakersfield Symphony- Opening Night
URL:https://www.kernfoundation.org/event/bakersfield-symphony-opening-night/
LOCATION:Bakersfield Marriott at the Convention Center\, 801 Truxtun Ave.\, Bakersfield\, CA\, 93301\, United States
CATEGORIES:Community Events
ATTACH;FMTTYPE=image/png:https://www.kernfoundation.org/wp-content/uploads/2024/07/Taste-of-the-Season-Google-Form.png
END:VEVENT
BEGIN:VEVENT
DTSTART;VALUE=DATE:20241007
DTEND;VALUE=DATE:20241014
DTSTAMP:20260422T152544
CREATED:20240724T172648Z
LAST-MODIFIED:20240724T172648Z
UID:10355-1728259200-1728863999@www.kernfoundation.org
SUMMARY:The Women's Tennis Open Bakersfield 2024
DESCRIPTION:The Bakersfield Racquet Club is proud to announce that we are partnering with the United States Tennis Association and the International Tennis Federation to bring professional women’s tennis to Bakersfield from October 7-13\, 2024. The Women’s Tennis Open will be a W35 Futures event featuring cash prizes totaling $25\,000. \nWant to be a Sponsor?\n\n\n\n\n\nEmail manager@brctennis.com\n\nBakersfield Racquet Club is looking for local businesses\, community leaders\, and tennis enthusiasts to choose one of our five sponsorship packages. Each level grants a promotional advertisement of your company or brand\, opportunities for the coin flips and speaking\, meeting our professional woman tennis players\, and much more! \nDownload Sponsorship Packet (CLICK HERE).
URL:https://www.kernfoundation.org/event/the-womens-tennis-open-bakersfield-2024/
LOCATION:Bakersfield Racquet Club\, 1660 Pine St.\, Bakersfield\, CA\, 93301\, United States
CATEGORIES:Community Events
ATTACH;FMTTYPE=image/png:https://www.kernfoundation.org/wp-content/uploads/2024/07/Screenshot-2024-07-24-100209.png
END:VEVENT
BEGIN:VEVENT
DTSTART;TZID=America/Los_Angeles:20241011T180000
DTEND;TZID=America/Los_Angeles:20241011T220000
DTSTAMP:20260422T152544
CREATED:20240525T023309Z
LAST-MODIFIED:20240525T023309Z
UID:10095-1728669600-1728684000@www.kernfoundation.org
SUMMARY:Artfest 2024 – “A Masterpiece in the Making"
DESCRIPTION:Artfest 2024 – “A Masterpiece in the Making” takes its theme from the artwork of Polish artist Tamara de Lempicka. Her bold Art Deco style is a fitting backdrop for the introduction of an all-new generation of Artfest. Guests of Artfest will enjoy the appetizers\, drinks\, and refreshments during the “Stroll & Savor\,” bid on children’s artwork in the “Young Artists’ Masterpiece Gallery\,” view live performances by the children\, participate in silent and live auctions\, enjoy a sit-down dinner\, and step into the larger-than-life art displays of “Masterpieces on a Grand Scale\,” where guests can take photo mementos of this special event. Artfest will be hosted at the lavish Vista Del Lago Estate and benefits the Boys & Girls Clubs of Kern County.
URL:https://www.kernfoundation.org/event/artfest-2024-a-masterpiece-in-the-making/
LOCATION:Vista Del Lago Estate\, 15329 South H Street\, Bakersfield\, 93313
CATEGORIES:Fundraiser
ATTACH;FMTTYPE=image/jpeg:https://www.kernfoundation.org/wp-content/uploads/2024/05/ArtfestAd-final-sponsor-logos-scaled.jpg
ORGANIZER;CN="Boys & Girls Clubs of Kern County":MAILTO:knelson@bgclubsofkerncounty.org
END:VEVENT
BEGIN:VEVENT
DTSTART;TZID=America/Los_Angeles:20241012T063000
DTEND;TZID=America/Los_Angeles:20241012T110000
DTSTAMP:20260422T152544
CREATED:20240801T184103Z
LAST-MODIFIED:20240801T184224Z
UID:10390-1728714600-1728730800@www.kernfoundation.org
SUMMARY:Casa Superhero Run 2024
DESCRIPTION:Casa Superhero Run 2024 \nRun for a cause! \nGather the family and come dressed as your favorite superhero for CASA’s Superhero Run! This annual event features superhero guest appearances\, mascot dance-off\, costume contests\, vendor booths\, raffle prizes\, music\, food\, and more! Individuals\, families\, and teams can help “give a child a voice” by signing up for the 2K\, 5K\, or 10K.
URL:https://www.kernfoundation.org/event/casa-superhero-run-2/
LOCATION:The Park at Riverwalk\, 11298 Stockdale Hwy\, Bakersfield\, CA\, 93311
CATEGORIES:Community Events,Fundraiser
ATTACH;FMTTYPE=application/pdf:https://www.kernfoundation.org/wp-content/uploads/2024/08/2024-SHR-Flyer_qrcode-1.pdf
ORGANIZER;CN="CASA of Kern County":MAILTO:hvasquez@kerncasa.org
END:VEVENT
BEGIN:VEVENT
DTSTART;TZID=America/Los_Angeles:20241012T070000
DTEND;TZID=America/Los_Angeles:20241012T120000
DTSTAMP:20260422T152544
CREATED:20240827T184112Z
LAST-MODIFIED:20240827T184112Z
UID:10560-1728716400-1728734400@www.kernfoundation.org
SUMMARY:7th Annual Running with the Angels 5K Run\Walk
DESCRIPTION:7th Annual Running with the Angels 5K Run\Walk\nHonoring Angel Babies gone too soon while raising awareness for pregnancy and infant loss. All proceeds will be donated to the Noel Alexandria Foundation to continue to provide free educational\, emotional\, and financial resources to families who have been affected by pregnancy and infant loss. \n All participants must register by September 1st\, 2024\, to receive Free Sponsor T-shirt. \n T-shirt orders purchased through the store must be submitted by September 1st\, 2024. \n T-Shirts will not be available for purchase after 09/01/2024. \n\n\nSchedule\n\nRunning with the Angels 5k Run/Walk Race & Finale Schedule\nDate: October 12\, 2024\nTime: 7:00am -12:00pm\n  \nRegistration Begins: 7:00am\nProgram (Memorial/Butterfly Release): 8:00am-8:30am\nWarm up: 8:30am-9:00am\nRace: 9:00am\nAwards: 10:00am-10:30am\n  \n\n\n\n\n\nPre-Registration Pick Up\n\nDate: Friday\, October 11\, 2024\nTime: 4:30pm – 6:00pm\nLocation: Sole 2 Soul Sports 9000 Ming Avenue Ste. K-1\, Bakersfield\, CA 93311\n \n 
URL:https://www.kernfoundation.org/event/7th-annual-running-with-the-angels-5k-runwalk/
LOCATION:Yokuts Park\, 4200 Empire Dr\, Bakersfield\, 93309
CATEGORIES:Community Events,Fundraiser
ATTACH;FMTTYPE=image/jpeg:https://www.kernfoundation.org/wp-content/uploads/2024/08/raceBanner-AKK7hh0M-bMFUG9.jpg
ORGANIZER;CN="Noel Alexandria Foundation":MAILTO:info@noelalexandriafoundation.org
END:VEVENT
BEGIN:VEVENT
DTSTART;TZID=America/Los_Angeles:20241012T080000
DTEND;TZID=America/Los_Angeles:20241012T120000
DTSTAMP:20260422T152544
CREATED:20240919T173524Z
LAST-MODIFIED:20240919T173524Z
UID:10693-1728720000-1728734400@www.kernfoundation.org
SUMMARY:North Kern Run/Walk 2024
DESCRIPTION:North Kern Run/Walk 2024\nYou are invited to be a part of Kern County Cancer Foundation’s 1st Annual North Kern Cancer Run/Walk and Festival taking place on Saturday\, October 12\, 2024\, at Pioneer Elementary School in Delano\, CA 93215 from 8:00am to 12:00pm. \nThis event brings funding and awareness to the various cancer diagnosis and encourages our entire community to support local patients. We are looking forward to community members and Survivors to come participate in our 5k Run/Walk\, so let’s go!
URL:https://www.kernfoundation.org/event/north-kern-run-walk-2024/
LOCATION:Pioneer Elementary School\, 1001 Hiett Ave\, Delano\, CA\, 93215\, United States
CATEGORIES:Community Events
ATTACH;FMTTYPE=image/png:https://www.kernfoundation.org/wp-content/uploads/2024/09/NK-RW-2024-3-1.png
END:VEVENT
BEGIN:VEVENT
DTSTART;TZID=America/Los_Angeles:20241014T113000
DTEND;TZID=America/Los_Angeles:20241014T170000
DTSTAMP:20260422T152544
CREATED:20240814T182351Z
LAST-MODIFIED:20240814T182351Z
UID:10498-1728905400-1728925200@www.kernfoundation.org
SUMMARY:Bakersfield Arc Annual Golf Tournament
DESCRIPTION:Bakersfield Arc Annual Golf Tournament\nMark your calendars! Call your colleagues and friends! \nThe 2024 Bakersfield ARC Golf Tournament is happening soon! \nJoin us for a fun day out at the beautiful Bakersfield Country Club! Register your team today! \nIf you are interested in a sponsorship opportunity\, please let us know!
URL:https://www.kernfoundation.org/event/bakersfield-arc-annual-golf-tournament/
LOCATION:Bakersfield Country Club\, 4200 Country Club\, Bakersfield\, CA\, 93306\, United States
CATEGORIES:Community Events
ATTACH;FMTTYPE=application/pdf:https://www.kernfoundation.org/wp-content/uploads/2024/08/Bakersfield-ARC-Golf-Flyer-2024-1.pdf
END:VEVENT
BEGIN:VEVENT
DTSTART;TZID=America/Los_Angeles:20241018T083000
DTEND;TZID=America/Los_Angeles:20241018T100000
DTSTAMP:20260422T152544
CREATED:20240924T180842Z
LAST-MODIFIED:20240924T180842Z
UID:10724-1729240200-1729245600@www.kernfoundation.org
SUMMARY:Your Next 5 Moves for Nonprofit Success
DESCRIPTION:Your Next 5 Moves for Nonprofit Success\nThis workshop will explore essential strategies in planning\, organizational performance\, competitive funding techniques\, marketing\, and impact. Gain practical insights and actionable steps to elevate your organization’s impact and reach. \nLisa Kerr is the founder and owner of Grants for Good\, a 100% woman-owned nonprofit consulting firm that helps people build social programs that do good by focusing on the value of ethics and transparency. Lisa is the author of the multi award-winning nature children’s book Wake\, Sleepy \nOne\, an advocate for teachers\, librarians and students\, and an environmental steward working throughout California and beyond \n 
URL:https://www.kernfoundation.org/event/your-next-5-moves-for-nonprofit-success/
LOCATION:Christine Lizardi Frazier\, 1675 Chester Avenue\, Bakersfield\, CA\, 93301\, United States
CATEGORIES:Community Events,KAN Events
ATTACH;FMTTYPE=image/jpeg:https://www.kernfoundation.org/wp-content/uploads/2024/09/Screenshot_24-9-2024_105849_.jpeg
ORGANIZER;CN="Kern Alliance of Nonprofits":MAILTO:andraeg3000@gmail.com
END:VEVENT
BEGIN:VEVENT
DTSTART;TZID=America/Los_Angeles:20241019T090000
DTEND;TZID=America/Los_Angeles:20241019T130000
DTSTAMP:20260422T152544
CREATED:20241018T221141Z
LAST-MODIFIED:20241018T221409Z
UID:10813-1729328400-1729342800@www.kernfoundation.org
SUMMARY:Keepers of the Cross Bike Show Fundraiser
DESCRIPTION:Keepers of the Cross are hosing their first Annual Bike Show. The Show will be a fundraiser to help them raise funds for their 11th Annual Christmas Toy Give away. \nCome down and check out the Bikes\, Music\, Food and much more! All Bikes are welcome.
URL:https://www.kernfoundation.org/event/keepers-of-the-cross-bike-show-fundraiser/
LOCATION:127 N Chester Av. Bakersfield\, CA 93308\, 127 N. Chester Av.\, Bakersfield\, CA\, 93308\, United States
CATEGORIES:Community Events,Fundraiser
ATTACH;FMTTYPE=image/jpeg:https://www.kernfoundation.org/wp-content/uploads/2024/10/461213352_547161208028843_9076355170356734285_n.jpg
END:VEVENT
BEGIN:VEVENT
DTSTART;TZID=America/Los_Angeles:20241019T090000
DTEND;TZID=America/Los_Angeles:20241019T140000
DTSTAMP:20260422T152544
CREATED:20240814T184328Z
LAST-MODIFIED:20240814T184328Z
UID:10503-1729328400-1729346400@www.kernfoundation.org
SUMMARY:Aiming for Great Fatherhood Clayshoot Fundraiser
DESCRIPTION:Aiming for Great Fatherhood Clayshoot Fundraiser\nWe invite you to the 4th annual fall fundraiser\, “Aiming for Great Fatherhood” on Saturday\, October 19\, 2024 at 5 Dogs Range! Registration begins at 8 a.m.\, the shoot begins at 9 a.m. We are looking forward to seeing everyone for a cool morning of shooting\, lunch\, and awards!We invite you to the 4th annual fall fundraiser\, “Aiming for Great Fatherhood” on Saturday\, October 19\, 2024 at 5 Dogs Range! Registration begins at 8 a.m.\, the shoot begins at 9 a.m. We are looking forward to seeing everyone for a cool morning of shooting\, lunch\, and awards!
URL:https://www.kernfoundation.org/event/aiming-for-great-fatherhood-clayshoot-fundraiser/
LOCATION:5 Dogs Range\, 20238 Woody Rd\, Bakersfield\, CA\, United States
CATEGORIES:Community Events,Fundraiser
ATTACH;FMTTYPE=image/png:https://www.kernfoundation.org/wp-content/uploads/2024/08/thumbnail_Clay-Shoot-Postcard-4x6-1.png
ORGANIZER;CN="Bakersfield Pregnancy Center":MAILTO:outreach@wehelpyou.org
END:VEVENT
BEGIN:VEVENT
DTSTART;TZID=America/Los_Angeles:20241019T090000
DTEND;TZID=America/Los_Angeles:20241020T200000
DTSTAMP:20260422T152544
CREATED:20240709T181447Z
LAST-MODIFIED:20240709T181447Z
UID:10312-1729328400-1729454400@www.kernfoundation.org
SUMMARY:BMOA's Via Arte 25th Anniversary
DESCRIPTION:BMOA’s Via Arte 25th Anniversary
URL:https://www.kernfoundation.org/event/bmoas-via-arte-25th-anniversary/
LOCATION:The Marketplace Bakersfield\, 9000 Ming Ave\, Bakersfield\, 93311
CATEGORIES:Community Events
ORGANIZER;CN="Bakersfield Museum of Art":MAILTO:asmith@bmoa.org
END:VEVENT
BEGIN:VEVENT
DTSTART;TZID=America/Los_Angeles:20241019T130000
DTEND;TZID=America/Los_Angeles:20241020T170000
DTSTAMP:20260422T152544
CREATED:20241008T162245Z
LAST-MODIFIED:20241008T162245Z
UID:10780-1729342800-1729443600@www.kernfoundation.org
SUMMARY:Howl-o-ween at Wind Wolves Preserve
DESCRIPTION:Howl-o-ween at Wind Wolves Preserve\nJoin us for Wind Wolves Preserve’s 2nd Annual Howl-o-ween! This free\, family-friendly event features chilling creatures\, activities\, face painting\, and more! Costumes are encouraged! No reservations required. \n\nActivity Booths: 1pm-5pm\nReptile Talks: 1:30pm & 3:30pm\nCostume Contest: 5:00pm\n\n*** Costume contest categories: Most creative\, Crowd favorite\, Best Group/Pair \n  \n 
URL:https://www.kernfoundation.org/event/howl-o-ween-at-wind-wolves-preserve-2/
LOCATION:Wind Wolves Preserve\, 16019 Hwy 166\, Bakersfield\, CA\, 93311\, United States
CATEGORIES:Community Events
ATTACH;FMTTYPE=image/png:https://www.kernfoundation.org/wp-content/uploads/2024/10/Howl-o-ween-Kiosk-Flyer-2024.png
ORGANIZER;CN="The Wildlands Conservancy - Wind Wolves Preserve":MAILTO:windwolvespreserve@wildlandsconservancy.org
END:VEVENT
BEGIN:VEVENT
DTSTART;TZID=America/Los_Angeles:20241019T173000
DTEND;TZID=America/Los_Angeles:20241019T220000
DTSTAMP:20260422T152544
CREATED:20241002T194445Z
LAST-MODIFIED:20241002T194512Z
UID:10771-1729359000-1729375200@www.kernfoundation.org
SUMMARY:Tailored + Chic: Benefiting League of Dreams
DESCRIPTION:Limited Tickets. \nTailored + Chic\, one of the most anticipated events of the year\, is fast approaching\, and we don’t want you to miss it! \nReserve your seats and prepare to step into a world of elegance and impact! \nCouture cocktail hour + Luxury library treasure pull + Retail therapy stations. \nA Chic Boutique raffle + Exciting auctions + Seated Dinner + Entertaining finale and more!
URL:https://www.kernfoundation.org/event/tailored-chic-benefitting-league-of-dreams/
LOCATION:CA
CATEGORIES:Community Events
ATTACH;FMTTYPE=image/png:https://www.kernfoundation.org/wp-content/uploads/2024/10/TC-LOD-Limited-Tickets-e-blast-2.png
END:VEVENT
BEGIN:VEVENT
DTSTART;TZID=America/Los_Angeles:20241026T120000
DTEND;TZID=America/Los_Angeles:20241026T150000
DTSTAMP:20260422T152544
CREATED:20240526T143712Z
LAST-MODIFIED:20240526T143712Z
UID:10114-1729944000-1729954800@www.kernfoundation.org
SUMMARY:Healthful Harvest/ Cosecha Saludable
DESCRIPTION:Healthful Harvest/ Cosecha Saludable presented by Adventist Health\, Dignity Health\, Kaiser Permanente\, & Kern Medical\n  \n 
URL:https://www.kernfoundation.org/event/healthful-harvest-cosecha-saludable/
LOCATION:Haven Drive Middle School\, 341 Haven Drive\, Arvin\, 93203\, United States
CATEGORIES:Community Events
ATTACH;FMTTYPE=image/jpeg:https://www.kernfoundation.org/wp-content/uploads/2024/05/hh2024-1.jpg
END:VEVENT
END:VCALENDAR