BEGIN:VCALENDAR
VERSION:2.0
PRODID:-//Kern Community Foundation - ECPv6.15.16.1//NONSGML v1.0//EN
CALSCALE:GREGORIAN
METHOD:PUBLISH
X-WR-CALNAME:Kern Community Foundation
X-ORIGINAL-URL:https://www.kernfoundation.org
X-WR-CALDESC:Events for Kern Community Foundation
REFRESH-INTERVAL;VALUE=DURATION:PT1H
X-Robots-Tag:noindex
X-PUBLISHED-TTL:PT1H
BEGIN:VTIMEZONE
TZID:America/Los_Angeles
BEGIN:DAYLIGHT
TZOFFSETFROM:-0800
TZOFFSETTO:-0700
TZNAME:PDT
DTSTART:20230312T100000
END:DAYLIGHT
BEGIN:STANDARD
TZOFFSETFROM:-0700
TZOFFSETTO:-0800
TZNAME:PST
DTSTART:20231105T090000
END:STANDARD
BEGIN:DAYLIGHT
TZOFFSETFROM:-0800
TZOFFSETTO:-0700
TZNAME:PDT
DTSTART:20240310T100000
END:DAYLIGHT
BEGIN:STANDARD
TZOFFSETFROM:-0700
TZOFFSETTO:-0800
TZNAME:PST
DTSTART:20241103T090000
END:STANDARD
BEGIN:DAYLIGHT
TZOFFSETFROM:-0800
TZOFFSETTO:-0700
TZNAME:PDT
DTSTART:20250309T100000
END:DAYLIGHT
BEGIN:STANDARD
TZOFFSETFROM:-0700
TZOFFSETTO:-0800
TZNAME:PST
DTSTART:20251102T090000
END:STANDARD
END:VTIMEZONE
BEGIN:VEVENT
DTSTART;TZID=America/Los_Angeles:20240706T053000
DTEND;TZID=America/Los_Angeles:20240706T073000
DTSTAMP:20260422T193104
CREATED:20240702T143540Z
LAST-MODIFIED:20240702T143540Z
UID:10260-1720243800-1720251000@www.kernfoundation.org
SUMMARY:The Wildlands Conservancy - Wind Wolves Preserve: Guided Sunrise Hike
DESCRIPTION:Experience the preserve during sunrise and learn about its crepuscular and early morning wonders. We will be hiking approximately 2 miles on the San Emigdio Canyon Trail (about 300 ft elevation) to Raven’s Landing. Recommended for ages 8 and up (no strollers). \nEvent is subject to cancellation due to unsafe weather conditions\, including excessive heat warnings. \nPlease plan to arrive at the Crossing parking lot 15 minutes prior to the hike time for check-in. Only registered participants will be admitted. Hike will start at 5:30 am – preserve gate will open at 5:10 am. \nReservations are required. Space is limited. You can register up to 5 people. \nFree camping is available! Call Wind Wolves Preserve at (661) 858-1115 for questions and more information. \nSuggested Items to Bring \n\nlayered clothing\njacket\nlong pants (protect yourself from ticks)\nclose-toed shoes\nsun protection (hat\, sunscreen\, sunglasses)\nwater/electrolytes\nsnacks\n\nThis event is free\, but please consider a donation to support The Wildlands Conservancy’s mission! Check out the website here: wildlandsconservancy.org. \nAbout Us \nWind Wolves Preserve is a 93\,000-acre nature preserve located approximately 30 miles south of Bakersfield\, and is owned and operated by The Wildlands Conservancy (TWC). The preserve is open to the public daily and visitors can enjoy outdoor activities such as hiking\, biking\, camping\, or attend a staff led program\, all free of charge. \nTWC is a private\, non-profit organization that operates more than 25 preserves along the west coast. Our mission is “To preserve the beauty and biodiversity of the earth and to provide programs so that children may know the wonder and joy of nature.” To learn about the Conservancy’s guiding principles\, ways to get involved\, upcoming events at various preserves\, and inspire others to protect nature’s beauty\, visit our website at wildlandsconservancy.org.
URL:https://www.kernfoundation.org/event/the-wildlands-conservancy-wind-wolves-preserve-guided-sunrise-hike/
LOCATION:Wind Wolves Preserve\, 16019 Hwy 166\, Bakersfield\, CA\, 93311\, United States
CATEGORIES:Community Events,Other
ATTACH;FMTTYPE=image/png:https://www.kernfoundation.org/wp-content/uploads/2024/07/Sunrise-Hikes-Flyer.png
ORGANIZER;CN="The Wildlands Conservancy - Wind Wolves Preserve":MAILTO:windwolvespreserve@wildlandsconservancy.org
END:VEVENT
BEGIN:VEVENT
DTSTART;TZID=America/Los_Angeles:20240712T191500
DTEND;TZID=America/Los_Angeles:20240712T220000
DTSTAMP:20260422T193104
CREATED:20240702T143016Z
LAST-MODIFIED:20240702T143052Z
UID:10255-1720811700-1720821600@www.kernfoundation.org
SUMMARY:The Wildlands Conservancy/ Wind Wolves Preserve: Free Summer Hikes
DESCRIPTION:The Wildlands Conservancy/ Wind Wolves Preserve: Free Summer Hikes\nWind Wolves Preserve is in an ecologically unique region where the Transverse Ranges\, Coast Ranges\, Sierra Nevada\, western Mojave Desert and San Joaquin Valley influences converge. Due to elevation ranges from 640 to 6\,005 feet\, the Preserve has an impressive array of landforms and habitats that serve as a critical landscape linkage and wildlife corridor between the Coast Ranges and Sierra Nevada. \nOn the San Joaquin Valley floor\, the Preserve is a 30-square-mile veritable sea of grasslands with remnant stands of saltbush. These grasslands are home to the endangered San Joaquin kit fox and blunt-nosed leopard lizard as well as one of the largest stands of the endangered Bakersfield cactus. The Preserve’s main wetland is home to the Buena Vista Lake ornate shrew—one of the most endangered mammals in the United States. Rolling grasslands rise from the valley floor\, transitioning into classic California blue oak and valley oak savanna with extensive riparian wetlands. The oak savanna ascends into juniper and pinyon forests that vault into stands of ponderosa pine and big cone spruce. \nVolunteers have played a major role in working with staff to restore this heroic landscape. Fourteen years of monthly work parties have removed invasive tamarisk from 30 miles of stream channels. Volunteers have made miles of boundary fencing antelope friendly\, as well as make kit fox dens for the recruitment of kit foxes. And volunteers through school\, family work parties\, and collaborating organizations have planted tens of thousands of native trees and shrubs. \nThe preserve includes the entire San Emidio Land Grant\, once owned by John C. Fremont. Wind Wolves’ rich cultural history includes some of the most noteworthy Native American rock art in North America. \n 
URL:https://www.kernfoundation.org/event/the-wildlands-conservancy-wind-wolves-preserve-free-summer-hikes/
LOCATION:Wind Wolves Preserve\, 16019 Hwy 166\, Bakersfield\, CA\, 93311\, United States
CATEGORIES:Community Events,Other
ATTACH;FMTTYPE=image/png:https://www.kernfoundation.org/wp-content/uploads/2024/07/2024-Night-Hikes-Flyer.png
ORGANIZER;CN="The Wildlands Conservancy - Wind Wolves Preserve":MAILTO:windwolvespreserve@wildlandsconservancy.org
END:VEVENT
BEGIN:VEVENT
DTSTART;TZID=America/Los_Angeles:20240713T130000
DTEND;TZID=America/Los_Angeles:20240713T170000
DTSTAMP:20260422T193104
CREATED:20240626T152808Z
LAST-MODIFIED:20240626T153201Z
UID:10192-1720875600-1720890000@www.kernfoundation.org
SUMMARY:Safe Haven Kids League of California City: A Day With our Senior Citizens & Community Resource Giveaway
DESCRIPTION:(SHKLCC) is an organization dedicated to help families and especially youth in our community. Over the last year we have been able to help more than 800 families. We are currently in the early stages of planning our next event “A Day With Our Seniors Citizen of our community. This event will include the following: Parents and kids come out and enjoy a day of community & fun With our 50 & above Club\, the kids and youth of our community will serve our seniors remembering where we come from though our seniors. We will have pictures for keepsakes of memories for the kids and families\, we will be giving a lot of amazing items to our seniors for free. We are also asking the senior center bingo board to host BINGO for this event. We also will have Karaoke and a lot of fun for our 50 & above club. Starbucks of Cal-City will be there supporting & giving back to our seniors and community for free also the Boy & Girls scouts and many more organizations will be there supporting and helping with this event. Opportunity Drawing / Arts & Crafts / Food\, Water & juice / blankets and a lot more.
URL:https://www.kernfoundation.org/event/a-day-with-our-senior-citizens-community-resource-giveaway-event/
LOCATION:Central Park (Stata Center) 10350 Hether Ave California City Ca. 93505
CATEGORIES:Community Events,Other
ATTACH;FMTTYPE=image/jpeg:https://www.kernfoundation.org/wp-content/uploads/2024/06/Safe-Haven-Kids-League-Summer-Breeze-event-on-July-13.jpg
ORGANIZER;CN="(CEO) Linda King%2C Safe Haven Kids League of California City":MAILTO:linda@safehavenkidsleague.org
END:VEVENT
BEGIN:VEVENT
DTSTART;TZID=America/Los_Angeles:20240714T080000
DTEND;TZID=America/Los_Angeles:20240714T110000
DTSTAMP:20260422T193104
CREATED:20240702T143824Z
LAST-MODIFIED:20240702T144026Z
UID:10262-1720944000-1720954800@www.kernfoundation.org
SUMMARY:The Wildlands Conservancy - Wind Wolves Preserve: Volunteer Day
DESCRIPTION:Volunteer Day: Plant Watering – Wind Wolves Preserve\nJoin Wind Wolves Staff as we provide water to newly planted shrubs at our plots near the office. \nReservations required. \nCheck in at the Administrative Center at 7:45 am. **Cell reception is available \nRecommended for ages 10 and up. Space is limited. \n4×4 and high clearance vehicles not required. \nSuggested Items to Bring \n\nweather appropriate clothing (check the weather)\nlong pants (protect yourself from ticks)\nclose-toed shoes\nsun protection (hat\, sunscreen\, sunglasses)\nwater/electrolytes\nsnacks\n\nFree camping is available by reservation! Call Wind Wolves Preserve at (661) 858-1115 for questions and more information. This event is free\, but please consider a donation to support The Wildlands Conservancy’s mission! Check out the website here: wildlandsconservancy.org. You can follow our social media (Facebook and Instagram) @windwolvespreserve for updates. \nAbout Us \nWind Wolves Preserve is a 93\,000-acre nature preserve located approximately 30 miles south of Bakersfield\, and is owned and operated by The Wildlands Conservancy (TWC). The preserve is open to the public daily and visitors can enjoy outdoor activities such as hiking\, biking\, camping\, or attend a staff led program\, all free of charge. \nTWC is a private\, non-profit organization that operates more than 25 preserves along the west coast. Our mission is “To preserve the beauty and biodiversity of the earth and to provide programs so that children may know the wonder and joy of nature.” To learn about the Conservancy’s guiding principles\, ways to get involved\, upcoming events at various preserves\, and inspire others to protect nature’s beauty\, visit our website at wildlandsconservancy.org.
URL:https://www.kernfoundation.org/event/the-wildlands-conservancy-wind-wolves-preserve-volunteer-day/
LOCATION:Wind Wolves Preserve\, 16019 Hwy 166\, Bakersfield\, CA\, 93311\, United States
CATEGORIES:Community Events,Other
ATTACH;FMTTYPE=image/png:https://www.kernfoundation.org/wp-content/uploads/2024/07/wwjuly.png
ORGANIZER;CN="The Wildlands Conservancy - Wind Wolves Preserve":MAILTO:windwolvespreserve@wildlandsconservancy.org
END:VEVENT
BEGIN:VEVENT
DTSTART;TZID=America/Los_Angeles:20240718T080000
DTEND;TZID=America/Los_Angeles:20240718T110000
DTSTAMP:20260422T193104
CREATED:20240702T164536Z
LAST-MODIFIED:20240702T164536Z
UID:10271-1721289600-1721300400@www.kernfoundation.org
SUMMARY:The Wildlands Conservancy - Wind Wolves Preserve: Volunteer Day
DESCRIPTION:Volunteer Day: Plant Watering – Wind Wolves Preserve\nJoin Wind Wolves Staff as we provide water to newly planted shrubs at our plots near the office. \nReservations required. \nCheck in at the Administrative Center at 7:45 am. **Cell reception is available \nRecommended for ages 10 and up. Space is limited. \n4×4 and high clearance vehicles not required. \nSuggested Items to Bring \n\nweather appropriate clothing (check the weather)\nlong pants (protect yourself from ticks)\nclose-toed shoes\nsun protection (hat\, sunscreen\, sunglasses)\nwater/electrolytes\nsnacks\n\nFree camping is available by reservation! Call Wind Wolves Preserve at (661) 858-1115 for questions and more information. This event is free\, but please consider a donation to support The Wildlands Conservancy’s mission! Check out the website here: wildlandsconservancy.org. You can follow our social media (Facebook and Instagram) @windwolvespreserve for updates. \nAbout Us \nWind Wolves Preserve is a 93\,000-acre nature preserve located approximately 30 miles south of Bakersfield\, and is owned and operated by The Wildlands Conservancy (TWC). The preserve is open to the public daily and visitors can enjoy outdoor activities such as hiking\, biking\, camping\, or attend a staff led program\, all free of charge. \nTWC is a private\, non-profit organization that operates more than 25 preserves along the west coast. Our mission is “To preserve the beauty and biodiversity of the earth and to provide programs so that children may know the wonder and joy of nature.” To learn about the Conservancy’s guiding principles\, ways to get involved\, upcoming events at various preserves\, and inspire others to protect nature’s beauty\, visit our website at wildlandsconservancy.org.
URL:https://www.kernfoundation.org/event/the-wildlands-conservancy-wind-wolves-preserve-volunteer-day-2/
LOCATION:Wind Wolves Preserve\, 16019 Hwy 166\, Bakersfield\, CA\, 93311\, United States
CATEGORIES:Community Events,Other
ATTACH;FMTTYPE=image/png:https://www.kernfoundation.org/wp-content/uploads/2024/07/wwjuly.png
ORGANIZER;CN="The Wildlands Conservancy - Wind Wolves Preserve":MAILTO:windwolvespreserve@wildlandsconservancy.org
END:VEVENT
BEGIN:VEVENT
DTSTART;TZID=America/Los_Angeles:20240719T170000
DTEND;TZID=America/Los_Angeles:20240719T190000
DTSTAMP:20260422T193104
CREATED:20240627T001332Z
LAST-MODIFIED:20240627T001332Z
UID:10222-1721408400-1721415600@www.kernfoundation.org
SUMMARY:La Vida Nueva: New Location Grand Opening
DESCRIPTION:La Vida Nueva: New Location Grand Opening \nJoin La Vida Nueva’s new clinic location! There will be inspirational speakers\, raffle prizes\, tours of the new clinic and refreshments. \nDate: Friday\, July 19\, 2024 \nTime: 5 – 7 PM \nLocation: 5080 California Ave. Suite 100 Bakersfield\, CA
URL:https://www.kernfoundation.org/event/la-vida-nueva-new-location-grand-opening/
LOCATION:La Vida Nueva\, 5080 California Ave Suite 110\, Bakersfield\, CA\, 93309\, United States
CATEGORIES:Community Events,Other
ATTACH;FMTTYPE=image/png:https://www.kernfoundation.org/wp-content/uploads/2024/06/GRAND-OPENING-FLYER_La-Vida-Nueva-1.png
END:VEVENT
BEGIN:VEVENT
DTSTART;TZID=America/Los_Angeles:20240719T183000
DTEND;TZID=America/Los_Angeles:20240719T214500
DTSTAMP:20260422T193104
CREATED:20240708T202804Z
LAST-MODIFIED:20240708T202910Z
UID:10293-1721413800-1721425500@www.kernfoundation.org
SUMMARY:The Wildlands Conservancy - Wind Wolves Preserve presents Movies in the Canyon
DESCRIPTION:The Wildlands Conservancy – Wind Wolves Preserve presents Movies in the Canyon\n 
URL:https://www.kernfoundation.org/event/the-wildlands-conservancy-wind-wolves-preserve-presents-movies-in-the-canyon/
LOCATION:Wind Wolves Preserve\, 16019 Hwy 166\, Bakersfield\, CA\, 93311\, United States
CATEGORIES:Community Events
ATTACH;FMTTYPE=image/png:https://www.kernfoundation.org/wp-content/uploads/2024/07/wwmovies-1.png
ORGANIZER;CN="The Wildlands Conservancy - Wind Wolves Preserve":MAILTO:windwolvespreserve@wildlandsconservancy.org
END:VEVENT
BEGIN:VEVENT
DTSTART;TZID=America/Los_Angeles:20240720T110000
DTEND;TZID=America/Los_Angeles:20240720T150000
DTSTAMP:20260422T193104
CREATED:20240702T163403Z
LAST-MODIFIED:20240702T163403Z
UID:10265-1721473200-1721487600@www.kernfoundation.org
SUMMARY:2nd Annual Houchin Summer Social & Fundraising Event
DESCRIPTION:Houchin Community Blood Bank is thrilled to announce that its Annual Summer Social and Celebrity Dunk Tank & Raffle Fundraising event\, presented by Klein DeNatale Goldner\, is underway. \nDate: Saturday\, July 20th  \nTime: 11 am – 3 pm  \nLocation: 11515 Bolthouse Drive\, Bakersfield\, CA 93311 \nDonors will have the opportunity to win tickets to see the LA Dodgers and be treated to food\, refreshments\, and sweet treats. We invite the community to enjoy carnival fun for the whole family with live music\, children’s activities\, Baseball Best Dressed competition\, and much more. Attendees the chance to dunk local celebrities and win raffle baskets\, all benefiting the Houchin Heartbeats High School Scholarship Program. \n 
URL:https://www.kernfoundation.org/event/2nd-annual-houchin-summer-social-fundraising-event/
LOCATION:11515 Bolthouse Drive\, 11515 Bolthouse Drive\, Bakersfield\, 93311\, United States
CATEGORIES:Community Events,Fundraiser
ATTACH;FMTTYPE=image/jpeg:https://www.kernfoundation.org/wp-content/uploads/2024/07/07_-Summer-Social-Event-Social-Graphic.jpg
END:VEVENT
BEGIN:VEVENT
DTSTART;TZID=America/Los_Angeles:20240725T073000
DTEND;TZID=America/Los_Angeles:20240725T100000
DTSTAMP:20260422T193104
CREATED:20240702T164808Z
LAST-MODIFIED:20240702T164808Z
UID:10273-1721892600-1721901600@www.kernfoundation.org
SUMMARY:The Wildlands Conservancy - Wind Wolves Preserve: Volunteer Day
DESCRIPTION:Volunteer Day: Plant Watering – Wind Wolves Preserve\n\n\nJoin Wind Wolves staff as they monitor the growth and health of they growing Bakersfield cactus populations. \n\n\nReservations required. \nCheck in at the Administrative Center at 7:45 am. **Cell reception is available \nRecommended for ages 10 and up. Space is limited. \n4×4 and high clearance vehicles not required. \nSuggested Items to Bring \n\nweather appropriate clothing (check the weather)\nlong pants (protect yourself from ticks)\nclose-toed shoes\nsun protection (hat\, sunscreen\, sunglasses)\nwater/electrolytes\nsnacks\n\nFree camping is available by reservation! Call Wind Wolves Preserve at (661) 858-1115 for questions and more information. This event is free\, but please consider a donation to support The Wildlands Conservancy’s mission! Check out the website here: wildlandsconservancy.org. You can follow our social media (Facebook and Instagram) @windwolvespreserve for updates. \nAbout Us \nWind Wolves Preserve is a 93\,000-acre nature preserve located approximately 30 miles south of Bakersfield\, and is owned and operated by The Wildlands Conservancy (TWC). The preserve is open to the public daily and visitors can enjoy outdoor activities such as hiking\, biking\, camping\, or attend a staff led program\, all free of charge. \nTWC is a private\, non-profit organization that operates more than 25 preserves along the west coast. Our mission is “To preserve the beauty and biodiversity of the earth and to provide programs so that children may know the wonder and joy of nature.” To learn about the Conservancy’s guiding principles\, ways to get involved\, upcoming events at various preserves\, and inspire others to protect nature’s beauty\, visit our website at wildlandsconservancy.org.
URL:https://www.kernfoundation.org/event/the-wildlands-conservancy-wind-wolves-preserve-volunteer-day-3/
LOCATION:Wind Wolves Preserve\, 16019 Hwy 166\, Bakersfield\, CA\, 93311\, United States
CATEGORIES:Community Events,Other
ATTACH;FMTTYPE=image/png:https://www.kernfoundation.org/wp-content/uploads/2024/07/wwjuly.png
ORGANIZER;CN="The Wildlands Conservancy - Wind Wolves Preserve":MAILTO:windwolvespreserve@wildlandsconservancy.org
END:VEVENT
BEGIN:VEVENT
DTSTART;TZID=America/Los_Angeles:20240726T083000
DTEND;TZID=America/Los_Angeles:20240726T150000
DTSTAMP:20260422T193104
CREATED:20240516T230546Z
LAST-MODIFIED:20240526T142953Z
UID:10072-1721982600-1722006000@www.kernfoundation.org
SUMMARY:2024 Kern County Americans with Disabilities Act Conference
DESCRIPTION:Independent Living Center of Kern County (ILCKC) is celebrating the 34th anniversary of the signing of the Americans with Disabilities Act (ADA) \nOn July 26\, 1990\, George H.W. Bush signed the ADA into law.\nThis important civil rights law prohibits discrimination against individuals\nwith disabilities in various areas of life. These areas include jobs\, schools\,\ntransportation\, and all public and private businesses open to the public. \nILCKC is honored to host a conference in recognition of this landmark legislation. \n(President George H.W. Bush on July 26\, 1990 signing the ADA.)
URL:https://www.kernfoundation.org/event/2024-kern-county-americans-with-disabilities-act-conference/
LOCATION:DoubleTree by Hilton\, 3100 Camino Del Rio Court\, Bakersfield\, CA\, 93308\, United States
CATEGORIES:Community Events
ATTACH;FMTTYPE=image/png:https://www.kernfoundation.org/wp-content/uploads/2024/05/Screenshot-2024-05-16-143117.png
END:VEVENT
END:VCALENDAR