BEGIN:VCALENDAR
VERSION:2.0
PRODID:-//Kern Community Foundation - ECPv6.15.16.1//NONSGML v1.0//EN
CALSCALE:GREGORIAN
METHOD:PUBLISH
X-ORIGINAL-URL:https://www.kernfoundation.org
X-WR-CALDESC:Events for Kern Community Foundation
REFRESH-INTERVAL;VALUE=DURATION:PT1H
X-Robots-Tag:noindex
X-PUBLISHED-TTL:PT1H
BEGIN:VTIMEZONE
TZID:America/Los_Angeles
BEGIN:DAYLIGHT
TZOFFSETFROM:-0800
TZOFFSETTO:-0700
TZNAME:PDT
DTSTART:20230312T100000
END:DAYLIGHT
BEGIN:STANDARD
TZOFFSETFROM:-0700
TZOFFSETTO:-0800
TZNAME:PST
DTSTART:20231105T090000
END:STANDARD
BEGIN:DAYLIGHT
TZOFFSETFROM:-0800
TZOFFSETTO:-0700
TZNAME:PDT
DTSTART:20240310T100000
END:DAYLIGHT
BEGIN:STANDARD
TZOFFSETFROM:-0700
TZOFFSETTO:-0800
TZNAME:PST
DTSTART:20241103T090000
END:STANDARD
BEGIN:DAYLIGHT
TZOFFSETFROM:-0800
TZOFFSETTO:-0700
TZNAME:PDT
DTSTART:20250309T100000
END:DAYLIGHT
BEGIN:STANDARD
TZOFFSETFROM:-0700
TZOFFSETTO:-0800
TZNAME:PST
DTSTART:20251102T090000
END:STANDARD
END:VTIMEZONE
BEGIN:VEVENT
DTSTART;TZID=America/Los_Angeles:20240302T090000
DTEND;TZID=America/Los_Angeles:20240302T123000
DTSTAMP:20260423T005530
CREATED:20240219T032603Z
LAST-MODIFIED:20240219T032603Z
UID:9735-1709370000-1709382600@www.kernfoundation.org
SUMMARY:JJ's Legacy: Got The Dot Walk-a-thon
DESCRIPTION:JJ’s Legacy: Got The Dot Walk-a-thon\nWe are thrilled that our Got The Dot Club has doubled from 12 participating high schools to 24 high schools in just one year! And we need help continuing our growth and bringing awareness and education about organ\, eye\, and tissue donation as well as to honor families who have been through the organ donation process. That’s why JJ’s Legacy’s Got the Dot High School Leadership Program is proud to hold its third annual Got the Dot Walk-A-Thon on Saturday\, March 2nd. \nThe 5k walk\, organized entirely by high school students\, takes place at CSUB’s Amphitheater from 9 am-12:30 pm! The walk is family-friendly and open to everyone. \nThere will be food trucks\, live bands\, activities and games\, as well as information booths. Check-in will begin at 9am\, the event kicks off at 10:30 am\, and the walk will begin at 11 am. \nAnyone who pre-registers for the event by Tuesday\, February 20 th will get a FREE T-shirt\, however\, day of participation is welcome. The goal this year is to get 1\,000 participants!
URL:https://www.kernfoundation.org/event/jjs-legacy-got-the-dot-walk-a-thon-2/
LOCATION:CSUB ampitheatre\, 9001 Stockdale Highway\, Bakersfield\, 93311
CATEGORIES:Fundraiser
ATTACH;FMTTYPE=image/jpeg:https://www.kernfoundation.org/wp-content/uploads/2024/02/Got-the-Dot-logo.jpg
END:VEVENT
BEGIN:VEVENT
DTSTART;TZID=America/Los_Angeles:20240302T183000
DTEND;TZID=America/Los_Angeles:20240302T203000
DTSTAMP:20260423T005530
CREATED:20230913T161530Z
LAST-MODIFIED:20230913T161557Z
UID:9086-1709404200-1709411400@www.kernfoundation.org
SUMMARY:Bakersfield Symphony Orchestra: The Firebird
DESCRIPTION:Bakersfield Symphony Orchestra: The Fire Bird\nComposer Discovery Project Winner  | New Work\nPart of Bakersfield Symphony’s “Growing our Own” Initiative \nRavel  | Mother Goose Suite \nStravinsky | The Firebird Suite \nSaturday\, March 2\, 2024\n6:30 PM 8:30 Pm\nMechanics Bank Theater | 1001 Truxtun Avenue Bakersfield\, CA\, 93301
URL:https://www.kernfoundation.org/event/bakersfield-symphony-orchestra-the-firebird/
LOCATION:Mechanics Bank\, Theater &amp; Convention Center\, 1001 Truxtun Ave.\, Bakersfield\, 93301
CATEGORIES:Community Events,Other
END:VEVENT
BEGIN:VEVENT
DTSTART;TZID=America/Los_Angeles:20240313T170000
DTEND;TZID=America/Los_Angeles:20240313T190000
DTSTAMP:20260423T005530
CREATED:20240209T210031Z
LAST-MODIFIED:20240209T210031Z
UID:9743-1710349200-1710356400@www.kernfoundation.org
SUMMARY:Reflections for Women: 3rd Annual Fundraiser
DESCRIPTION:Join Reflections for Women for its 3rd Annual Fundraiser
URL:https://www.kernfoundation.org/event/reflections-for-women-3rd-annual-fundraiser/
LOCATION:Buck Owens Crystal Palace\, 2800 Buck Owens Blvd\, Bakersfield\, 93308\, United States
CATEGORIES:Community Events,Fundraiser
END:VEVENT
BEGIN:VEVENT
DTSTART;TZID=America/Los_Angeles:20240315T083000
DTEND;TZID=America/Los_Angeles:20240315T100000
DTSTAMP:20260423T005530
CREATED:20230826T012246Z
LAST-MODIFIED:20230826T012309Z
UID:8901-1710491400-1710496800@www.kernfoundation.org
SUMMARY:Kern Alliance of Nonprofits (KAN): Grant Writing & Grants Management Panel
DESCRIPTION:Kern Alliance of Nonprofits March 2024 Training\nKAN Training: Grant Writing & Grants Management Panel\nThe Kern Alliance of Nonprofits (KAN) is hosting nonprofit trainings. Launched in 2016 by a small group of local nonprofit leaders who care deeply about building the capacity of nonprofit organizations in Kern County. They provide monthly educational workshops on various aspects of nonprofit work taught by qualified leaders\, and quarterly social mixers designed to bring community-based organizations and their partners and supporters together for strategic networking. \nDate: March 15\, 2024\nLocation: Chase Building\, Christine Lizardi Frazier 301 1675 Chester Ave (corner of 17th and Chester)\n*Training dates\, locations\, and topics are tentative and subject to change\nAll trainings will be from 8:30 – 10:00 a.m.\, with check-in at 8 a.m. \nTrainings will also be available on Zoom. Link will be sent upon registration. \nInterested in becoming a member? Click (HERE) and submit your membership form today!  \nThe Steering Committee meets monthly to guide the Alliance’s work in the areas of strategic planning\, education and nonprofit leadership development\, communications and outreach\, advocacy\, membership\, and more. \nTheir mission was…To strengthen the Community Benefit Organizations of Kern County. Following a process that involved stakeholder feedback and strategic planning in the Spring of 2019\, the new mission is…To strengthen the Nonprofit Organizations of Kern County through training\, networking\, and advocacy.  \nInterested in becoming a member of KAN? Click (HERE) and submit your membership form today!  \nKAN’s Vision is…To create a strong community benefit sector that plays a vital role in a healthy\, prosperous and vibrant Kern County. \nStay up to date on news and events by subscribing to our email list or visiting us on social media:\nFacebook and Instagram @kernallianceofnonprofits \n 
URL:https://www.kernfoundation.org/event/kern-alliance-of-nonprofits-kan-the-art-of-having-difficult-conversations-2/
LOCATION:CA
CATEGORIES:Community Events,KAN Events,Training,Training
ATTACH;FMTTYPE=image/png:https://www.kernfoundation.org/wp-content/uploads/2023/01/KAN-logo-1.png
ORGANIZER;CN="Kern Alliance of Nonprofits":MAILTO:andraeg3000@gmail.com
END:VEVENT
BEGIN:VEVENT
DTSTART;TZID=America/Los_Angeles:20240316T170000
DTEND;TZID=America/Los_Angeles:20240316T210000
DTSTAMP:20260423T005530
CREATED:20240127T004715Z
LAST-MODIFIED:20240127T004715Z
UID:9712-1710608400-1710622800@www.kernfoundation.org
SUMMARY:6th Annual West High Hall of Fame Dinner & Induction Ceremony
DESCRIPTION:6th Annual West High Hall of Fame Dinner & Induction Ceremony\nPlease join us for the 6th Annual West High Hall of Fame Dinner honoring the accomplishments and exceptional achievements of alumni\, former staff\, and community stakeholders for their significant contributions to West High School. \nDate: Saturday\, March 16\, 2024\nTime: 5:00 PM Social – 6:15 PM Dinner – 7:30 PM Program\nLocation: Stockdale Country Club 7001 Stockdale Highway Bakersfield\, California 93309 \nTo purchase tickets: (CLICK HERE)
URL:https://www.kernfoundation.org/event/6th-annual-west-high-hall-of-fame-dinner-induction-ceremony/
LOCATION:Stockdale Country Club\, 7001 Stockdale Hwy.\, Bakersfield\, 93309
CATEGORIES:Community Events
END:VEVENT
BEGIN:VEVENT
DTSTART;TZID=America/Los_Angeles:20240322T180000
DTEND;TZID=America/Los_Angeles:20240322T200000
DTSTAMP:20260423T005530
CREATED:20240310T161905Z
LAST-MODIFIED:20240310T161905Z
UID:9855-1711130400-1711137600@www.kernfoundation.org
SUMMARY:Charmed & Chosen Empowerment Center Grand Opening
DESCRIPTION:Charmed & Chosen Empowerment Center Grand Opening and Ribbon Cutting\nDate: Friday\, March 22\, 2024 \nEvent Starts at 6 PM \n1400 Easton Drive Suite 128 Bakersfield\, CA \nFor more information: 661-633-5495 \n 
URL:https://www.kernfoundation.org/event/charmed-chosen-empowerment-center-grand-opening/
LOCATION:Charmed & Chosen Empowerment Center\, 1400 Easton Drive Suite 128\, Bakersfield\, CA\, 93309\, United States
CATEGORIES:Community Events
ATTACH;FMTTYPE=image/jpeg:https://www.kernfoundation.org/wp-content/uploads/2024/03/Ribbon-Cutting-Charmed-and-Chosen.jpg
ORGANIZER;CN="Charmed & Chosen Inc.":MAILTO:charmed.chosen2020@gmail.com
END:VEVENT
END:VCALENDAR