BEGIN:VCALENDAR
VERSION:2.0
PRODID:-//Kern Community Foundation - ECPv6.15.16.1//NONSGML v1.0//EN
CALSCALE:GREGORIAN
METHOD:PUBLISH
X-WR-CALNAME:Kern Community Foundation
X-ORIGINAL-URL:https://www.kernfoundation.org
X-WR-CALDESC:Events for Kern Community Foundation
REFRESH-INTERVAL;VALUE=DURATION:PT1H
X-Robots-Tag:noindex
X-PUBLISHED-TTL:PT1H
BEGIN:VTIMEZONE
TZID:America/Los_Angeles
BEGIN:DAYLIGHT
TZOFFSETFROM:-0800
TZOFFSETTO:-0700
TZNAME:PDT
DTSTART:20230312T100000
END:DAYLIGHT
BEGIN:STANDARD
TZOFFSETFROM:-0700
TZOFFSETTO:-0800
TZNAME:PST
DTSTART:20231105T090000
END:STANDARD
BEGIN:DAYLIGHT
TZOFFSETFROM:-0800
TZOFFSETTO:-0700
TZNAME:PDT
DTSTART:20240310T100000
END:DAYLIGHT
BEGIN:STANDARD
TZOFFSETFROM:-0700
TZOFFSETTO:-0800
TZNAME:PST
DTSTART:20241103T090000
END:STANDARD
BEGIN:DAYLIGHT
TZOFFSETFROM:-0800
TZOFFSETTO:-0700
TZNAME:PDT
DTSTART:20250309T100000
END:DAYLIGHT
BEGIN:STANDARD
TZOFFSETFROM:-0700
TZOFFSETTO:-0800
TZNAME:PST
DTSTART:20251102T090000
END:STANDARD
END:VTIMEZONE
BEGIN:VEVENT
DTSTART;TZID=America/Los_Angeles:20240118T090000
DTEND;TZID=America/Los_Angeles:20240118T150000
DTSTAMP:20260423T033916
CREATED:20231227T201650Z
LAST-MODIFIED:20231227T201728Z
UID:9628-1705568400-1705590000@www.kernfoundation.org
SUMMARY:Bakersfield Recovery Services: Mobile Health Clinic Day
DESCRIPTION:Bakersfield Recovery Services: Mobile Health Clinic Day\nKern County Public Health Mobile Health Clinic & Bakersfield Recovery Services \nBeginning January 18\, the MSC will partner with the mobile health clinic on a monthly basis for the 3rd Thursday of every month. 9:00 AM – 3:00 PM. \n 
URL:https://www.kernfoundation.org/event/bakersfield-recovery-services-mobile-health-clinic-day/
LOCATION:Arredondo Multi-Service Center\, 1505 Owens St\, Bakersfield\, CA\, 93305\, United States
CATEGORIES:Community Events
ATTACH;FMTTYPE=image/jpeg:https://www.kernfoundation.org/wp-content/uploads/2023/12/Mobile-Clinic-Day.jpg
END:VEVENT
BEGIN:VEVENT
DTSTART;TZID=America/Los_Angeles:20240119T083000
DTEND;TZID=America/Los_Angeles:20240119T100000
DTSTAMP:20260423T033916
CREATED:20230826T011255Z
LAST-MODIFIED:20230826T011255Z
UID:8896-1705653000-1705658400@www.kernfoundation.org
SUMMARY:Kern Alliance of Nonprofits (KAN): Thinking Outside of the Box January Training
DESCRIPTION:Kern Alliance of Nonprofits January 2024 Training\nKAN Training: Thinking Outside of the Box\nThe Kern Alliance of Nonprofits (KAN) is hosting Strategic Planning Training! Launched in 2016 by a small group of local nonprofit leaders who care deeply about building the capacity of nonprofit organizations in Kern County. They provide monthly educational workshops on various aspects of nonprofit work taught by qualified leaders\, and quarterly social mixers designed to bring community-based organizations and their partners and supporters together for strategic networking. \nDate: January 19\, 2024\nLocation: KCSOS City Center\, Rm 1A 1300 17th Street\n*Training dates\, locations\, and topics are tentative and subject to change\nAll trainings will be from 8:30 – 10:00 a.m.\, with check-in at 8 a.m. \nTrainings will also be available on Zoom. Link will be sent upon registration. \nInterested in becoming a member? Click (HERE) and submit your membership form today!  \nThe Steering Committee meets monthly to guide the Alliance’s work in the areas of strategic planning\, education and nonprofit leadership development\, communications and outreach\, advocacy\, membership\, and more. \nTheir mission was…To strengthen the Community Benefit Organizations of Kern County. Following a process that involved stakeholder feedback and strategic planning in the Spring of 2019\, the new mission is…To strengthen the Nonprofit Organizations of Kern County through training\, networking\, and advocacy.  \nInterested in becoming a member of KAN? Click (HERE) and submit your membership form today!  \nKAN’s Vision is…To create a strong community benefit sector that plays a vital role in a healthy\, prosperous and vibrant Kern County. \nStay up to date on news and events by subscribing to our email list or visiting us on social media:\nFacebook and Instagram @kernallianceofnonprofits \n 
URL:https://www.kernfoundation.org/event/kern-alliance-of-nonprofits-kan-thinking-outside-of-the-box-january-training/
LOCATION:City Centre\, 1300 17th Street Rm 1A\, Bakersfield\, CA\, 93301\, United States
CATEGORIES:Community Events,KAN Events,Training,Training
ATTACH;FMTTYPE=image/png:https://www.kernfoundation.org/wp-content/uploads/2023/01/KAN-logo-1.png
ORGANIZER;CN="Kern Alliance of Nonprofits":MAILTO:andraeg3000@gmail.com
END:VEVENT
BEGIN:VEVENT
DTSTART;TZID=America/Los_Angeles:20240120T080000
DTEND;TZID=America/Los_Angeles:20240120T103000
DTSTAMP:20260423T033916
CREATED:20240118T180148Z
LAST-MODIFIED:20240118T181109Z
UID:9684-1705737600-1705746600@www.kernfoundation.org
SUMMARY:Redemption Ranch: Flapjack Fundraiser
DESCRIPTION:Join Redemption Ranch’s Flapjack Fundraiser\n \nJoin Redemption Ranch for their Flapjack Fundraiser benefiting training and education to grow their animal therapy programs. \nDate: January 20th 8 – 10AM \nLocation: 9000 Ming Ave. Suite M \nCost: $20 per person
URL:https://www.kernfoundation.org/event/redemption-ranch-flapjack-fundraiser/
LOCATION:CA
CATEGORIES:Community Events,Fundraiser
ORGANIZER;CN="Redemption Ranch":MAILTO:info@redemptionranchca.org
END:VEVENT
BEGIN:VEVENT
DTSTART;TZID=America/Los_Angeles:20240123T080000
DTEND;TZID=America/Los_Angeles:20240123T100000
DTSTAMP:20260423T033916
CREATED:20231227T200818Z
LAST-MODIFIED:20231227T200818Z
UID:9619-1705996800-1706004000@www.kernfoundation.org
SUMMARY:Bakersfield Recovery Services: Women's Parenting Classes
DESCRIPTION:Bakersfield Recovery Services: Parenting Classes\nDates: Beginning January 23 \nTime: 8:00 AM – 10:00 AM \n40-week court approved \nNo Fee \nEvery week \nThis is a reoccurring class.
URL:https://www.kernfoundation.org/event/bakersfield-recovery-services-womens-parenting-classes/
LOCATION:Arredondo Multi-Service Center\, 1505 Owens St\, Bakersfield\, CA\, 93305\, United States
CATEGORIES:Community Events
ATTACH;FMTTYPE=image/jpeg:https://www.kernfoundation.org/wp-content/uploads/2023/12/PARENTING-CLASS-MSC-2-scaled.jpg
END:VEVENT
BEGIN:VEVENT
DTSTART;TZID=America/Los_Angeles:20240124T080000
DTEND;TZID=America/Los_Angeles:20240124T100000
DTSTAMP:20260423T033916
CREATED:20231227T200946Z
LAST-MODIFIED:20231227T200946Z
UID:9623-1706083200-1706090400@www.kernfoundation.org
SUMMARY:Bakersfield Recovery Services: Men's Parenting Classes
DESCRIPTION:Bakersfield Recovery Services: Men’s Parenting Classes\nDates: Beginning January 24 \nTime: 8:00 AM – 10:00 AM \n40-week court approved \nNo Fee \nEvery week \nThis is a reoccurring class.
URL:https://www.kernfoundation.org/event/bakersfield-recovery-services-mens-parenting-classes/
LOCATION:Arredondo Multi-Service Center\, 1505 Owens St\, Bakersfield\, CA\, 93305\, United States
CATEGORIES:Community Events
ATTACH;FMTTYPE=image/jpeg:https://www.kernfoundation.org/wp-content/uploads/2023/12/PARENTING-CLASS-MSC-2-scaled.jpg
END:VEVENT
BEGIN:VEVENT
DTSTART;TZID=America/Los_Angeles:20240125T180000
DTEND;TZID=America/Los_Angeles:20240125T200000
DTSTAMP:20260423T033916
CREATED:20230913T174328Z
LAST-MODIFIED:20230913T174328Z
UID:9099-1706205600-1706212800@www.kernfoundation.org
SUMMARY:Be Finally Free\, Inc.: Light a Candle for a Loved One
DESCRIPTION:Be Finally Free: Light a Candle for a Loved One\nJoin Be Finally Free\, Inc. for their Light a Candle for a Loved One event. If you’ve experienced the loss of a loved one due to an overdose or addiction-related crime\, if someone you care about is currently fighting addiction\, or if you’ve successfully overcome addiction yourself\, Be Finally Free\, Inc. invites you to join them at Light a Candle for a Loved One. This event provides an opportunity to connect with local support services\, listen to personal accounts of how addiction has affected others in our community\, and take part in a transformative candlelight vigil walk around the lake at River Walk Park. To acquire luminaries\, and commemorative signs for your loved one\, or if you have any inquiries\, please reach out to Be Finally Free\, Inc. at (661) 489-5952 or via email at info@befinallyfree.org.
URL:https://www.kernfoundation.org/event/be-finally-free-inc-light-a-candle-for-a-loved-one/
LOCATION:The Park at Riverwalk\, 11298 Stockdale Hwy\, Bakersfield\, CA\, 93311
CATEGORIES:Community Events,Other
END:VEVENT
END:VCALENDAR