BEGIN:VCALENDAR
VERSION:2.0
PRODID:-//Kern Community Foundation - ECPv6.15.16.1//NONSGML v1.0//EN
CALSCALE:GREGORIAN
METHOD:PUBLISH
X-WR-CALNAME:Kern Community Foundation
X-ORIGINAL-URL:https://www.kernfoundation.org
X-WR-CALDESC:Events for Kern Community Foundation
REFRESH-INTERVAL;VALUE=DURATION:PT1H
X-Robots-Tag:noindex
X-PUBLISHED-TTL:PT1H
BEGIN:VTIMEZONE
TZID:America/Los_Angeles
BEGIN:DAYLIGHT
TZOFFSETFROM:-0800
TZOFFSETTO:-0700
TZNAME:PDT
DTSTART:20220313T100000
END:DAYLIGHT
BEGIN:STANDARD
TZOFFSETFROM:-0700
TZOFFSETTO:-0800
TZNAME:PST
DTSTART:20221106T090000
END:STANDARD
BEGIN:DAYLIGHT
TZOFFSETFROM:-0800
TZOFFSETTO:-0700
TZNAME:PDT
DTSTART:20230312T100000
END:DAYLIGHT
BEGIN:STANDARD
TZOFFSETFROM:-0700
TZOFFSETTO:-0800
TZNAME:PST
DTSTART:20231105T090000
END:STANDARD
BEGIN:DAYLIGHT
TZOFFSETFROM:-0800
TZOFFSETTO:-0700
TZNAME:PDT
DTSTART:20240310T100000
END:DAYLIGHT
BEGIN:STANDARD
TZOFFSETFROM:-0700
TZOFFSETTO:-0800
TZNAME:PST
DTSTART:20241103T090000
END:STANDARD
END:VTIMEZONE
BEGIN:VEVENT
DTSTART;TZID=America/Los_Angeles:20230702T160000
DTEND;TZID=America/Los_Angeles:20230702T180000
DTSTAMP:20260423T115905
CREATED:20230626T174157Z
LAST-MODIFIED:20230626T174157Z
UID:8539-1688313600-1688320800@www.kernfoundation.org
SUMMARY:Tehachapi Symphony Orchestra’s 4th of July Concert
DESCRIPTION:The Tehachapi Symphony Orchestra\, under the direction of Dr. David Newby\, and the Tehachapi Symphonic Chorus led by Sandra Adams will celebrate the Fourth of July with a stirring program of show tunes\, movie music\, patriotic songs\, marches\, light classical and pops music. The concert will be on Sunday\, July 2\, 2023 at Country Oaks Baptist Church located at 20915 Schout Road in Tehachapi.  \nRelax from 4 to 6 p.m. to special tunes brought to you by your very own Tehachapi Symphony Orchestra and Tehachapi Symphonic Chorus. Downbeat for the Star-Spangled Banner is at 4:00\, followed by the Armed Forces Salute. If you are a member of\, or a veteran of any of the armed services\, you are invited to stand when you hear that service’s song. In recognition and thanks for all your service\, the Tehachapi Symphony Orchestra would like to invite everyone to join us in saluting these brave men and women from wherever you may be.  \nThere will be a World Premiere Performance of three pieces arranged by TSO members. Andrew Barth\, the symphony’s French Horn player\, has arranged “The Launch” from the movie Apollo 13. Barth is a mechanical engineer at Scaled\, but for fun\, he loves listening to movie music and arranging it for the orchestra. Charles Fernandez plays bassoon as a guest musician with the symphony. The orchestra will be playing his “Tribute to Bob Hope” and “Around the World in 80 Days” medley.  \nSince your Tehachapi Symphony Orchestra won’t be able to give the usual concert in the stadium\, the concert will be live-streamed at 4 PM on Sunday\, July 2nd on the Tehachapi Symphony Orchestra Facebook page. This and previous concerts from this year can be found and enjoyed through the website. If you have Facebook\, once there\, search for Tehachapi Symphony Orchestra. If you do not have a Facebook account\, log on to your computer and search the internet for the Tehachapi Symphony. You will find Tehachapi Symphony Orchestra – Home with a www.facebook.com address. Choose this and if you do not want to create an account\, click Not Now. Click on Livestream Video.  \nAudience members may meet directors\, composers\, and musicians following the concert during the reception. All Tehachapi Symphony Orchestra concerts are FREE to the community. Concerts\, though\, are not free to produce. Please check the tehachapiorchestra.com website for more information about sponsorships and donations or call 821-7511.
URL:https://www.kernfoundation.org/event/tehachapi-symphony-orchestras-4th-of-july-concert/
LOCATION:Country Oaks Baptist Church\, 20915 Schout Road\, Tehachapi\, CA\, United States
CATEGORIES:Community Events
END:VEVENT
BEGIN:VEVENT
DTSTART;TZID=America/Los_Angeles:20230720T160000
DTEND;TZID=America/Los_Angeles:20230720T190000
DTSTAMP:20260423T115905
CREATED:20230711T221030Z
LAST-MODIFIED:20230711T221030Z
UID:8569-1689868800-1689879600@www.kernfoundation.org
SUMMARY:Houchin Community Blood Bank: Houchin Blood Bank Summer Social
DESCRIPTION:Houchin Community Blood Bank: Houchin Blood Bank Summer Social\nJoin Houchin Community Blood Bank for their first Houchin Blood Bank Summer Social of the year! All donors making a successful donation Monday through Thursday will be automatically entered for a chance to win a Dodger Game Package including 4 seats and a preferred parking pass to the July 28th game against the Reds. Those that attend the Social in-house event Thursday\, 7/20\, 4 pm – 7 pm will be treated to food\, refreshments\, and a sweet treat sponsored by Raising Canes and LaRosa. \nHouchin Blood Bank Summer Social event sponsored by Young Wooldridge \nDate: Monday\, 7/17 – Thursday\, 7/20\nSocial in-house event Date: Thursday\, 7/20\nLocation: 11515 Bolthouse Drive Bakersfield\, CA 93311\nTime: 4:00 pm – 7:00 pm \nWear your baseball jerseys!!! “Baseball Gear Best Dressed” prizes will be given! \nOur goal is to collect 40 units of blood products\, with an opportunity to help save over 100 lives in our community during the Social in-house event!  There are always a few that are unable to donate for one reason or another\, so our goal is to book all 40 available appointment slots. \nClick Here to book an appointment. Making these appointments is important because it helps us see where we stand in meeting our projected goal\, and helps our staff limit the donation wait times on the day of the blood drive. Much like a doctor’s office\, HCBB staff can only take on so many at a time. \nDonors are able to complete the donor questionnaire prior to showing up for their scheduled time\, but must complete it the day of their blood donation.  Click Here for the questionnaire link. \nSaving lives is in your blood!  \nYour one blood donation can save up to three lives. Every 2 seconds someone in the United States needs blood. Demand is high\, but you can help! Check-in with your photo ID\, and get a mini-physical to check eligibility\, such as iron levels\, blood pressure\, etc. Donation time is about \n8 – 10 minutes and enjoy some snacks and juice drinks while your body recovers. \nBasic requirements:  \n\nMust be at least 17 years old or 16 with parental consent\nWeigh at least 110 pounds\nBe in good health and feel healthy & well the day of your donation\n\nWays to prepare for your donation appointments: \n\nEat iron-rich foods. Common high-iron foods include red meat\, lean beef\, pork\, chicken\, and lamb. Plant sources like bread\, fruits\, vegetables\, grains\, and seeds are not easily absorbed by the body.\nEat foods high in Vitamin C to aid in the absorption of iron plant-based.\nMaintain adequate hydration in the week leading up to your blood donation\nEat a healthy meal prior to donation. Avoid fatty foods like processed meats\, fried foods\, and fast food. DO NOT donate on an empty stomach!\nDrink at least 32 ounces of water 2 hours prior to your blood donation.\nAvoid caffeine\, including soda\, tea\, and coffee. Caffeine is a mild diuretic and it causes your kidneys to flush extra sodium and sodium from the body.\nBe sure to bring a list of any medications you are taking.\nPlease be prepared to show a picture ID with your date of birth. (passport\, CDL\, or ID)\nRegular blood donors with Houchin Community Blood Bank are allowed to use a name badge showing their full name and picture
URL:https://www.kernfoundation.org/event/houchin-community-blood-bank-houchin-blood-bank-summer-social/
LOCATION:11515 Bolthouse Drive\, 11515 Bolthouse Drive\, Bakersfield\, 93311\, United States
CATEGORIES:Community Events
END:VEVENT
BEGIN:VEVENT
DTSTART;TZID=America/Los_Angeles:20230726T083000
DTEND;TZID=America/Los_Angeles:20230726T150000
DTSTAMP:20260423T115905
CREATED:20230626T175316Z
LAST-MODIFIED:20230626T175316Z
UID:8546-1690360200-1690383600@www.kernfoundation.org
SUMMARY:Independent Living Center of Kern County: Kern County ADA Conference
DESCRIPTION:Independent Living Center of Kern County hosts the Kern County ADA Conference\nKern County ADA Conference | Celebrating 33 years of the Americans with Disabilities Act (ADA) \nIndependent Living Center of Kern County (ILCKC) is celebrating the 33rd Anniversary of the Americans with Disabilities Act by hosting a conference at the DoubleTree Hotel\, 3100 Camino Del Rio Court\, Bakersfield\, CA on Wednesday\, July 26 from 8:30 AM to 3:00 PM. \nOn July 26\, 1990\, The ADA was signed into law by George H.W. Bush. This important civil rights law prohibits discrimination against individuals with disabilities in various areas of life. These areas include jobs\, schools\, transportation\, and all public and private businesses open to the public. The purpose of the conference is to provide resources and information on disability-related issues and laws accessible to businesses and the community. \nThe conference will host speakers from the National Council on Disability; Disability Rights California; U.S. Department of Health & Human Services\, Civil Rights Division; and the U.S. Department of Justice\, Civil Rights Division. \nEventBrite Tickets are now available! \n(Click the following link to purchase tickets) \nhttps://www.eventbrite.com/e/kern-county-ada-conference-tickets-609579377327?utm-campaign=social&utm-content=attendeeshare&utm-medium=discovery&utm-term=listing&utm-source=cp&aff=escb \nWe look forward to having you join us to celebrate the Americans with Disabilities Act Anniversary! \n(Click Here) to view flyer.
URL:https://www.kernfoundation.org/event/independent-living-center-of-kern-county-kern-county-ada-conference/
LOCATION:DoubleTree by Hilton\, 3100 Camino Del Rio Court\, Bakersfield\, CA\, 93308\, United States
CATEGORIES:Community Events
END:VEVENT
BEGIN:VEVENT
DTSTART;TZID=America/Los_Angeles:20230727T183000
DTEND;TZID=America/Los_Angeles:20230727T200000
DTSTAMP:20260423T115905
CREATED:20230714T212721Z
LAST-MODIFIED:20230718T225424Z
UID:8620-1690482600-1690488000@www.kernfoundation.org
SUMMARY:Kern County Women in STEM Summer Mixer
DESCRIPTION:Kern County Women in STEM Summer Mixer and Fundraiser\nThe Kern Economic Development Foundation\, a 501(c)(3) organization\, fosters a robust talent pipeline to fulfill the demand for STEM jobs in Kern County. KEDF is dedicated to developing the local workforce to meet the demands of the nation’s 4th most STEM-inclusive job economies. The Foundation’s Women in STEM group drives the community’s promotion of STEM careers to local women through volunteering\, mentoring students\, and promoting professional development. \nJoin KEDF for the second annual Summer Mixer and Fundraiser hosted by Kern County Women in STEM at BottleShock Wine and Brew\, located at 1002 19th Street\, Bakersfield\, CA\, on Thursday\, July 27th\, from 5 pm to 8 pm. Every year\, the Women in STEM group convenes for an evening of fellowship\, fun\, and fundraising to expose local women and girls to opportunities in STEM Careers. This year\, we anticipate a guest speaker\, appetizers\, wine and brew\, and a raffle to benefit the STEM Taught Foundation. \nEventBrite Tickets and Table Sponsorships are available via the link below. (Click Here) \nDate: Thursday\, July 27\, 2023\nLocation: BottleShock Wine and Brew\, 1002 19th St. Bakersfield\, CA\nTime: 6:30 PM – 8 PM
URL:https://www.kernfoundation.org/event/kern-county-women-in-stem-summer-mixer/
LOCATION:BottleShock Wine and Brew\, 1002 19th Street\, Bakersfield\, CA\, United States
CATEGORIES:Community Events,Fundraiser
END:VEVENT
BEGIN:VEVENT
DTSTART;TZID=America/Los_Angeles:20230729T150000
DTEND;TZID=America/Los_Angeles:20230729T170000
DTSTAMP:20260423T115905
CREATED:20230827T091218Z
LAST-MODIFIED:20230827T091218Z
UID:8595-1690642800-1690650000@www.kernfoundation.org
SUMMARY:XMAS in July Block Party
DESCRIPTION:We are excited to announce our upcoming Backpack Drive & Block Party\, hosted by Stay Focused Ministries and Fresco Mexican Grill & Meat Market\, on July 29th\, 2023. \nThe event will take place at. We will be distributing 1\,000 backpacks to children in need\, along with free tacos\, live music\, games\, and more. It will be a day filled with fun\, community engagement\, and support for our future generation. \nWe invite you to join us at this vibrant community event and help make a difference in the lives of local children. By attending and spreading the word\, you will contribute to empowering our community and ensuring that students have the necessary tools for a successful academic year.
URL:https://www.kernfoundation.org/event/xmas-in-july-block-party/
LOCATION:The block of K St & California Ave\, beside Fresco Meat Market\, Bakersfield\, 93304
CATEGORIES:Community Events,Other
ATTACH;FMTTYPE=image/png:https://www.kernfoundation.org/wp-content/uploads/2023/07/BP-Giveaway-Flyer-E-1.png
ORGANIZER;CN="Stay Focused Ministries":MAILTO:Mercedes@stayfocused.org
END:VEVENT
BEGIN:VEVENT
DTSTART;TZID=America/Los_Angeles:20230731T100000
DTEND;TZID=America/Los_Angeles:20230731T150000
DTSTAMP:20260423T115905
CREATED:20230713T170903Z
LAST-MODIFIED:20230713T170903Z
UID:8588-1690797600-1690815600@www.kernfoundation.org
SUMMARY:KRV Bridge Connection Resource Fair
DESCRIPTION:KRV Bridge Connection Resource Fair\nThe KRV Bridge Connection is hosting a Resource Fair on July 31\, 2023\, from 10 AM to 3 PM at the Senior Center in Lake Isabella. The Resource Fair will provide FREE resources and support services such as Mental Health\, Shelter\, Food and Clothing\, Public Services\, Community Services\, Transportation\, CAPK food boxes\, and much more. The Resource Fair supports connecting families and underserved individuals to the resources they need. \nDate: Monday\, July 31\, 2023\nTime: 10 AM – 3 PM\nLocation: Lake Isabella\, CA 93240 \nFor more information\, please contact jackylin.wallace@pathways.com 
URL:https://www.kernfoundation.org/event/krv-bridge-connection-resource-fair/
LOCATION:Senior Center\, 6405 Lake Isabella\, Lake Isabella\, CA\, 93240\, United States
CATEGORIES:Community Events
END:VEVENT
END:VCALENDAR